BEGIN:VCALENDAR
VERSION:2.0
PRODID:-//ABC Traffic School - ECPv6.15.16//NONSGML v1.0//EN
CALSCALE:GREGORIAN
METHOD:PUBLISH
X-WR-CALNAME:ABC Traffic School
X-ORIGINAL-URL:https://abctrafficschool.net
X-WR-CALDESC:Events for ABC Traffic School
REFRESH-INTERVAL;VALUE=DURATION:PT1H
X-Robots-Tag:noindex
X-PUBLISHED-TTL:PT1H
BEGIN:VTIMEZONE
TZID:America/Chicago
BEGIN:DAYLIGHT
TZOFFSETFROM:-0600
TZOFFSETTO:-0500
TZNAME:CDT
DTSTART:20240310T080000
END:DAYLIGHT
BEGIN:STANDARD
TZOFFSETFROM:-0500
TZOFFSETTO:-0600
TZNAME:CST
DTSTART:20241103T070000
END:STANDARD
BEGIN:DAYLIGHT
TZOFFSETFROM:-0600
TZOFFSETTO:-0500
TZNAME:CDT
DTSTART:20250309T080000
END:DAYLIGHT
BEGIN:STANDARD
TZOFFSETFROM:-0500
TZOFFSETTO:-0600
TZNAME:CST
DTSTART:20251102T070000
END:STANDARD
BEGIN:DAYLIGHT
TZOFFSETFROM:-0600
TZOFFSETTO:-0500
TZNAME:CDT
DTSTART:20260308T080000
END:DAYLIGHT
BEGIN:STANDARD
TZOFFSETFROM:-0500
TZOFFSETTO:-0600
TZNAME:CST
DTSTART:20261101T070000
END:STANDARD
END:VTIMEZONE
BEGIN:VEVENT
DTSTART;TZID=America/Chicago:20250830T080000
DTEND;TZID=America/Chicago:20250830T160000
DTSTAMP:20260419T072228
CREATED:20250611T112041Z
LAST-MODIFIED:20250611T112041Z
UID:11166-1756540800-1756569600@abctrafficschool.net
SUMMARY:8 hour class: 8am-4pm Live Streaming class via Zoom. You get email link 20 minutes before class CDT
DESCRIPTION:
URL:https://abctrafficschool.net/event/8-hour-class-8am-4pm-live-streaming-class-via-zoom-you-get-email-link-20-minutes-before-class-cdt-77/
END:VEVENT
BEGIN:VEVENT
DTSTART;TZID=America/Chicago:20250903T090000
DTEND;TZID=America/Chicago:20250903T130000
DTSTAMP:20260419T072228
CREATED:20250703T153026Z
LAST-MODIFIED:20250703T153026Z
UID:11219-1756890000-1756904400@abctrafficschool.net
SUMMARY:4 hour class: 9am-1pm Live Streaming class via Zoom. email link 20 minutes before class Central Time
DESCRIPTION:
URL:https://abctrafficschool.net/event/4-hour-class-9am-1pm-live-streaming-class-via-zoom-email-link-20-minutes-before-class-central-time-55/
END:VEVENT
BEGIN:VEVENT
DTSTART;TZID=America/Chicago:20250903T090000
DTEND;TZID=America/Chicago:20250903T170000
DTSTAMP:20260419T072228
CREATED:20250902T225224Z
LAST-MODIFIED:20250902T225224Z
UID:11373-1756890000-1756918800@abctrafficschool.net
SUMMARY:8 hour class: 9am-5pm Live Streaming class via Zoom. email link 20 minutes before class Central Time
DESCRIPTION:
URL:https://abctrafficschool.net/event/8-hour-class-9am-5pm-live-streaming-class-via-zoom-email-link-20-minutes-before-class-central-time-60/
END:VEVENT
BEGIN:VEVENT
DTSTART;TZID=America/Chicago:20250903T130000
DTEND;TZID=America/Chicago:20250903T170000
DTSTAMP:20260419T072228
CREATED:20250703T153053Z
LAST-MODIFIED:20250703T153053Z
UID:11221-1756904400-1756918800@abctrafficschool.net
SUMMARY:4 hour class: 1-5pm Live Streaming class via Zoom. email link 20 minutes before class Central Time
DESCRIPTION:
URL:https://abctrafficschool.net/event/4-hour-class-1-5pm-live-streaming-class-via-zoom-email-link-20-minutes-before-class-central-time-110/
END:VEVENT
BEGIN:VEVENT
DTSTART;TZID=America/Chicago:20250906T080000
DTEND;TZID=America/Chicago:20250906T120000
DTSTAMP:20260419T072228
CREATED:20250805T124459Z
LAST-MODIFIED:20250805T124459Z
UID:11294-1757145600-1757160000@abctrafficschool.net
SUMMARY:4 hour class: Candlewood Suites 1305 Murfreesboro Rd Franklin 8am-12noon
DESCRIPTION:
URL:https://abctrafficschool.net/event/4-hour-class-candlewood-suites-1305-murfreesboro-rd-franklin-8am-12noon-2/
END:VEVENT
BEGIN:VEVENT
DTSTART;TZID=America/Chicago:20250906T080000
DTEND;TZID=America/Chicago:20250906T160000
DTSTAMP:20260419T072228
CREATED:20250805T124546Z
LAST-MODIFIED:20250805T124740Z
UID:11296-1757145600-1757174400@abctrafficschool.net
SUMMARY:8 hour class: Candlewood Suites 1305 Murfreesboro Rd Franklin 8am-4pm
DESCRIPTION:
URL:https://abctrafficschool.net/event/4-hour-class-candlewood-suites-1305-murfreesboro-rd-franklin-8am-4pm/
END:VEVENT
BEGIN:VEVENT
DTSTART;TZID=America/Chicago:20250907T130000
DTEND;TZID=America/Chicago:20250907T170000
DTSTAMP:20260419T072228
CREATED:20250721T110736Z
LAST-MODIFIED:20250721T110736Z
UID:11266-1757250000-1757264400@abctrafficschool.net
SUMMARY:4 hour class: 1-5pm Live Streaming class via Zoom. email link 20 minutes before class Central Time
DESCRIPTION:
URL:https://abctrafficschool.net/event/4-hour-class-1-5pm-live-streaming-class-via-zoom-email-link-20-minutes-before-class-central-time-111/
END:VEVENT
BEGIN:VEVENT
DTSTART;TZID=America/Chicago:20250907T130000
DTEND;TZID=America/Chicago:20250907T210000
DTSTAMP:20260419T072228
CREATED:20250721T110858Z
LAST-MODIFIED:20250721T110858Z
UID:11270-1757250000-1757278800@abctrafficschool.net
SUMMARY:8 hour class: 1-9pm Live Streaming class via Zoom. email link 20 minutes before class Central Time
DESCRIPTION:
URL:https://abctrafficschool.net/event/8-hour-class-1-9pm-live-streaming-class-via-zoom-email-link-20-minutes-before-class-central-time-37/
END:VEVENT
BEGIN:VEVENT
DTSTART;TZID=America/Chicago:20250907T170000
DTEND;TZID=America/Chicago:20250907T210000
DTSTAMP:20260419T072228
CREATED:20250721T110818Z
LAST-MODIFIED:20250721T110818Z
UID:11268-1757264400-1757278800@abctrafficschool.net
SUMMARY:4 hour class: 5-9pm Live Streaming class via Zoom. email link 20 minutes before class Central Time
DESCRIPTION:
URL:https://abctrafficschool.net/event/4-hour-class-5-9pm-live-streaming-class-via-zoom-email-link-20-minutes-before-class-central-time-44/
END:VEVENT
BEGIN:VEVENT
DTSTART;TZID=America/Chicago:20250910T090000
DTEND;TZID=America/Chicago:20250910T130000
DTSTAMP:20260419T072228
CREATED:20250721T111008Z
LAST-MODIFIED:20250721T111008Z
UID:11272-1757494800-1757509200@abctrafficschool.net
SUMMARY:4 hour class: 9am-1pm Live Streaming class via Zoom. email link 20 minutes before class Central Time
DESCRIPTION:
URL:https://abctrafficschool.net/event/4-hour-class-9am-1pm-live-streaming-class-via-zoom-email-link-20-minutes-before-class-central-time-56/
END:VEVENT
BEGIN:VEVENT
DTSTART;TZID=America/Chicago:20250910T090000
DTEND;TZID=America/Chicago:20250910T170000
DTSTAMP:20260419T072228
CREATED:20250721T111205Z
LAST-MODIFIED:20250721T111806Z
UID:11278-1757494800-1757523600@abctrafficschool.net
SUMMARY:8 hour class: 9am-5pm Live Streaming class via Zoom. email link 20 minutes before class Central Time
DESCRIPTION:
URL:https://abctrafficschool.net/event/8-hour-class-1-9pm-live-streaming-class-via-zoom-email-link-20-minutes-before-class-central-time-38/
END:VEVENT
BEGIN:VEVENT
DTSTART;TZID=America/Chicago:20250910T130000
DTEND;TZID=America/Chicago:20250910T170000
DTSTAMP:20260419T072228
CREATED:20250721T111035Z
LAST-MODIFIED:20250721T111035Z
UID:11274-1757509200-1757523600@abctrafficschool.net
SUMMARY:4 hour class: 1-5pm Live Streaming class via Zoom. email link 20 minutes before class Central Time
DESCRIPTION:
URL:https://abctrafficschool.net/event/4-hour-class-1-5pm-live-streaming-class-via-zoom-email-link-20-minutes-before-class-central-time-112/
END:VEVENT
BEGIN:VEVENT
DTSTART;TZID=America/Chicago:20250910T170000
DTEND;TZID=America/Chicago:20250910T210000
DTSTAMP:20260419T072228
CREATED:20250721T111129Z
LAST-MODIFIED:20250721T111129Z
UID:11276-1757523600-1757538000@abctrafficschool.net
SUMMARY:4 hour class: 5-9pm Live Streaming class via Zoom. email link 20 minutes before class Central Time
DESCRIPTION:
URL:https://abctrafficschool.net/event/4-hour-class-5-9pm-live-streaming-class-via-zoom-email-link-20-minutes-before-class-central-time-45/
END:VEVENT
BEGIN:VEVENT
DTSTART;TZID=America/Chicago:20250911T080000
DTEND;TZID=America/Chicago:20250911T170000
DTSTAMP:20260419T072228
CREATED:20250911T172059Z
LAST-MODIFIED:20250911T172059Z
UID:11436-1757577600-1757610000@abctrafficschool.net
SUMMARY:8 hour class: 1-9pm Live Streaming class via Zoom. email link 20 minutes before class Central Time
DESCRIPTION:
URL:https://abctrafficschool.net/event/8-hour-class-1-9pm-live-streaming-class-via-zoom-email-link-20-minutes-before-class-central-time-41/
END:VEVENT
BEGIN:VEVENT
DTSTART;TZID=America/Chicago:20250911T170000
DTEND;TZID=America/Chicago:20250911T210000
DTSTAMP:20260419T072228
CREATED:20250911T172031Z
LAST-MODIFIED:20250911T172031Z
UID:11434-1757610000-1757624400@abctrafficschool.net
SUMMARY:4 hour class: 5-9pm Live Streaming class via Zoom. email link 20 minutes before class Central Time
DESCRIPTION:
URL:https://abctrafficschool.net/event/4-hour-class-5-9pm-live-streaming-class-via-zoom-email-link-20-minutes-before-class-central-time-51/
END:VEVENT
BEGIN:VEVENT
DTSTART;TZID=America/Chicago:20250913T080000
DTEND;TZID=America/Chicago:20250913T120000
DTSTAMP:20260419T072228
CREATED:20250721T110537Z
LAST-MODIFIED:20250721T110537Z
UID:11260-1757750400-1757764800@abctrafficschool.net
SUMMARY:4 hour class: 8am-12noon Live Streaming class via Zoom. You get email link 20 minutes before class CDT
DESCRIPTION:
URL:https://abctrafficschool.net/event/4-hour-class-8am-12noon-live-streaming-class-via-zoom-you-get-email-link-20-minutes-before-class-cdt-84/
END:VEVENT
BEGIN:VEVENT
DTSTART;TZID=America/Chicago:20250913T080000
DTEND;TZID=America/Chicago:20250913T160000
DTSTAMP:20260419T072228
CREATED:20250721T110615Z
LAST-MODIFIED:20250721T110615Z
UID:11262-1757750400-1757779200@abctrafficschool.net
SUMMARY:8 hour class: 8am-4pm Live Streaming class via Zoom. You get email link 20 minutes before class CDT
DESCRIPTION:
URL:https://abctrafficschool.net/event/8-hour-class-8am-4pm-live-streaming-class-via-zoom-you-get-email-link-20-minutes-before-class-cdt-79/
END:VEVENT
BEGIN:VEVENT
DTSTART;TZID=America/Chicago:20250914T130000
DTEND;TZID=America/Chicago:20250914T170000
DTSTAMP:20260419T072228
CREATED:20250805T124925Z
LAST-MODIFIED:20250805T124925Z
UID:11303-1757854800-1757869200@abctrafficschool.net
SUMMARY:4 hour class: Candlewood Suites 1305 Murfreesboro Rd Franklin 1-5pm
DESCRIPTION:
URL:https://abctrafficschool.net/event/4-hour-class-candlewood-suites-1305-murfreesboro-rd-franklin-1-5pm-6/
END:VEVENT
BEGIN:VEVENT
DTSTART;TZID=America/Chicago:20250914T130000
DTEND;TZID=America/Chicago:20250914T210000
DTSTAMP:20260419T072228
CREATED:20250805T125113Z
LAST-MODIFIED:20250805T125113Z
UID:11307-1757854800-1757883600@abctrafficschool.net
SUMMARY:8 hour class: Candlewood Suites 1305 Murfreesboro Rd Franklin 1-9pm
DESCRIPTION:
URL:https://abctrafficschool.net/event/8-hour-class-candlewood-suites-1305-murfreesboro-rd-franklin-1-9pm-6/
END:VEVENT
BEGIN:VEVENT
DTSTART;TZID=America/Chicago:20250914T170000
DTEND;TZID=America/Chicago:20250914T210000
DTSTAMP:20260419T072228
CREATED:20250805T125024Z
LAST-MODIFIED:20250805T125024Z
UID:11305-1757869200-1757883600@abctrafficschool.net
SUMMARY:4 hour class: Candlewood Suites 1305 Murfreesboro Rd Franklin 5-9pm
DESCRIPTION:
URL:https://abctrafficschool.net/event/4-hour-class-candlewood-suites-1305-murfreesboro-rd-franklin-5-9pm-6/
END:VEVENT
BEGIN:VEVENT
DTSTART;TZID=America/Chicago:20250918T090000
DTEND;TZID=America/Chicago:20250918T130000
DTSTAMP:20260419T072228
CREATED:20250721T111318Z
LAST-MODIFIED:20250721T111318Z
UID:11280-1758186000-1758200400@abctrafficschool.net
SUMMARY:4 hour class: 9am-1pm Live Streaming class via Zoom. email link 20 minutes before class Central Time
DESCRIPTION:
URL:https://abctrafficschool.net/event/4-hour-class-9am-1pm-live-streaming-class-via-zoom-email-link-20-minutes-before-class-central-time-57/
END:VEVENT
BEGIN:VEVENT
DTSTART;TZID=America/Chicago:20250918T090000
DTEND;TZID=America/Chicago:20250918T170000
DTSTAMP:20260419T072228
CREATED:20250721T111441Z
LAST-MODIFIED:20250721T111441Z
UID:11284-1758186000-1758214800@abctrafficschool.net
SUMMARY:8 hour class: 9am-5pm Live Streaming class via Zoom. email link 20 minutes before class Central Time
DESCRIPTION:
URL:https://abctrafficschool.net/event/8-hour-class-9am-5pm-live-streaming-class-via-zoom-email-link-20-minutes-before-class-central-time-55/
END:VEVENT
BEGIN:VEVENT
DTSTART;TZID=America/Chicago:20250918T130000
DTEND;TZID=America/Chicago:20250918T170000
DTSTAMP:20260419T072228
CREATED:20250721T111344Z
LAST-MODIFIED:20250721T111344Z
UID:11282-1758200400-1758214800@abctrafficschool.net
SUMMARY:4 hour class: 1-5pm Live Streaming class via Zoom. email link 20 minutes before class Central Time
DESCRIPTION:
URL:https://abctrafficschool.net/event/4-hour-class-1-5pm-live-streaming-class-via-zoom-email-link-20-minutes-before-class-central-time-113/
END:VEVENT
BEGIN:VEVENT
DTSTART;TZID=America/Chicago:20250920T080000
DTEND;TZID=America/Chicago:20250920T120000
DTSTAMP:20260419T072228
CREATED:20250805T130326Z
LAST-MODIFIED:20250805T130326Z
UID:11325-1758355200-1758369600@abctrafficschool.net
SUMMARY:4 hour class: 8am-12noon Live Streaming class via Zoom. You get email link 20 minutes before class CDT
DESCRIPTION:
URL:https://abctrafficschool.net/event/4-hour-class-8am-12noon-live-streaming-class-via-zoom-you-get-email-link-20-minutes-before-class-cdt-85/
END:VEVENT
BEGIN:VEVENT
DTSTART;TZID=America/Chicago:20250920T080000
DTEND;TZID=America/Chicago:20250920T160000
DTSTAMP:20260419T072228
CREATED:20250805T130428Z
LAST-MODIFIED:20250805T130428Z
UID:11327-1758355200-1758384000@abctrafficschool.net
SUMMARY:8 hour class: 8am-4pm Live Streaming class via Zoom. You get email link 20 minutes before class CDT
DESCRIPTION:
URL:https://abctrafficschool.net/event/8-hour-class-8am-4pm-live-streaming-class-via-zoom-you-get-email-link-20-minutes-before-class-cdt-80/
END:VEVENT
BEGIN:VEVENT
DTSTART;TZID=America/Chicago:20250921T130000
DTEND;TZID=America/Chicago:20250921T170000
DTSTAMP:20260419T072228
CREATED:20250805T125158Z
LAST-MODIFIED:20250805T125158Z
UID:11309-1758459600-1758474000@abctrafficschool.net
SUMMARY:4 hour class: Candlewood Suites 1305 Murfreesboro Rd Franklin 1-5pm
DESCRIPTION:
URL:https://abctrafficschool.net/event/4-hour-class-candlewood-suites-1305-murfreesboro-rd-franklin-1-5pm-7/
END:VEVENT
BEGIN:VEVENT
DTSTART;TZID=America/Chicago:20250921T130000
DTEND;TZID=America/Chicago:20250921T210000
DTSTAMP:20260419T072228
CREATED:20250805T125348Z
LAST-MODIFIED:20250805T125348Z
UID:11313-1758459600-1758488400@abctrafficschool.net
SUMMARY:8 hour class: Candlewood Suites 1305 Murfreesboro Rd Franklin 1-9pm
DESCRIPTION:
URL:https://abctrafficschool.net/event/8-hour-class-candlewood-suites-1305-murfreesboro-rd-franklin-1-9pm-7/
END:VEVENT
BEGIN:VEVENT
DTSTART;TZID=America/Chicago:20250921T170000
DTEND;TZID=America/Chicago:20250921T210000
DTSTAMP:20260419T072228
CREATED:20250805T125802Z
LAST-MODIFIED:20250805T125802Z
UID:11323-1758474000-1758488400@abctrafficschool.net
SUMMARY:4 hour class: Candlewood Suites 1305 Murfreesboro Rd Franklin 5-9pm
DESCRIPTION:
URL:https://abctrafficschool.net/event/4-hour-class-candlewood-suites-1305-murfreesboro-rd-franklin-5-9pm-8/
END:VEVENT
BEGIN:VEVENT
DTSTART;TZID=America/Chicago:20250924T090000
DTEND;TZID=America/Chicago:20250924T130000
DTSTAMP:20260419T072228
CREATED:20250721T111524Z
LAST-MODIFIED:20250721T111524Z
UID:11286-1758704400-1758718800@abctrafficschool.net
SUMMARY:4 hour class: 9am-1pm Live Streaming class via Zoom. email link 20 minutes before class Central Time
DESCRIPTION:
URL:https://abctrafficschool.net/event/4-hour-class-9am-1pm-live-streaming-class-via-zoom-email-link-20-minutes-before-class-central-time-58/
END:VEVENT
BEGIN:VEVENT
DTSTART;TZID=America/Chicago:20250924T090000
DTEND;TZID=America/Chicago:20250924T170000
DTSTAMP:20260419T072228
CREATED:20250721T111640Z
LAST-MODIFIED:20250721T111640Z
UID:11290-1758704400-1758733200@abctrafficschool.net
SUMMARY:8 hour class: 9am-5pm Live Streaming class via Zoom. email link 20 minutes before class Central Time
DESCRIPTION:
URL:https://abctrafficschool.net/event/8-hour-class-9am-5pm-live-streaming-class-via-zoom-email-link-20-minutes-before-class-central-time-56/
END:VEVENT
END:VCALENDAR