BEGIN:VCALENDAR
VERSION:2.0
PRODID:-//ABC Traffic School - ECPv6.15.16//NONSGML v1.0//EN
CALSCALE:GREGORIAN
METHOD:PUBLISH
X-WR-CALNAME:ABC Traffic School
X-ORIGINAL-URL:https://abctrafficschool.net
X-WR-CALDESC:Events for ABC Traffic School
REFRESH-INTERVAL;VALUE=DURATION:PT1H
X-Robots-Tag:noindex
X-PUBLISHED-TTL:PT1H
BEGIN:VTIMEZONE
TZID:America/Chicago
BEGIN:DAYLIGHT
TZOFFSETFROM:-0600
TZOFFSETTO:-0500
TZNAME:CDT
DTSTART:20240310T080000
END:DAYLIGHT
BEGIN:STANDARD
TZOFFSETFROM:-0500
TZOFFSETTO:-0600
TZNAME:CST
DTSTART:20241103T070000
END:STANDARD
BEGIN:DAYLIGHT
TZOFFSETFROM:-0600
TZOFFSETTO:-0500
TZNAME:CDT
DTSTART:20250309T080000
END:DAYLIGHT
BEGIN:STANDARD
TZOFFSETFROM:-0500
TZOFFSETTO:-0600
TZNAME:CST
DTSTART:20251102T070000
END:STANDARD
BEGIN:DAYLIGHT
TZOFFSETFROM:-0600
TZOFFSETTO:-0500
TZNAME:CDT
DTSTART:20260308T080000
END:DAYLIGHT
BEGIN:STANDARD
TZOFFSETFROM:-0500
TZOFFSETTO:-0600
TZNAME:CST
DTSTART:20261101T070000
END:STANDARD
END:VTIMEZONE
BEGIN:VEVENT
DTSTART;TZID=America/Chicago:20251012T170000
DTEND;TZID=America/Chicago:20251012T210000
DTSTAMP:20260419T151533
CREATED:20250805T131058Z
LAST-MODIFIED:20250805T131058Z
UID:11343-1760288400-1760302800@abctrafficschool.net
SUMMARY:4 hour class: 5-9pm Live Streaming class via Zoom. email link 20 minutes before class Central Time
DESCRIPTION:
URL:https://abctrafficschool.net/event/4-hour-class-5-9pm-live-streaming-class-via-zoom-email-link-20-minutes-before-class-central-time-47/
END:VEVENT
BEGIN:VEVENT
DTSTART;TZID=America/Chicago:20251015T090000
DTEND;TZID=America/Chicago:20251015T130000
DTSTAMP:20260419T151533
CREATED:20250805T132327Z
LAST-MODIFIED:20250805T132327Z
UID:11363-1760518800-1760533200@abctrafficschool.net
SUMMARY:4 hour class: 9am-1pm Live Streaming class via Zoom. email link 20 minutes before class Central Time
DESCRIPTION:
URL:https://abctrafficschool.net/event/4-hour-class-9am-1pm-live-streaming-class-via-zoom-email-link-20-minutes-before-class-central-time-61/
END:VEVENT
BEGIN:VEVENT
DTSTART;TZID=America/Chicago:20251015T090000
DTEND;TZID=America/Chicago:20251015T170000
DTSTAMP:20260419T151533
CREATED:20250805T132444Z
LAST-MODIFIED:20250805T132444Z
UID:11367-1760518800-1760547600@abctrafficschool.net
SUMMARY:8 hour class: 9am-5pm Live Streaming class via Zoom. email link 20 minutes before class Central Time
DESCRIPTION:
URL:https://abctrafficschool.net/event/8-hour-class-9am-5pm-live-streaming-class-via-zoom-email-link-20-minutes-before-class-central-time-59/
END:VEVENT
BEGIN:VEVENT
DTSTART;TZID=America/Chicago:20251015T130000
DTEND;TZID=America/Chicago:20251015T170000
DTSTAMP:20260419T151533
CREATED:20250805T132403Z
LAST-MODIFIED:20250805T132403Z
UID:11365-1760533200-1760547600@abctrafficschool.net
SUMMARY:4 hour class: 1-5pm Live Streaming class via Zoom. email link 20 minutes before class Central Time
DESCRIPTION:
URL:https://abctrafficschool.net/event/4-hour-class-1-5pm-live-streaming-class-via-zoom-email-link-20-minutes-before-class-central-time-119/
END:VEVENT
BEGIN:VEVENT
DTSTART;TZID=America/Chicago:20251018T080000
DTEND;TZID=America/Chicago:20251018T120000
DTSTAMP:20260419T151533
CREATED:20250902T225402Z
LAST-MODIFIED:20250902T225402Z
UID:11375-1760774400-1760788800@abctrafficschool.net
SUMMARY:4 hour class: Candlewood Suites 1305 Murfreesboro Rd Franklin 8am-12noon
DESCRIPTION:
URL:https://abctrafficschool.net/event/4-hour-class-candlewood-suites-1305-murfreesboro-rd-franklin-8am-12noon-4/
END:VEVENT
BEGIN:VEVENT
DTSTART;TZID=America/Chicago:20251018T080000
DTEND;TZID=America/Chicago:20251018T160000
DTSTAMP:20260419T151533
CREATED:20250902T225452Z
LAST-MODIFIED:20250902T225452Z
UID:11377-1760774400-1760803200@abctrafficschool.net
SUMMARY:8 hour class: Candlewood Suites 1305 Murfreesboro Rd Franklin 8am-4pm
DESCRIPTION:
URL:https://abctrafficschool.net/event/8-hour-class-candlewood-suites-1305-murfreesboro-rd-franklin-8am-4pm-6/
END:VEVENT
BEGIN:VEVENT
DTSTART;TZID=America/Chicago:20251019T130000
DTEND;TZID=America/Chicago:20251019T170000
DTSTAMP:20260419T151533
CREATED:20250903T025507Z
LAST-MODIFIED:20250903T025507Z
UID:11400-1760878800-1760893200@abctrafficschool.net
SUMMARY:4 hour class: 1-5pm Live Streaming class via Zoom. email link 20 minutes before class Central Time
DESCRIPTION:
URL:https://abctrafficschool.net/event/4-hour-class-1-5pm-live-streaming-class-via-zoom-email-link-20-minutes-before-class-central-time-120/
END:VEVENT
BEGIN:VEVENT
DTSTART;TZID=America/Chicago:20251019T130000
DTEND;TZID=America/Chicago:20251019T210000
DTSTAMP:20260419T151533
CREATED:20250903T025702Z
LAST-MODIFIED:20250903T025702Z
UID:11404-1760878800-1760907600@abctrafficschool.net
SUMMARY:8 hour class: 1-9pm Live Streaming class via Zoom. email link 20 minutes before class Central Time
DESCRIPTION:
URL:https://abctrafficschool.net/event/8-hour-class-1-9pm-live-streaming-class-via-zoom-email-link-20-minutes-before-class-central-time-36/
END:VEVENT
BEGIN:VEVENT
DTSTART;TZID=America/Chicago:20251019T170000
DTEND;TZID=America/Chicago:20251019T210000
DTSTAMP:20260419T151533
CREATED:20250903T025609Z
LAST-MODIFIED:20250903T025609Z
UID:11402-1760893200-1760907600@abctrafficschool.net
SUMMARY:4 hour class: 5-9pm Live Streaming class via Zoom. email link 20 minutes before class Central Time
DESCRIPTION:
URL:https://abctrafficschool.net/event/4-hour-class-5-9pm-live-streaming-class-via-zoom-email-link-20-minutes-before-class-central-time-49/
END:VEVENT
BEGIN:VEVENT
DTSTART;TZID=America/Chicago:20251022T090000
DTEND;TZID=America/Chicago:20251022T130000
DTSTAMP:20260419T151533
CREATED:20250903T025933Z
LAST-MODIFIED:20250903T025933Z
UID:11406-1761123600-1761138000@abctrafficschool.net
SUMMARY:4 hour class: 9am-1pm Live Streaming class via Zoom. email link 20 minutes before class Central Time
DESCRIPTION:
URL:https://abctrafficschool.net/event/4-hour-class-9am-1pm-live-streaming-class-via-zoom-email-link-20-minutes-before-class-central-time-62/
END:VEVENT
BEGIN:VEVENT
DTSTART;TZID=America/Chicago:20251022T090000
DTEND;TZID=America/Chicago:20251022T170000
DTSTAMP:20260419T151533
CREATED:20250903T030124Z
LAST-MODIFIED:20250903T030124Z
UID:11411-1761123600-1761152400@abctrafficschool.net
SUMMARY:8 hour class: 9am-5pm Live Streaming class via Zoom. email link 20 minutes before class Central Time
DESCRIPTION:
URL:https://abctrafficschool.net/event/8-hour-class-9am-5pm-live-streaming-class-via-zoom-email-link-20-minutes-before-class-central-time-61/
END:VEVENT
BEGIN:VEVENT
DTSTART;TZID=America/Chicago:20251022T130000
DTEND;TZID=America/Chicago:20251022T170000
DTSTAMP:20260419T151533
CREATED:20250903T030030Z
LAST-MODIFIED:20250903T030030Z
UID:11409-1761138000-1761152400@abctrafficschool.net
SUMMARY:4 hour class: 1-5pm Live Streaming class via Zoom. email link 20 minutes before class Central Time
DESCRIPTION:
URL:https://abctrafficschool.net/event/4-hour-class-1-5pm-live-streaming-class-via-zoom-email-link-20-minutes-before-class-central-time-121/
END:VEVENT
BEGIN:VEVENT
DTSTART;TZID=America/Chicago:20251025T080000
DTEND;TZID=America/Chicago:20251025T120000
DTSTAMP:20260419T151533
CREATED:20250903T025117Z
LAST-MODIFIED:20250903T025117Z
UID:11392-1761379200-1761393600@abctrafficschool.net
SUMMARY:4 hour class: 8am-12noon Live Streaming class via Zoom. You get email link 20 minutes before class CDT
DESCRIPTION:
URL:https://abctrafficschool.net/event/4-hour-class-8am-12noon-live-streaming-class-via-zoom-you-get-email-link-20-minutes-before-class-cdt-87/
END:VEVENT
BEGIN:VEVENT
DTSTART;TZID=America/Chicago:20251025T080000
DTEND;TZID=America/Chicago:20251025T160000
DTSTAMP:20260419T151533
CREATED:20250903T025203Z
LAST-MODIFIED:20250903T025203Z
UID:11394-1761379200-1761408000@abctrafficschool.net
SUMMARY:8 hour class: 8am-4pm Live Streaming class via Zoom. You get email link 20 minutes before class CDT
DESCRIPTION:
URL:https://abctrafficschool.net/event/8-hour-class-8am-4pm-live-streaming-class-via-zoom-you-get-email-link-20-minutes-before-class-cdt-82/
END:VEVENT
BEGIN:VEVENT
DTSTART;TZID=America/Chicago:20251026T130000
DTEND;TZID=America/Chicago:20251026T170000
DTSTAMP:20260419T151533
CREATED:20250902T230017Z
LAST-MODIFIED:20250902T230017Z
UID:11385-1761483600-1761498000@abctrafficschool.net
SUMMARY:4 hour class: Candlewood Suites 1305 Murfreesboro Rd Franklin 1-5pm
DESCRIPTION:
URL:https://abctrafficschool.net/event/4-hour-class-candlewood-suites-1305-murfreesboro-rd-franklin-1-5pm-9/
END:VEVENT
BEGIN:VEVENT
DTSTART;TZID=America/Chicago:20251026T130000
DTEND;TZID=America/Chicago:20251026T210000
DTSTAMP:20260419T151533
CREATED:20250902T230204Z
LAST-MODIFIED:20250902T230204Z
UID:11389-1761483600-1761512400@abctrafficschool.net
SUMMARY:8 hour class: Candlewood Suites 1305 Murfreesboro Rd Franklin 1-9pm
DESCRIPTION:
URL:https://abctrafficschool.net/event/8-hour-class-candlewood-suites-1305-murfreesboro-rd-franklin-1-9pm-9/
END:VEVENT
BEGIN:VEVENT
DTSTART;TZID=America/Chicago:20251026T170000
DTEND;TZID=America/Chicago:20251026T210000
DTSTAMP:20260419T151533
CREATED:20250902T230107Z
LAST-MODIFIED:20250902T230107Z
UID:11387-1761498000-1761512400@abctrafficschool.net
SUMMARY:4 hour class: Candlewood Suites 1305 Murfreesboro Rd Franklin 5-9pm
DESCRIPTION:
URL:https://abctrafficschool.net/event/4-hour-class-candlewood-suites-1305-murfreesboro-rd-franklin-5-9pm-9/
END:VEVENT
BEGIN:VEVENT
DTSTART;TZID=America/Chicago:20251029T090000
DTEND;TZID=America/Chicago:20251029T130000
DTSTAMP:20260419T151533
CREATED:20250903T030216Z
LAST-MODIFIED:20250903T030216Z
UID:11413-1761728400-1761742800@abctrafficschool.net
SUMMARY:4 hour class: 9am-1pm Live Streaming class via Zoom. email link 20 minutes before class Central Time
DESCRIPTION:
URL:https://abctrafficschool.net/event/4-hour-class-9am-1pm-live-streaming-class-via-zoom-email-link-20-minutes-before-class-central-time-63/
END:VEVENT
BEGIN:VEVENT
DTSTART;TZID=America/Chicago:20251029T090000
DTEND;TZID=America/Chicago:20251029T170000
DTSTAMP:20260419T151533
CREATED:20250903T030348Z
LAST-MODIFIED:20250903T030348Z
UID:11417-1761728400-1761757200@abctrafficschool.net
SUMMARY:8 hour class: 9am-5pm Live Streaming class via Zoom. email link 20 minutes before class Central Time
DESCRIPTION:
URL:https://abctrafficschool.net/event/8-hour-class-9am-5pm-live-streaming-class-via-zoom-email-link-20-minutes-before-class-central-time-62/
END:VEVENT
BEGIN:VEVENT
DTSTART;TZID=America/Chicago:20251029T130000
DTEND;TZID=America/Chicago:20251029T170000
DTSTAMP:20260419T151533
CREATED:20250903T030302Z
LAST-MODIFIED:20250903T030302Z
UID:11415-1761742800-1761757200@abctrafficschool.net
SUMMARY:4 hour class: 1-5pm Live Streaming class via Zoom. email link 20 minutes before class Central Time
DESCRIPTION:
URL:https://abctrafficschool.net/event/4-hour-class-1-5pm-live-streaming-class-via-zoom-email-link-20-minutes-before-class-central-time-122/
END:VEVENT
BEGIN:VEVENT
DTSTART;TZID=America/Chicago:20251101T080000
DTEND;TZID=America/Chicago:20251101T120000
DTSTAMP:20260419T151533
CREATED:20250903T025237Z
LAST-MODIFIED:20250903T025237Z
UID:11396-1761984000-1761998400@abctrafficschool.net
SUMMARY:4 hour class: 8am-12noon Live Streaming class via Zoom. You get email link 20 minutes before class CDT
DESCRIPTION:
URL:https://abctrafficschool.net/event/4-hour-class-8am-12noon-live-streaming-class-via-zoom-you-get-email-link-20-minutes-before-class-cdt-88/
END:VEVENT
BEGIN:VEVENT
DTSTART;TZID=America/Chicago:20251101T080000
DTEND;TZID=America/Chicago:20251101T160000
DTSTAMP:20260419T151533
CREATED:20250903T025331Z
LAST-MODIFIED:20250903T025331Z
UID:11398-1761984000-1762012800@abctrafficschool.net
SUMMARY:8 hour class: 8am-4pm Live Streaming class via Zoom. You get email link 20 minutes before class CDT
DESCRIPTION:
URL:https://abctrafficschool.net/event/8-hour-class-8am-4pm-live-streaming-class-via-zoom-you-get-email-link-20-minutes-before-class-cdt-83/
END:VEVENT
BEGIN:VEVENT
DTSTART;TZID=America/Chicago:20251102T130000
DTEND;TZID=America/Chicago:20251102T170000
DTSTAMP:20260419T151533
CREATED:20251007T012731Z
LAST-MODIFIED:20251007T012731Z
UID:11469-1762088400-1762102800@abctrafficschool.net
SUMMARY:4 hour class: Candlewood Suites 1305 Murfreesboro Rd Franklin 1-5pm
DESCRIPTION:
URL:https://abctrafficschool.net/event/4-hour-class-candlewood-suites-1305-murfreesboro-rd-franklin-1-5pm-10/
END:VEVENT
BEGIN:VEVENT
DTSTART;TZID=America/Chicago:20251102T130000
DTEND;TZID=America/Chicago:20251102T210000
DTSTAMP:20260419T151533
CREATED:20251007T012859Z
LAST-MODIFIED:20251007T012859Z
UID:11473-1762088400-1762117200@abctrafficschool.net
SUMMARY:8 hour class: Candlewood Suites 1305 Murfreesboro Rd Franklin 1-9pm
DESCRIPTION:
URL:https://abctrafficschool.net/event/8-hour-class-candlewood-suites-1305-murfreesboro-rd-franklin-1-9pm-10/
END:VEVENT
BEGIN:VEVENT
DTSTART;TZID=America/Chicago:20251102T170000
DTEND;TZID=America/Chicago:20251102T210000
DTSTAMP:20260419T151533
CREATED:20251007T012814Z
LAST-MODIFIED:20251007T012814Z
UID:11471-1762102800-1762117200@abctrafficschool.net
SUMMARY:4 hour class: Candlewood Suites 1305 Murfreesboro Rd Franklin 5-9pm
DESCRIPTION:
URL:https://abctrafficschool.net/event/4-hour-class-candlewood-suites-1305-murfreesboro-rd-franklin-5-9pm-10/
END:VEVENT
BEGIN:VEVENT
DTSTART;TZID=America/Chicago:20251104T090000
DTEND;TZID=America/Chicago:20251104T130000
DTSTAMP:20260419T151533
CREATED:20250903T030427Z
LAST-MODIFIED:20250903T030427Z
UID:11419-1762246800-1762261200@abctrafficschool.net
SUMMARY:4 hour class: 9am-1pm Live Streaming class via Zoom. email link 20 minutes before class Central Time
DESCRIPTION:
URL:https://abctrafficschool.net/event/4-hour-class-9am-1pm-live-streaming-class-via-zoom-email-link-20-minutes-before-class-central-time-64/
END:VEVENT
BEGIN:VEVENT
DTSTART;TZID=America/Chicago:20251104T090000
DTEND;TZID=America/Chicago:20251104T170000
DTSTAMP:20260419T151533
CREATED:20250903T030643Z
LAST-MODIFIED:20250903T030643Z
UID:11425-1762246800-1762275600@abctrafficschool.net
SUMMARY:8 hour class: 9am-5pm Live Streaming class via Zoom. email link 20 minutes before class Central Time
DESCRIPTION:
URL:https://abctrafficschool.net/event/8-hour-class-9am-5pm-live-streaming-class-via-zoom-email-link-20-minutes-before-class-central-time-63/
END:VEVENT
BEGIN:VEVENT
DTSTART;TZID=America/Chicago:20251104T130000
DTEND;TZID=America/Chicago:20251104T170000
DTSTAMP:20260419T151533
CREATED:20250903T030511Z
LAST-MODIFIED:20250903T030511Z
UID:11421-1762261200-1762275600@abctrafficschool.net
SUMMARY:4 hour class: 1-5pm Live Streaming class via Zoom. email link 20 minutes before class Central Time
DESCRIPTION:
URL:https://abctrafficschool.net/event/4-hour-class-1-5pm-live-streaming-class-via-zoom-email-link-20-minutes-before-class-central-time-123/
END:VEVENT
BEGIN:VEVENT
DTSTART;TZID=America/Chicago:20251104T170000
DTEND;TZID=America/Chicago:20251104T210000
DTSTAMP:20260419T151533
CREATED:20250903T030602Z
LAST-MODIFIED:20250903T030602Z
UID:11423-1762275600-1762290000@abctrafficschool.net
SUMMARY:4 hour class: 5-9pm Live Streaming class via Zoom. email link 20 minutes before class Central Time
DESCRIPTION:
URL:https://abctrafficschool.net/event/4-hour-class-5-9pm-live-streaming-class-via-zoom-email-link-20-minutes-before-class-central-time-50/
END:VEVENT
BEGIN:VEVENT
DTSTART;TZID=America/Chicago:20251109T130000
DTEND;TZID=America/Chicago:20251109T170000
DTSTAMP:20260419T151533
CREATED:20251007T013504Z
LAST-MODIFIED:20251007T013504Z
UID:11486-1762693200-1762707600@abctrafficschool.net
SUMMARY:4 hour class: 1-5pm Live Streaming class via Zoom. email link 20 minutes before class Central Time
DESCRIPTION:
URL:https://abctrafficschool.net/event/4-hour-class-1-5pm-live-streaming-class-via-zoom-email-link-20-minutes-before-class-central-time-129/
END:VEVENT
END:VCALENDAR