BEGIN:VCALENDAR
VERSION:2.0
PRODID:-//ABC Traffic School - ECPv6.15.16//NONSGML v1.0//EN
CALSCALE:GREGORIAN
METHOD:PUBLISH
X-ORIGINAL-URL:https://abctrafficschool.net
X-WR-CALDESC:Events for ABC Traffic School
REFRESH-INTERVAL;VALUE=DURATION:PT1H
X-Robots-Tag:noindex
X-PUBLISHED-TTL:PT1H
BEGIN:VTIMEZONE
TZID:America/Chicago
BEGIN:DAYLIGHT
TZOFFSETFROM:-0600
TZOFFSETTO:-0500
TZNAME:CDT
DTSTART:20240310T080000
END:DAYLIGHT
BEGIN:STANDARD
TZOFFSETFROM:-0500
TZOFFSETTO:-0600
TZNAME:CST
DTSTART:20241103T070000
END:STANDARD
BEGIN:DAYLIGHT
TZOFFSETFROM:-0600
TZOFFSETTO:-0500
TZNAME:CDT
DTSTART:20250309T080000
END:DAYLIGHT
BEGIN:STANDARD
TZOFFSETFROM:-0500
TZOFFSETTO:-0600
TZNAME:CST
DTSTART:20251102T070000
END:STANDARD
BEGIN:DAYLIGHT
TZOFFSETFROM:-0600
TZOFFSETTO:-0500
TZNAME:CDT
DTSTART:20260308T080000
END:DAYLIGHT
BEGIN:STANDARD
TZOFFSETFROM:-0500
TZOFFSETTO:-0600
TZNAME:CST
DTSTART:20261101T070000
END:STANDARD
END:VTIMEZONE
BEGIN:VEVENT
DTSTART;TZID=America/Chicago:20251029T130000
DTEND;TZID=America/Chicago:20251029T170000
DTSTAMP:20260421T175304
CREATED:20250903T030302Z
LAST-MODIFIED:20250903T030302Z
UID:11415-1761742800-1761757200@abctrafficschool.net
SUMMARY:4 hour class: 1-5pm Live Streaming class via Zoom. email link 20 minutes before class Central Time
DESCRIPTION:
URL:https://abctrafficschool.net/event/4-hour-class-1-5pm-live-streaming-class-via-zoom-email-link-20-minutes-before-class-central-time-122/
END:VEVENT
BEGIN:VEVENT
DTSTART;TZID=America/Chicago:20251101T080000
DTEND;TZID=America/Chicago:20251101T120000
DTSTAMP:20260421T175304
CREATED:20250903T025237Z
LAST-MODIFIED:20250903T025237Z
UID:11396-1761984000-1761998400@abctrafficschool.net
SUMMARY:4 hour class: 8am-12noon Live Streaming class via Zoom. You get email link 20 minutes before class CDT
DESCRIPTION:
URL:https://abctrafficschool.net/event/4-hour-class-8am-12noon-live-streaming-class-via-zoom-you-get-email-link-20-minutes-before-class-cdt-88/
END:VEVENT
BEGIN:VEVENT
DTSTART;TZID=America/Chicago:20251101T080000
DTEND;TZID=America/Chicago:20251101T160000
DTSTAMP:20260421T175304
CREATED:20250903T025331Z
LAST-MODIFIED:20250903T025331Z
UID:11398-1761984000-1762012800@abctrafficschool.net
SUMMARY:8 hour class: 8am-4pm Live Streaming class via Zoom. You get email link 20 minutes before class CDT
DESCRIPTION:
URL:https://abctrafficschool.net/event/8-hour-class-8am-4pm-live-streaming-class-via-zoom-you-get-email-link-20-minutes-before-class-cdt-83/
END:VEVENT
BEGIN:VEVENT
DTSTART;TZID=America/Chicago:20251102T130000
DTEND;TZID=America/Chicago:20251102T170000
DTSTAMP:20260421T175304
CREATED:20251007T012731Z
LAST-MODIFIED:20251007T012731Z
UID:11469-1762088400-1762102800@abctrafficschool.net
SUMMARY:4 hour class: Candlewood Suites 1305 Murfreesboro Rd Franklin 1-5pm
DESCRIPTION:
URL:https://abctrafficschool.net/event/4-hour-class-candlewood-suites-1305-murfreesboro-rd-franklin-1-5pm-10/
END:VEVENT
BEGIN:VEVENT
DTSTART;TZID=America/Chicago:20251102T130000
DTEND;TZID=America/Chicago:20251102T210000
DTSTAMP:20260421T175304
CREATED:20251007T012859Z
LAST-MODIFIED:20251007T012859Z
UID:11473-1762088400-1762117200@abctrafficschool.net
SUMMARY:8 hour class: Candlewood Suites 1305 Murfreesboro Rd Franklin 1-9pm
DESCRIPTION:
URL:https://abctrafficschool.net/event/8-hour-class-candlewood-suites-1305-murfreesboro-rd-franklin-1-9pm-10/
END:VEVENT
BEGIN:VEVENT
DTSTART;TZID=America/Chicago:20251102T170000
DTEND;TZID=America/Chicago:20251102T210000
DTSTAMP:20260421T175304
CREATED:20251007T012814Z
LAST-MODIFIED:20251007T012814Z
UID:11471-1762102800-1762117200@abctrafficschool.net
SUMMARY:4 hour class: Candlewood Suites 1305 Murfreesboro Rd Franklin 5-9pm
DESCRIPTION:
URL:https://abctrafficschool.net/event/4-hour-class-candlewood-suites-1305-murfreesboro-rd-franklin-5-9pm-10/
END:VEVENT
BEGIN:VEVENT
DTSTART;TZID=America/Chicago:20251104T090000
DTEND;TZID=America/Chicago:20251104T130000
DTSTAMP:20260421T175304
CREATED:20250903T030427Z
LAST-MODIFIED:20250903T030427Z
UID:11419-1762246800-1762261200@abctrafficschool.net
SUMMARY:4 hour class: 9am-1pm Live Streaming class via Zoom. email link 20 minutes before class Central Time
DESCRIPTION:
URL:https://abctrafficschool.net/event/4-hour-class-9am-1pm-live-streaming-class-via-zoom-email-link-20-minutes-before-class-central-time-64/
END:VEVENT
BEGIN:VEVENT
DTSTART;TZID=America/Chicago:20251104T090000
DTEND;TZID=America/Chicago:20251104T170000
DTSTAMP:20260421T175304
CREATED:20250903T030643Z
LAST-MODIFIED:20250903T030643Z
UID:11425-1762246800-1762275600@abctrafficschool.net
SUMMARY:8 hour class: 9am-5pm Live Streaming class via Zoom. email link 20 minutes before class Central Time
DESCRIPTION:
URL:https://abctrafficschool.net/event/8-hour-class-9am-5pm-live-streaming-class-via-zoom-email-link-20-minutes-before-class-central-time-63/
END:VEVENT
BEGIN:VEVENT
DTSTART;TZID=America/Chicago:20251104T130000
DTEND;TZID=America/Chicago:20251104T170000
DTSTAMP:20260421T175304
CREATED:20250903T030511Z
LAST-MODIFIED:20250903T030511Z
UID:11421-1762261200-1762275600@abctrafficschool.net
SUMMARY:4 hour class: 1-5pm Live Streaming class via Zoom. email link 20 minutes before class Central Time
DESCRIPTION:
URL:https://abctrafficschool.net/event/4-hour-class-1-5pm-live-streaming-class-via-zoom-email-link-20-minutes-before-class-central-time-123/
END:VEVENT
BEGIN:VEVENT
DTSTART;TZID=America/Chicago:20251104T170000
DTEND;TZID=America/Chicago:20251104T210000
DTSTAMP:20260421T175304
CREATED:20250903T030602Z
LAST-MODIFIED:20250903T030602Z
UID:11423-1762275600-1762290000@abctrafficschool.net
SUMMARY:4 hour class: 5-9pm Live Streaming class via Zoom. email link 20 minutes before class Central Time
DESCRIPTION:
URL:https://abctrafficschool.net/event/4-hour-class-5-9pm-live-streaming-class-via-zoom-email-link-20-minutes-before-class-central-time-50/
END:VEVENT
BEGIN:VEVENT
DTSTART;TZID=America/Chicago:20251109T130000
DTEND;TZID=America/Chicago:20251109T170000
DTSTAMP:20260421T175304
CREATED:20251007T013504Z
LAST-MODIFIED:20251007T013504Z
UID:11486-1762693200-1762707600@abctrafficschool.net
SUMMARY:4 hour class: 1-5pm Live Streaming class via Zoom. email link 20 minutes before class Central Time
DESCRIPTION:
URL:https://abctrafficschool.net/event/4-hour-class-1-5pm-live-streaming-class-via-zoom-email-link-20-minutes-before-class-central-time-129/
END:VEVENT
BEGIN:VEVENT
DTSTART;TZID=America/Chicago:20251109T130000
DTEND;TZID=America/Chicago:20251109T210000
DTSTAMP:20260421T175304
CREATED:20251007T013637Z
LAST-MODIFIED:20251007T013637Z
UID:11490-1762693200-1762722000@abctrafficschool.net
SUMMARY:8 hour class: 1-9pm Live Streaming class via Zoom. email link 20 minutes before class Central Time
DESCRIPTION:
URL:https://abctrafficschool.net/event/8-hour-class-1-9pm-live-streaming-class-via-zoom-email-link-20-minutes-before-class-central-time-44/
END:VEVENT
BEGIN:VEVENT
DTSTART;TZID=America/Chicago:20251109T170000
DTEND;TZID=America/Chicago:20251109T210000
DTSTAMP:20260421T175304
CREATED:20251007T013549Z
LAST-MODIFIED:20251007T013549Z
UID:11488-1762707600-1762722000@abctrafficschool.net
SUMMARY:4 hour class: 5-9pm Live Streaming class via Zoom. email link 20 minutes before class Central Time
DESCRIPTION:
URL:https://abctrafficschool.net/event/4-hour-class-5-9pm-live-streaming-class-via-zoom-email-link-20-minutes-before-class-central-time-54/
END:VEVENT
BEGIN:VEVENT
DTSTART;TZID=America/Chicago:20251112T090000
DTEND;TZID=America/Chicago:20251112T130000
DTSTAMP:20260421T175304
CREATED:20250911T172552Z
LAST-MODIFIED:20250911T172552Z
UID:11443-1762938000-1762952400@abctrafficschool.net
SUMMARY:4 hour class: 9am-1pm Live Streaming class via Zoom. email link 20 minutes before class Central Time
DESCRIPTION:
URL:https://abctrafficschool.net/event/4-hour-class-9am-1pm-live-streaming-class-via-zoom-email-link-20-minutes-before-class-central-time-65/
END:VEVENT
BEGIN:VEVENT
DTSTART;TZID=America/Chicago:20251112T090000
DTEND;TZID=America/Chicago:20251112T170000
DTSTAMP:20260421T175304
CREATED:20250911T172714Z
LAST-MODIFIED:20250911T172714Z
UID:11447-1762938000-1762966800@abctrafficschool.net
SUMMARY:8 hour class: 9am-5pm Live Streaming class via Zoom. email link 20 minutes before class Central Time
DESCRIPTION:
URL:https://abctrafficschool.net/event/8-hour-class-9am-5pm-live-streaming-class-via-zoom-email-link-20-minutes-before-class-central-time-64/
END:VEVENT
BEGIN:VEVENT
DTSTART;TZID=America/Chicago:20251112T130000
DTEND;TZID=America/Chicago:20251112T170000
DTSTAMP:20260421T175304
CREATED:20250911T172633Z
LAST-MODIFIED:20250911T172633Z
UID:11445-1762952400-1762966800@abctrafficschool.net
SUMMARY:4 hour class: 1-5pm Live Streaming class via Zoom. email link 20 minutes before class Central Time
DESCRIPTION:
URL:https://abctrafficschool.net/event/4-hour-class-1-5pm-live-streaming-class-via-zoom-email-link-20-minutes-before-class-central-time-125/
END:VEVENT
BEGIN:VEVENT
DTSTART;TZID=America/Chicago:20251115T080000
DTEND;TZID=America/Chicago:20251115T120000
DTSTAMP:20260421T175304
CREATED:20250911T171740Z
LAST-MODIFIED:20250911T171740Z
UID:11427-1763193600-1763208000@abctrafficschool.net
SUMMARY:4 hour class: 8am-12noon Live Streaming class via Zoom. You get email link 20 minutes before class CDT
DESCRIPTION:
URL:https://abctrafficschool.net/event/4-hour-class-8am-12noon-live-streaming-class-via-zoom-you-get-email-link-20-minutes-before-class-cdt-89/
END:VEVENT
BEGIN:VEVENT
DTSTART;TZID=America/Chicago:20251115T080000
DTEND;TZID=America/Chicago:20251115T160000
DTSTAMP:20260421T175304
CREATED:20250911T171829Z
LAST-MODIFIED:20250911T171829Z
UID:11429-1763193600-1763222400@abctrafficschool.net
SUMMARY:8 hour class: 8am-4pm Live Streaming class via Zoom. You get email link 20 minutes before class CDT
DESCRIPTION:
URL:https://abctrafficschool.net/event/8-hour-class-8am-4pm-live-streaming-class-via-zoom-you-get-email-link-20-minutes-before-class-cdt-84/
END:VEVENT
BEGIN:VEVENT
DTSTART;TZID=America/Chicago:20251119T090000
DTEND;TZID=America/Chicago:20251119T130000
DTSTAMP:20260421T175304
CREATED:20250911T172742Z
LAST-MODIFIED:20250911T172742Z
UID:11449-1763542800-1763557200@abctrafficschool.net
SUMMARY:4 hour class: 9am-1pm Live Streaming class via Zoom. email link 20 minutes before class Central Time
DESCRIPTION:
URL:https://abctrafficschool.net/event/4-hour-class-9am-1pm-live-streaming-class-via-zoom-email-link-20-minutes-before-class-central-time-66/
END:VEVENT
BEGIN:VEVENT
DTSTART;TZID=America/Chicago:20251119T090000
DTEND;TZID=America/Chicago:20251119T170000
DTSTAMP:20260421T175304
CREATED:20250911T172902Z
LAST-MODIFIED:20250911T172902Z
UID:11453-1763542800-1763571600@abctrafficschool.net
SUMMARY:8 hour class: 9am-5pm Live Streaming class via Zoom. email link 20 minutes before class Central Time
DESCRIPTION:
URL:https://abctrafficschool.net/event/8-hour-class-9am-5pm-live-streaming-class-via-zoom-email-link-20-minutes-before-class-central-time-65/
END:VEVENT
BEGIN:VEVENT
DTSTART;TZID=America/Chicago:20251119T130000
DTEND;TZID=America/Chicago:20251119T170000
DTSTAMP:20260421T175304
CREATED:20250911T172826Z
LAST-MODIFIED:20250911T172826Z
UID:11451-1763557200-1763571600@abctrafficschool.net
SUMMARY:4 hour class: 1-5pm Live Streaming class via Zoom. email link 20 minutes before class Central Time
DESCRIPTION:
URL:https://abctrafficschool.net/event/4-hour-class-1-5pm-live-streaming-class-via-zoom-email-link-20-minutes-before-class-central-time-126/
END:VEVENT
BEGIN:VEVENT
DTSTART;TZID=America/Chicago:20251122T080000
DTEND;TZID=America/Chicago:20251122T120000
DTSTAMP:20260421T175304
CREATED:20251007T012323Z
LAST-MODIFIED:20251007T012323Z
UID:11461-1763798400-1763812800@abctrafficschool.net
SUMMARY:4 hour class: Candlewood Suites 1305 Murfreesboro Rd Franklin 8am-12noon
DESCRIPTION:
URL:https://abctrafficschool.net/event/4-hour-class-candlewood-suites-1305-murfreesboro-rd-franklin-8am-12noon-5/
END:VEVENT
BEGIN:VEVENT
DTSTART;TZID=America/Chicago:20251122T080000
DTEND;TZID=America/Chicago:20251122T160000
DTSTAMP:20260421T175304
CREATED:20251007T012419Z
LAST-MODIFIED:20251007T012419Z
UID:11463-1763798400-1763827200@abctrafficschool.net
SUMMARY:8 hour class: Candlewood Suites 1305 Murfreesboro Rd Franklin 8am-4pm
DESCRIPTION:
URL:https://abctrafficschool.net/event/8-hour-class-candlewood-suites-1305-murfreesboro-rd-franklin-8am-4pm-7/
END:VEVENT
BEGIN:VEVENT
DTSTART;TZID=America/Chicago:20251123T130000
DTEND;TZID=America/Chicago:20251123T170000
DTSTAMP:20260421T175304
CREATED:20251007T013245Z
LAST-MODIFIED:20251007T013245Z
UID:11480-1763902800-1763917200@abctrafficschool.net
SUMMARY:4 hour class: 1-5pm Live Streaming class via Zoom. email link 20 minutes before class Central Time
DESCRIPTION:
URL:https://abctrafficschool.net/event/4-hour-class-1-5pm-live-streaming-class-via-zoom-email-link-20-minutes-before-class-central-time-128/
END:VEVENT
BEGIN:VEVENT
DTSTART;TZID=America/Chicago:20251123T130000
DTEND;TZID=America/Chicago:20251123T210000
DTSTAMP:20260421T175304
CREATED:20251007T013416Z
LAST-MODIFIED:20251007T013416Z
UID:11484-1763902800-1763931600@abctrafficschool.net
SUMMARY:8 hour class: 1-9pm Live Streaming class via Zoom. email link 20 minutes before class Central Time
DESCRIPTION:
URL:https://abctrafficschool.net/event/8-hour-class-1-9pm-live-streaming-class-via-zoom-email-link-20-minutes-before-class-central-time-43/
END:VEVENT
BEGIN:VEVENT
DTSTART;TZID=America/Chicago:20251123T170000
DTEND;TZID=America/Chicago:20251123T210000
DTSTAMP:20260421T175304
CREATED:20251007T013334Z
LAST-MODIFIED:20251007T013334Z
UID:11482-1763917200-1763931600@abctrafficschool.net
SUMMARY:4 hour class: 5-9pm Live Streaming class via Zoom. email link 20 minutes before class Central Time
DESCRIPTION:
URL:https://abctrafficschool.net/event/4-hour-class-5-9pm-live-streaming-class-via-zoom-email-link-20-minutes-before-class-central-time-53/
END:VEVENT
BEGIN:VEVENT
DTSTART;TZID=America/Chicago:20251125T090000
DTEND;TZID=America/Chicago:20251125T130000
DTSTAMP:20260421T175304
CREATED:20250911T172941Z
LAST-MODIFIED:20250911T172941Z
UID:11455-1764061200-1764075600@abctrafficschool.net
SUMMARY:4 hour class: 9am-1pm Live Streaming class via Zoom. email link 20 minutes before class Central Time
DESCRIPTION:
URL:https://abctrafficschool.net/event/4-hour-class-9am-1pm-live-streaming-class-via-zoom-email-link-20-minutes-before-class-central-time-67/
END:VEVENT
BEGIN:VEVENT
DTSTART;TZID=America/Chicago:20251125T090000
DTEND;TZID=America/Chicago:20251125T170000
DTSTAMP:20260421T175304
CREATED:20250911T173116Z
LAST-MODIFIED:20250911T173116Z
UID:11459-1764061200-1764090000@abctrafficschool.net
SUMMARY:8 hour class: 9am-5pm Live Streaming class via Zoom. email link 20 minutes before class Central Time
DESCRIPTION:
URL:https://abctrafficschool.net/event/8-hour-class-9am-5pm-live-streaming-class-via-zoom-email-link-20-minutes-before-class-central-time-66/
END:VEVENT
BEGIN:VEVENT
DTSTART;TZID=America/Chicago:20251125T130000
DTEND;TZID=America/Chicago:20251125T170000
DTSTAMP:20260421T175304
CREATED:20250911T173037Z
LAST-MODIFIED:20250911T173037Z
UID:11457-1764075600-1764090000@abctrafficschool.net
SUMMARY:4 hour class: 1-5pm Live Streaming class via Zoom. email link 20 minutes before class Central Time
DESCRIPTION:
URL:https://abctrafficschool.net/event/4-hour-class-1-5pm-live-streaming-class-via-zoom-email-link-20-minutes-before-class-central-time-127/
END:VEVENT
BEGIN:VEVENT
DTSTART;TZID=America/Chicago:20251130T130000
DTEND;TZID=America/Chicago:20251130T170000
DTSTAMP:20260421T175304
CREATED:20250911T171936Z
LAST-MODIFIED:20250911T171936Z
UID:11432-1764507600-1764522000@abctrafficschool.net
SUMMARY:4 hour class: 1-5pm Live Streaming class via Zoom. email link 20 minutes before class Central Time
DESCRIPTION:
URL:https://abctrafficschool.net/event/4-hour-class-1-5pm-live-streaming-class-via-zoom-email-link-20-minutes-before-class-central-time-124/
END:VEVENT
END:VCALENDAR