BEGIN:VCALENDAR
VERSION:2.0
PRODID:-//ABC Traffic School - ECPv6.15.16//NONSGML v1.0//EN
CALSCALE:GREGORIAN
METHOD:PUBLISH
X-WR-CALNAME:ABC Traffic School
X-ORIGINAL-URL:https://abctrafficschool.net
X-WR-CALDESC:Events for ABC Traffic School
REFRESH-INTERVAL;VALUE=DURATION:PT1H
X-Robots-Tag:noindex
X-PUBLISHED-TTL:PT1H
BEGIN:VTIMEZONE
TZID:America/Chicago
BEGIN:DAYLIGHT
TZOFFSETFROM:-0600
TZOFFSETTO:-0500
TZNAME:CDT
DTSTART:20230312T080000
END:DAYLIGHT
BEGIN:STANDARD
TZOFFSETFROM:-0500
TZOFFSETTO:-0600
TZNAME:CST
DTSTART:20231105T070000
END:STANDARD
BEGIN:DAYLIGHT
TZOFFSETFROM:-0600
TZOFFSETTO:-0500
TZNAME:CDT
DTSTART:20240310T080000
END:DAYLIGHT
BEGIN:STANDARD
TZOFFSETFROM:-0500
TZOFFSETTO:-0600
TZNAME:CST
DTSTART:20241103T070000
END:STANDARD
BEGIN:DAYLIGHT
TZOFFSETFROM:-0600
TZOFFSETTO:-0500
TZNAME:CDT
DTSTART:20250309T080000
END:DAYLIGHT
BEGIN:STANDARD
TZOFFSETFROM:-0500
TZOFFSETTO:-0600
TZNAME:CST
DTSTART:20251102T070000
END:STANDARD
END:VTIMEZONE
BEGIN:VEVENT
DTSTART;TZID=America/Chicago:20240403T090000
DTEND;TZID=America/Chicago:20240403T130000
DTSTAMP:20260421T133016
CREATED:20240212T194648Z
LAST-MODIFIED:20240212T194648Z
UID:10037-1712134800-1712149200@abctrafficschool.net
SUMMARY:4 hour class: 9-1pm Live Streaming class via Zoom. email link 20 minutes before class Central Time
DESCRIPTION:
URL:https://abctrafficschool.net/event/4-hour-class-9-1pm-live-streaming-class-via-zoom-email-link-20-minutes-before-class-central-time/
END:VEVENT
BEGIN:VEVENT
DTSTART;TZID=America/Chicago:20240330T080000
DTEND;TZID=America/Chicago:20240330T160000
DTSTAMP:20260421T133016
CREATED:20240112T081641Z
LAST-MODIFIED:20240112T081641Z
UID:9952-1711785600-1711814400@abctrafficschool.net
SUMMARY:8 hour 8am-4pm live stream via Zoom Central time email link 20 minutes before class
DESCRIPTION:
URL:https://abctrafficschool.net/event/8-hour-8am-4pm-live-stream-via-zoom-central-time-email-link-20-minutes-before-class-2/
END:VEVENT
BEGIN:VEVENT
DTSTART;TZID=America/Chicago:20240330T080000
DTEND;TZID=America/Chicago:20240330T120000
DTSTAMP:20260421T133016
CREATED:20240112T081527Z
LAST-MODIFIED:20240112T081527Z
UID:9950-1711785600-1711800000@abctrafficschool.net
SUMMARY:4 hour 8am-12noon live stream via Zoom Central time email link 20 minutes before class
DESCRIPTION:
URL:https://abctrafficschool.net/event/4-hour-8am-12noon-live-stream-via-zoom-central-time-email-link-20-minutes-before-class-2/
END:VEVENT
BEGIN:VEVENT
DTSTART;TZID=America/Chicago:20240327T173000
DTEND;TZID=America/Chicago:20240327T213000
DTSTAMP:20260421T133016
CREATED:20240224T123322Z
LAST-MODIFIED:20240224T123322Z
UID:10068-1711560600-1711575000@abctrafficschool.net
SUMMARY:4 hour class: Franklin Drury Hotel 5:30-9:30pm
DESCRIPTION:
URL:https://abctrafficschool.net/event/4-hour-class-franklin-drury-hotel-530-930pm-61/
END:VEVENT
BEGIN:VEVENT
DTSTART;TZID=America/Chicago:20240327T140000
DTEND;TZID=America/Chicago:20240327T180000
DTSTAMP:20260421T133016
CREATED:20240224T123228Z
LAST-MODIFIED:20240224T123228Z
UID:10066-1711548000-1711562400@abctrafficschool.net
SUMMARY:4 hour class: Franklin Drury Hotel 2-6pm
DESCRIPTION:
URL:https://abctrafficschool.net/event/4-hour-class-franklin-drury-hotel-2-6pm-62/
END:VEVENT
BEGIN:VEVENT
DTSTART;TZID=America/Chicago:20240327T100000
DTEND;TZID=America/Chicago:20240327T180000
DTSTAMP:20260421T133016
CREATED:20240224T123421Z
LAST-MODIFIED:20240224T123421Z
UID:10070-1711533600-1711562400@abctrafficschool.net
SUMMARY:8 hour class: Franklin Drury Hotel 10-am-6pm
DESCRIPTION:
URL:https://abctrafficschool.net/event/8-hour-class-franklin-drury-hotel-10-am-6pm/
END:VEVENT
BEGIN:VEVENT
DTSTART;TZID=America/Chicago:20240327T100000
DTEND;TZID=America/Chicago:20240327T140000
DTSTAMP:20260421T133016
CREATED:20240224T123142Z
LAST-MODIFIED:20240224T123142Z
UID:10064-1711533600-1711548000@abctrafficschool.net
SUMMARY:4 hour class: Franklin Drury Hotel 10am-2pm
DESCRIPTION:
URL:https://abctrafficschool.net/event/4-hour-class-franklin-drury-hotel-10am-2pm-15/
END:VEVENT
BEGIN:VEVENT
DTSTART;TZID=America/Chicago:20240326T130000
DTEND;TZID=America/Chicago:20240326T170000
DTSTAMP:20260421T133016
CREATED:20240112T083434Z
LAST-MODIFIED:20240112T083434Z
UID:9985-1711458000-1711472400@abctrafficschool.net
SUMMARY:4 hour class: 1-5pm Live Streaming class via Zoom. email link 20 minutes before class Central Time
DESCRIPTION:
URL:https://abctrafficschool.net/event/4-hour-class-1-5pm-live-streaming-class-via-zoom-email-link-20-minutes-before-class-central-time-5/
END:VEVENT
BEGIN:VEVENT
DTSTART;TZID=America/Chicago:20240326T090000
DTEND;TZID=America/Chicago:20240326T170000
DTSTAMP:20260421T133016
CREATED:20240112T083530Z
LAST-MODIFIED:20240112T083530Z
UID:9987-1711443600-1711472400@abctrafficschool.net
SUMMARY:8 hour class: 9am-5pm Live Streaming class via Zoom. email link 20 minutes before class Central Time
DESCRIPTION:
URL:https://abctrafficschool.net/event/8-hour-class-9am-5pm-live-streaming-class-via-zoom-email-link-20-minutes-before-class-central-time-4/
END:VEVENT
BEGIN:VEVENT
DTSTART;TZID=America/Chicago:20240326T090000
DTEND;TZID=America/Chicago:20240326T130000
DTSTAMP:20260421T133016
CREATED:20240112T083339Z
LAST-MODIFIED:20240112T083339Z
UID:9983-1711443600-1711458000@abctrafficschool.net
SUMMARY:4 hour class: 9am-1pm Live Streaming class via Zoom. email link 20 minutes before class Central Time
DESCRIPTION:
URL:https://abctrafficschool.net/event/4-hour-class-9am-1pm-live-streaming-class-via-zoom-email-link-20-minutes-before-class-central-time-4/
END:VEVENT
BEGIN:VEVENT
DTSTART;TZID=America/Chicago:20240324T170000
DTEND;TZID=America/Chicago:20240324T210000
DTSTAMP:20260421T133016
CREATED:20240112T171828Z
LAST-MODIFIED:20240112T171828Z
UID:10012-1711299600-1711314000@abctrafficschool.net
SUMMARY:4 hour class: Franklin Drury Hotel 5-9pm
DESCRIPTION:
URL:https://abctrafficschool.net/event/4-hour-class-franklin-drury-hotel-5-9pm-79/
END:VEVENT
BEGIN:VEVENT
DTSTART;TZID=America/Chicago:20240324T130000
DTEND;TZID=America/Chicago:20240324T210000
DTSTAMP:20260421T133016
CREATED:20240112T171928Z
LAST-MODIFIED:20240112T171928Z
UID:10014-1711285200-1711314000@abctrafficschool.net
SUMMARY:8 hour class: Franklin Drury Hotel 1-9pm
DESCRIPTION:
URL:https://abctrafficschool.net/event/8-hour-class-franklin-drury-hotel-1-9pm-80/
END:VEVENT
BEGIN:VEVENT
DTSTART;TZID=America/Chicago:20240324T130000
DTEND;TZID=America/Chicago:20240324T170000
DTSTAMP:20260421T133016
CREATED:20240112T171718Z
LAST-MODIFIED:20240112T171718Z
UID:10010-1711285200-1711299600@abctrafficschool.net
SUMMARY:4 hour class: Franklin Drury Hotel 1-5pm
DESCRIPTION:
URL:https://abctrafficschool.net/event/4-hour-class-franklin-drury-hotel-1-5pm-81/
END:VEVENT
BEGIN:VEVENT
DTSTART;TZID=America/Chicago:20240323T080000
DTEND;TZID=America/Chicago:20240323T160000
DTSTAMP:20260421T133016
CREATED:20240212T194023Z
LAST-MODIFIED:20240212T194023Z
UID:10025-1711180800-1711209600@abctrafficschool.net
SUMMARY:8 hour 8am-4pm live stream via Zoom Central time email link 20 minutes before class
DESCRIPTION:
URL:https://abctrafficschool.net/event/8-hour-8am-4pm-live-stream-via-zoom-central-time-email-link-20-minutes-before-class-4/
END:VEVENT
BEGIN:VEVENT
DTSTART;TZID=America/Chicago:20240323T080000
DTEND;TZID=America/Chicago:20240323T120000
DTSTAMP:20260421T133016
CREATED:20240212T193916Z
LAST-MODIFIED:20240212T193916Z
UID:10023-1711180800-1711195200@abctrafficschool.net
SUMMARY:4 hour 8am-12noon live stream via Zoom Central time email link 20 minutes before class
DESCRIPTION:
URL:https://abctrafficschool.net/event/4-hour-8am-12noon-live-stream-via-zoom-central-time-email-link-20-minutes-before-class-4/
END:VEVENT
BEGIN:VEVENT
DTSTART;TZID=America/Chicago:20240319T170000
DTEND;TZID=America/Chicago:20240319T210000
DTSTAMP:20260421T133016
CREATED:20240112T083154Z
LAST-MODIFIED:20240112T083154Z
UID:9979-1710867600-1710882000@abctrafficschool.net
SUMMARY:4 hour class: 5-9pm Live Streaming class via Zoom. email link 20 minutes before class Central Time
DESCRIPTION:
URL:https://abctrafficschool.net/event/4-hour-class-5-9pm-live-streaming-class-via-zoom-email-link-20-minutes-before-class-central-time/
END:VEVENT
BEGIN:VEVENT
DTSTART;TZID=America/Chicago:20240319T130000
DTEND;TZID=America/Chicago:20240319T170000
DTSTAMP:20260421T133016
CREATED:20240112T083105Z
LAST-MODIFIED:20240112T083105Z
UID:9977-1710853200-1710867600@abctrafficschool.net
SUMMARY:4 hour class: 1-5pm Live Streaming class via Zoom. email link 20 minutes before class Central Time
DESCRIPTION:
URL:https://abctrafficschool.net/event/4-hour-class-1-5pm-live-streaming-class-via-zoom-email-link-20-minutes-before-class-central-time-4/
END:VEVENT
BEGIN:VEVENT
DTSTART;TZID=America/Chicago:20240319T090000
DTEND;TZID=America/Chicago:20240319T170000
DTSTAMP:20260421T133016
CREATED:20240112T083246Z
LAST-MODIFIED:20240112T083246Z
UID:9981-1710838800-1710867600@abctrafficschool.net
SUMMARY:8 hour class: 9am-5pm Live Streaming class via Zoom. email link 20 minutes before class Central Time
DESCRIPTION:
URL:https://abctrafficschool.net/event/8-hour-class-9am-5pm-live-streaming-class-via-zoom-email-link-20-minutes-before-class-central-time-3/
END:VEVENT
BEGIN:VEVENT
DTSTART;TZID=America/Chicago:20240319T090000
DTEND;TZID=America/Chicago:20240319T130000
DTSTAMP:20260421T133016
CREATED:20240112T083017Z
LAST-MODIFIED:20240112T083017Z
UID:9975-1710838800-1710853200@abctrafficschool.net
SUMMARY:4 hour class: 9am-1pm Live Streaming class via Zoom. email link 20 minutes before class Central Time
DESCRIPTION:
URL:https://abctrafficschool.net/event/4-hour-class-9am-1pm-live-streaming-class-via-zoom-email-link-20-minutes-before-class-central-time-3/
END:VEVENT
BEGIN:VEVENT
DTSTART;TZID=America/Chicago:20240317T170000
DTEND;TZID=America/Chicago:20240317T210000
DTSTAMP:20260421T133016
CREATED:20240112T170556Z
LAST-MODIFIED:20240112T170556Z
UID:9994-1710694800-1710709200@abctrafficschool.net
SUMMARY:4 hour class: 5-9pm Live Streaming class via Zoom. email link 20 minutes before class Central Time
DESCRIPTION:
URL:https://abctrafficschool.net/event/4-hour-class-5-9pm-live-streaming-class-via-zoom-email-link-20-minutes-before-class-central-time-3/
END:VEVENT
BEGIN:VEVENT
DTSTART;TZID=America/Chicago:20240317T130000
DTEND;TZID=America/Chicago:20240317T210000
DTSTAMP:20260421T133016
CREATED:20240112T170656Z
LAST-MODIFIED:20240112T170656Z
UID:9996-1710680400-1710709200@abctrafficschool.net
SUMMARY:8 hour class: 1-9pm Live Streaming class via Zoom. email link 20 minutes before class Central Time
DESCRIPTION:
URL:https://abctrafficschool.net/event/8-hour-class-1-9pm-live-streaming-class-via-zoom-email-link-20-minutes-before-class-central-time-2/
END:VEVENT
BEGIN:VEVENT
DTSTART;TZID=America/Chicago:20240317T130000
DTEND;TZID=America/Chicago:20240317T170000
DTSTAMP:20260421T133016
CREATED:20240112T170501Z
LAST-MODIFIED:20240112T170501Z
UID:9992-1710680400-1710694800@abctrafficschool.net
SUMMARY:4 hour class: 1-5pm Live Streaming class via Zoom. email link 20 minutes before class Central Time
DESCRIPTION:
URL:https://abctrafficschool.net/event/4-hour-class-1-5pm-live-streaming-class-via-zoom-email-link-20-minutes-before-class-central-time-7/
END:VEVENT
BEGIN:VEVENT
DTSTART;TZID=America/Chicago:20240316T080000
DTEND;TZID=America/Chicago:20240316T160000
DTSTAMP:20260421T133016
CREATED:20240112T171335Z
LAST-MODIFIED:20240112T171335Z
UID:10004-1710576000-1710604800@abctrafficschool.net
SUMMARY:8 hour class: Franklin Drury Hotel 8am-4pm
DESCRIPTION:
URL:https://abctrafficschool.net/event/8-hour-class-franklin-drury-hotel-8am-4pm-25/
END:VEVENT
BEGIN:VEVENT
DTSTART;TZID=America/Chicago:20240316T080000
DTEND;TZID=America/Chicago:20240316T120000
DTSTAMP:20260421T133016
CREATED:20240112T171243Z
LAST-MODIFIED:20240112T171243Z
UID:10002-1710576000-1710590400@abctrafficschool.net
SUMMARY:4 hour class: Franklin Drury Hotel 8am-12noon
DESCRIPTION:
URL:https://abctrafficschool.net/event/4-hour-class-franklin-drury-hotel-8am-12noon-25/
END:VEVENT
BEGIN:VEVENT
DTSTART;TZID=America/Chicago:20240313T130000
DTEND;TZID=America/Chicago:20240313T170000
DTSTAMP:20260421T133016
CREATED:20240112T082849Z
LAST-MODIFIED:20240112T082849Z
UID:9971-1710334800-1710349200@abctrafficschool.net
SUMMARY:4 hour class: 1-5pm Live Streaming class via Zoom. email link 20 minutes before class Central Time
DESCRIPTION:
URL:https://abctrafficschool.net/event/4-hour-class-1-5pm-live-streaming-class-via-zoom-email-link-20-minutes-before-class-central-time-3/
END:VEVENT
BEGIN:VEVENT
DTSTART;TZID=America/Chicago:20240313T090000
DTEND;TZID=America/Chicago:20240313T170000
DTSTAMP:20260421T133016
CREATED:20240112T082935Z
LAST-MODIFIED:20240112T082935Z
UID:9973-1710320400-1710349200@abctrafficschool.net
SUMMARY:8 hour class: 9am-5pm Live Streaming class via Zoom. email link 20 minutes before class Central Time
DESCRIPTION:
URL:https://abctrafficschool.net/event/8-hour-class-9am-5pm-live-streaming-class-via-zoom-email-link-20-minutes-before-class-central-time-2/
END:VEVENT
BEGIN:VEVENT
DTSTART;TZID=America/Chicago:20240313T090000
DTEND;TZID=America/Chicago:20240313T130000
DTSTAMP:20260421T133016
CREATED:20240112T082738Z
LAST-MODIFIED:20240112T082738Z
UID:9969-1710320400-1710334800@abctrafficschool.net
SUMMARY:4 hour class: 9am-1pm Live Streaming class via Zoom. email link 20 minutes before class Central Time
DESCRIPTION:
URL:https://abctrafficschool.net/event/4-hour-class-9am-1pm-live-streaming-class-via-zoom-email-link-20-minutes-before-class-central-time-2/
END:VEVENT
BEGIN:VEVENT
DTSTART;TZID=America/Chicago:20240309T080000
DTEND;TZID=America/Chicago:20240309T160000
DTSTAMP:20260421T133016
CREATED:20240112T081422Z
LAST-MODIFIED:20240112T081422Z
UID:9948-1709971200-1710000000@abctrafficschool.net
SUMMARY:8 hour 8am-4pm live stream via Zoom Central time email link 20 minutes before class
DESCRIPTION:
URL:https://abctrafficschool.net/event/8-hour-8am-4pm-live-stream-via-zoom-central-time-email-link-20-minutes-before-class/
END:VEVENT
BEGIN:VEVENT
DTSTART;TZID=America/Chicago:20240309T080000
DTEND;TZID=America/Chicago:20240309T120000
DTSTAMP:20260421T133016
CREATED:20240110T192549Z
LAST-MODIFIED:20240110T192549Z
UID:9945-1709971200-1709985600@abctrafficschool.net
SUMMARY:4 hour 8am-12noon live stream via Zoom Central time email link 20 minutes before class
DESCRIPTION:
URL:https://abctrafficschool.net/event/4-hour-8am-12noon-live-stream-via-zoom-central-time-email-link-20-minutes-before-class/
END:VEVENT
BEGIN:VEVENT
DTSTART;TZID=America/Chicago:20240305T130000
DTEND;TZID=America/Chicago:20240305T170000
DTSTAMP:20260421T133016
CREATED:20240112T082604Z
LAST-MODIFIED:20240112T082604Z
UID:9965-1709643600-1709658000@abctrafficschool.net
SUMMARY:4 hour class: 1-5pm Live Streaming class via Zoom. email link 20 minutes before class Central Time
DESCRIPTION:
URL:https://abctrafficschool.net/event/4-hour-class-1-5pm-live-streaming-class-via-zoom-email-link-20-minutes-before-class-central-time-2/
END:VEVENT
END:VCALENDAR