BEGIN:VCALENDAR
VERSION:2.0
PRODID:-//ABC Traffic School - ECPv6.15.16//NONSGML v1.0//EN
CALSCALE:GREGORIAN
METHOD:PUBLISH
X-WR-CALNAME:ABC Traffic School
X-ORIGINAL-URL:https://abctrafficschool.net
X-WR-CALDESC:Events for ABC Traffic School
REFRESH-INTERVAL;VALUE=DURATION:PT1H
X-Robots-Tag:noindex
X-PUBLISHED-TTL:PT1H
BEGIN:VTIMEZONE
TZID:America/Chicago
BEGIN:DAYLIGHT
TZOFFSETFROM:-0600
TZOFFSETTO:-0500
TZNAME:CDT
DTSTART:20230312T080000
END:DAYLIGHT
BEGIN:STANDARD
TZOFFSETFROM:-0500
TZOFFSETTO:-0600
TZNAME:CST
DTSTART:20231105T070000
END:STANDARD
BEGIN:DAYLIGHT
TZOFFSETFROM:-0600
TZOFFSETTO:-0500
TZNAME:CDT
DTSTART:20240310T080000
END:DAYLIGHT
BEGIN:STANDARD
TZOFFSETFROM:-0500
TZOFFSETTO:-0600
TZNAME:CST
DTSTART:20241103T070000
END:STANDARD
BEGIN:DAYLIGHT
TZOFFSETFROM:-0600
TZOFFSETTO:-0500
TZNAME:CDT
DTSTART:20250309T080000
END:DAYLIGHT
BEGIN:STANDARD
TZOFFSETFROM:-0500
TZOFFSETTO:-0600
TZNAME:CST
DTSTART:20251102T070000
END:STANDARD
END:VTIMEZONE
BEGIN:VEVENT
DTSTART;TZID=America/Chicago:20240305T090000
DTEND;TZID=America/Chicago:20240305T170000
DTSTAMP:20260421T182544
CREATED:20240112T082644Z
LAST-MODIFIED:20240112T082644Z
UID:9967-1709629200-1709658000@abctrafficschool.net
SUMMARY:8 hour class: 9am-5pm Live Streaming class via Zoom. email link 20 minutes before class Central Time
DESCRIPTION:
URL:https://abctrafficschool.net/event/8-hour-class-9am-5pm-live-streaming-class-via-zoom-email-link-20-minutes-before-class-central-time/
END:VEVENT
BEGIN:VEVENT
DTSTART;TZID=America/Chicago:20240305T090000
DTEND;TZID=America/Chicago:20240305T130000
DTSTAMP:20260421T182544
CREATED:20240112T082519Z
LAST-MODIFIED:20240112T082519Z
UID:9963-1709629200-1709643600@abctrafficschool.net
SUMMARY:4 hour class: 9am-1pm Live Streaming class via Zoom. email link 20 minutes before class Central Time
DESCRIPTION:
URL:https://abctrafficschool.net/event/4-hour-class-9am-1pm-live-streaming-class-via-zoom-email-link-20-minutes-before-class-central-time/
END:VEVENT
BEGIN:VEVENT
DTSTART;TZID=America/Chicago:20240303T170000
DTEND;TZID=America/Chicago:20240303T210000
DTSTAMP:20260421T182544
CREATED:20240112T082252Z
LAST-MODIFIED:20240112T082252Z
UID:9961-1709485200-1709499600@abctrafficschool.net
SUMMARY:4 hour class: 5-9pm Live Streaming class via Zoom. email link 20 minutes before class Central Time
DESCRIPTION:
URL:https://abctrafficschool.net/event/4-hour-class-5-9pm-live-streaming-class-via-zoom-email-link-20-minutes-before-class-central-time-2/
END:VEVENT
BEGIN:VEVENT
DTSTART;TZID=America/Chicago:20240303T130000
DTEND;TZID=America/Chicago:20240303T210000
DTSTAMP:20260421T182544
CREATED:20240112T082054Z
LAST-MODIFIED:20240112T082054Z
UID:9959-1709470800-1709499600@abctrafficschool.net
SUMMARY:8 hour class: 1-9pm Live Streaming class via Zoom. email link 20 minutes before class Central Time
DESCRIPTION:
URL:https://abctrafficschool.net/event/8-hour-class-1-9pm-live-streaming-class-via-zoom-email-link-20-minutes-before-class-central-time/
END:VEVENT
BEGIN:VEVENT
DTSTART;TZID=America/Chicago:20240303T130000
DTEND;TZID=America/Chicago:20240303T170000
DTSTAMP:20260421T182544
CREATED:20240112T081912Z
LAST-MODIFIED:20240112T081912Z
UID:9955-1709470800-1709485200@abctrafficschool.net
SUMMARY:4 hour class: 1-5pm Live Streaming class via Zoom. email link 20 minutes before class Central Time
DESCRIPTION:
URL:https://abctrafficschool.net/event/4-hour-class-1-5pm-live-streaming-class-via-zoom-email-link-20-minutes-before-class-central-time/
END:VEVENT
BEGIN:VEVENT
DTSTART;TZID=America/Chicago:20240228T130000
DTEND;TZID=America/Chicago:20240228T170000
DTSTAMP:20260421T182544
CREATED:20231212T201929Z
LAST-MODIFIED:20231212T201929Z
UID:9938-1709125200-1709139600@abctrafficschool.net
SUMMARY:4 hour class: 1-5pm Live Streaming class via Zoom. You get email link 20 minutes before class CDT
DESCRIPTION:
URL:https://abctrafficschool.net/event/4-hour-class-1-5pm-live-streaming-class-via-zoom-you-get-email-link-20-minutes-before-class-cdt-203/
END:VEVENT
BEGIN:VEVENT
DTSTART;TZID=America/Chicago:20240228T090000
DTEND;TZID=America/Chicago:20240228T170000
DTSTAMP:20260421T182544
CREATED:20231212T202012Z
LAST-MODIFIED:20231212T202012Z
UID:9940-1709110800-1709139600@abctrafficschool.net
SUMMARY:8 hour class: 9am-5pm Live Streaming class via Zoom. You get email link 20 minutes before class CDT
DESCRIPTION:
URL:https://abctrafficschool.net/event/8-hour-class-9am-5pm-live-streaming-class-via-zoom-you-get-email-link-20-minutes-before-class-cdt-137/
END:VEVENT
BEGIN:VEVENT
DTSTART;TZID=America/Chicago:20240228T090000
DTEND;TZID=America/Chicago:20240228T130000
DTSTAMP:20260421T182544
CREATED:20231212T201841Z
LAST-MODIFIED:20231212T201841Z
UID:9936-1709110800-1709125200@abctrafficschool.net
SUMMARY:4 hour class: 9am-1pm Live Streaming class via Zoom. You get email link 20 minutes before class CDT
DESCRIPTION:
URL:https://abctrafficschool.net/event/4-hour-class-9am-1pm-live-streaming-class-via-zoom-you-get-email-link-20-minutes-before-class-cdt-142/
END:VEVENT
BEGIN:VEVENT
DTSTART;TZID=America/Chicago:20240225T170000
DTEND;TZID=America/Chicago:20240225T210000
DTSTAMP:20260421T182544
CREATED:20231103T181827Z
LAST-MODIFIED:20231103T181827Z
UID:9867-1708880400-1708894800@abctrafficschool.net
SUMMARY:4 hour class: Franklin Drury Hotel 5-9pm
DESCRIPTION:5-
URL:https://abctrafficschool.net/event/4-hour-class-franklin-drury-hotel-5-9pm-78/
END:VEVENT
BEGIN:VEVENT
DTSTART;TZID=America/Chicago:20240225T130000
DTEND;TZID=America/Chicago:20240225T210000
DTSTAMP:20260421T182544
CREATED:20231103T181925Z
LAST-MODIFIED:20231103T181925Z
UID:9869-1708866000-1708894800@abctrafficschool.net
SUMMARY:8 hour class: Franklin Drury Hotel 1-9pm
DESCRIPTION:
URL:https://abctrafficschool.net/event/8-hour-class-franklin-drury-hotel-1-9pm-79/
END:VEVENT
BEGIN:VEVENT
DTSTART;TZID=America/Chicago:20240225T130000
DTEND;TZID=America/Chicago:20240225T170000
DTSTAMP:20260421T182544
CREATED:20231103T181729Z
LAST-MODIFIED:20231103T181729Z
UID:9865-1708866000-1708880400@abctrafficschool.net
SUMMARY:4 hour class: Franklin Drury Hotel 1-5pm
DESCRIPTION:4 hour class: Franklin Drury Hotel 1-5pm
URL:https://abctrafficschool.net/event/4-hour-class-franklin-drury-hotel-1-5pm-80/
END:VEVENT
BEGIN:VEVENT
DTSTART;TZID=America/Chicago:20240224T080000
DTEND;TZID=America/Chicago:20240224T160000
DTSTAMP:20260421T182544
CREATED:20231212T195453Z
LAST-MODIFIED:20231212T195453Z
UID:9894-1708761600-1708790400@abctrafficschool.net
SUMMARY:8 hour class: 8am-4pm Live Streaming class via Zoom. You get email link 20 minutes before class CDT
DESCRIPTION:
URL:https://abctrafficschool.net/event/8-hour-class-8am-4pm-live-streaming-class-via-zoom-you-get-email-link-20-minutes-before-class-cdt-38/
END:VEVENT
BEGIN:VEVENT
DTSTART;TZID=America/Chicago:20240224T080000
DTEND;TZID=America/Chicago:20240224T120000
DTSTAMP:20260421T182544
CREATED:20231212T195349Z
LAST-MODIFIED:20231212T195349Z
UID:9892-1708761600-1708776000@abctrafficschool.net
SUMMARY:4 hour class: 8am-12noon Live Streaming class via Zoom. You get email link 20 minutes before class CDT
DESCRIPTION:
URL:https://abctrafficschool.net/event/4-hour-class-8am-12noon-live-streaming-class-via-zoom-you-get-email-link-20-minutes-before-class-cdt-42/
END:VEVENT
BEGIN:VEVENT
DTSTART;TZID=America/Chicago:20240221T130000
DTEND;TZID=America/Chicago:20240221T170000
DTSTAMP:20260421T182544
CREATED:20231212T201710Z
LAST-MODIFIED:20231212T201710Z
UID:9932-1708520400-1708534800@abctrafficschool.net
SUMMARY:4 hour class: 1-5pm Live Streaming class via Zoom. You get email link 20 minutes before class CDT
DESCRIPTION:
URL:https://abctrafficschool.net/event/4-hour-class-1-5pm-live-streaming-class-via-zoom-you-get-email-link-20-minutes-before-class-cdt-202/
END:VEVENT
BEGIN:VEVENT
DTSTART;TZID=America/Chicago:20240221T090000
DTEND;TZID=America/Chicago:20240221T170000
DTSTAMP:20260421T182544
CREATED:20231212T201801Z
LAST-MODIFIED:20231212T201801Z
UID:9934-1708506000-1708534800@abctrafficschool.net
SUMMARY:8 hour class: 9am-5pm Live Streaming class via Zoom. You get email link 20 minutes before class CDT
DESCRIPTION:
URL:https://abctrafficschool.net/event/8-hour-class-9am-5pm-live-streaming-class-via-zoom-you-get-email-link-20-minutes-before-class-cdt-136/
END:VEVENT
BEGIN:VEVENT
DTSTART;TZID=America/Chicago:20240221T090000
DTEND;TZID=America/Chicago:20240221T130000
DTSTAMP:20260421T182544
CREATED:20231212T201625Z
LAST-MODIFIED:20231212T201625Z
UID:9930-1708506000-1708520400@abctrafficschool.net
SUMMARY:4 hour class: 9am-1pm Live Streaming class via Zoom. You get email link 20 minutes before class CDT
DESCRIPTION:
URL:https://abctrafficschool.net/event/4-hour-class-9am-1pm-live-streaming-class-via-zoom-you-get-email-link-20-minutes-before-class-cdt-141/
END:VEVENT
BEGIN:VEVENT
DTSTART;TZID=America/Chicago:20240218T170000
DTEND;TZID=America/Chicago:20240218T210000
DTSTAMP:20260421T182544
CREATED:20231212T200303Z
LAST-MODIFIED:20231212T200303Z
UID:9904-1708275600-1708290000@abctrafficschool.net
SUMMARY:4 hour class: 5-9pm Live Streaming class via Zoom. You get email link 20 minutes before class CDT
DESCRIPTION:
URL:https://abctrafficschool.net/event/4-hour-class-5-9pm-live-streaming-class-via-zoom-you-get-email-link-20-minutes-before-class-cdt-83/
END:VEVENT
BEGIN:VEVENT
DTSTART;TZID=America/Chicago:20240218T130000
DTEND;TZID=America/Chicago:20240218T210000
DTSTAMP:20260421T182544
CREATED:20231212T200400Z
LAST-MODIFIED:20231212T200400Z
UID:9906-1708261200-1708290000@abctrafficschool.net
SUMMARY:8 hour class: 1-9pm Live Streaming class via Zoom. You get email link 20 minutes before class CDT
DESCRIPTION:
URL:https://abctrafficschool.net/event/8-hour-class-1-9pm-live-streaming-class-via-zoom-you-get-email-link-20-minutes-before-class-cdt-66/
END:VEVENT
BEGIN:VEVENT
DTSTART;TZID=America/Chicago:20240218T130000
DTEND;TZID=America/Chicago:20240218T170000
DTSTAMP:20260421T182544
CREATED:20231212T200155Z
LAST-MODIFIED:20231212T200155Z
UID:9902-1708261200-1708275600@abctrafficschool.net
SUMMARY:4 hour class: 1-5pm Live Streaming class via Zoom. You get email link 20 minutes before class CDT
DESCRIPTION:
URL:https://abctrafficschool.net/event/4-hour-class-1-5pm-live-streaming-class-via-zoom-you-get-email-link-20-minutes-before-class-cdt-198/
END:VEVENT
BEGIN:VEVENT
DTSTART;TZID=America/Chicago:20240217T080000
DTEND;TZID=America/Chicago:20240217T160000
DTSTAMP:20260421T182544
CREATED:20231103T180148Z
LAST-MODIFIED:20231103T180148Z
UID:9845-1708156800-1708185600@abctrafficschool.net
SUMMARY:8 hour class: Franklin Drury Hotel 8am-4pm
DESCRIPTION:
URL:https://abctrafficschool.net/event/8-hour-class-franklin-drury-hotel-8am-4pm-24/
END:VEVENT
BEGIN:VEVENT
DTSTART;TZID=America/Chicago:20240217T080000
DTEND;TZID=America/Chicago:20240217T120000
DTSTAMP:20260421T182544
CREATED:20231103T180054Z
LAST-MODIFIED:20231103T180054Z
UID:9843-1708156800-1708171200@abctrafficschool.net
SUMMARY:4 hour class: Franklin Drury Hotel 8am-12noon
DESCRIPTION:
URL:https://abctrafficschool.net/event/4-hour-class-franklin-drury-hotel-8am-12noon-24/
END:VEVENT
BEGIN:VEVENT
DTSTART;TZID=America/Chicago:20240213T170000
DTEND;TZID=America/Chicago:20240213T210000
DTSTAMP:20260421T182544
CREATED:20231212T201435Z
LAST-MODIFIED:20231212T201435Z
UID:9926-1707843600-1707858000@abctrafficschool.net
SUMMARY:4 hour class: 5-9pm Live Streaming class via Zoom. You get email link 20 minutes before class CDT
DESCRIPTION:
URL:https://abctrafficschool.net/event/4-hour-class-5-9pm-live-streaming-class-via-zoom-you-get-email-link-20-minutes-before-class-cdt-85/
END:VEVENT
BEGIN:VEVENT
DTSTART;TZID=America/Chicago:20240213T130000
DTEND;TZID=America/Chicago:20240213T170000
DTSTAMP:20260421T182544
CREATED:20231212T201344Z
LAST-MODIFIED:20231212T201344Z
UID:9924-1707829200-1707843600@abctrafficschool.net
SUMMARY:4 hour class: 1-5pm Live Streaming class via Zoom. You get email link 20 minutes before class CDT
DESCRIPTION:
URL:https://abctrafficschool.net/event/4-hour-class-1-5pm-live-streaming-class-via-zoom-you-get-email-link-20-minutes-before-class-cdt-201/
END:VEVENT
BEGIN:VEVENT
DTSTART;TZID=America/Chicago:20240213T090000
DTEND;TZID=America/Chicago:20240213T170000
DTSTAMP:20260421T182544
CREATED:20231212T201526Z
LAST-MODIFIED:20231212T201526Z
UID:9928-1707814800-1707843600@abctrafficschool.net
SUMMARY:8 hour class: 9am-5pm Live Streaming class via Zoom. You get email link 20 minutes before class CDT
DESCRIPTION:
URL:https://abctrafficschool.net/event/8-hour-class-9am-5pm-live-streaming-class-via-zoom-you-get-email-link-20-minutes-before-class-cdt-135/
END:VEVENT
BEGIN:VEVENT
DTSTART;TZID=America/Chicago:20240213T090000
DTEND;TZID=America/Chicago:20240213T130000
DTSTAMP:20260421T182544
CREATED:20231212T201254Z
LAST-MODIFIED:20231212T201254Z
UID:9922-1707814800-1707829200@abctrafficschool.net
SUMMARY:4 hour class: 9am-1pm Live Streaming class via Zoom. You get email link 20 minutes before class CDT
DESCRIPTION:
URL:https://abctrafficschool.net/event/4-hour-class-9am-1pm-live-streaming-class-via-zoom-you-get-email-link-20-minutes-before-class-cdt-140/
END:VEVENT
BEGIN:VEVENT
DTSTART;TZID=America/Chicago:20240210T080000
DTEND;TZID=America/Chicago:20240210T160000
DTSTAMP:20260421T182544
CREATED:20231212T195313Z
LAST-MODIFIED:20231212T195313Z
UID:9890-1707552000-1707580800@abctrafficschool.net
SUMMARY:8 hour class: 8am-4pm Live Streaming class via Zoom. You get email link 20 minutes before class CDT
DESCRIPTION:
URL:https://abctrafficschool.net/event/8-hour-class-8am-4pm-live-streaming-class-via-zoom-you-get-email-link-20-minutes-before-class-cdt-37/
END:VEVENT
BEGIN:VEVENT
DTSTART;TZID=America/Chicago:20240210T080000
DTEND;TZID=America/Chicago:20240210T120000
DTSTAMP:20260421T182544
CREATED:20231212T195218Z
LAST-MODIFIED:20231212T195218Z
UID:9888-1707552000-1707566400@abctrafficschool.net
SUMMARY:4 hour class: 8am-12noon Live Streaming class via Zoom. You get email link 20 minutes before class CDT
DESCRIPTION:
URL:https://abctrafficschool.net/event/4-hour-class-8am-12noon-live-streaming-class-via-zoom-you-get-email-link-20-minutes-before-class-cdt-41/
END:VEVENT
BEGIN:VEVENT
DTSTART;TZID=America/Chicago:20240207T170000
DTEND;TZID=America/Chicago:20240207T210000
DTSTAMP:20260421T182544
CREATED:20231212T201050Z
LAST-MODIFIED:20231212T201050Z
UID:9918-1707325200-1707339600@abctrafficschool.net
SUMMARY:4 hour class: 5-9pm Live Streaming class via Zoom. You get email link 20 minutes before class CDT
DESCRIPTION:
URL:https://abctrafficschool.net/event/4-hour-class-5-9pm-live-streaming-class-via-zoom-you-get-email-link-20-minutes-before-class-cdt-84/
END:VEVENT
BEGIN:VEVENT
DTSTART;TZID=America/Chicago:20240207T130000
DTEND;TZID=America/Chicago:20240207T170000
DTSTAMP:20260421T182544
CREATED:20231212T200957Z
LAST-MODIFIED:20231212T200957Z
UID:9916-1707310800-1707325200@abctrafficschool.net
SUMMARY:4 hour class: 1-5pm Live Streaming class via Zoom. You get email link 20 minutes before class CDT
DESCRIPTION:
URL:https://abctrafficschool.net/event/4-hour-class-1-5pm-live-streaming-class-via-zoom-you-get-email-link-20-minutes-before-class-cdt-200/
END:VEVENT
BEGIN:VEVENT
DTSTART;TZID=America/Chicago:20240207T090000
DTEND;TZID=America/Chicago:20240207T170000
DTSTAMP:20260421T182544
CREATED:20231212T201159Z
LAST-MODIFIED:20231212T201159Z
UID:9920-1707296400-1707325200@abctrafficschool.net
SUMMARY:8 hour class: 9am-5pm Live Streaming class via Zoom. You get email link 20 minutes before class CDT
DESCRIPTION:
URL:https://abctrafficschool.net/event/8-hour-class-9am-5pm-live-streaming-class-via-zoom-you-get-email-link-20-minutes-before-class-cdt-134/
END:VEVENT
END:VCALENDAR