BEGIN:VCALENDAR
VERSION:2.0
PRODID:-//ABC Traffic School - ECPv6.15.16//NONSGML v1.0//EN
CALSCALE:GREGORIAN
METHOD:PUBLISH
X-WR-CALNAME:ABC Traffic School
X-ORIGINAL-URL:https://abctrafficschool.net
X-WR-CALDESC:Events for ABC Traffic School
REFRESH-INTERVAL;VALUE=DURATION:PT1H
X-Robots-Tag:noindex
X-PUBLISHED-TTL:PT1H
BEGIN:VTIMEZONE
TZID:America/Chicago
BEGIN:DAYLIGHT
TZOFFSETFROM:-0600
TZOFFSETTO:-0500
TZNAME:CDT
DTSTART:20220313T080000
END:DAYLIGHT
BEGIN:STANDARD
TZOFFSETFROM:-0500
TZOFFSETTO:-0600
TZNAME:CST
DTSTART:20221106T070000
END:STANDARD
BEGIN:DAYLIGHT
TZOFFSETFROM:-0600
TZOFFSETTO:-0500
TZNAME:CDT
DTSTART:20230312T080000
END:DAYLIGHT
BEGIN:STANDARD
TZOFFSETFROM:-0500
TZOFFSETTO:-0600
TZNAME:CST
DTSTART:20231105T070000
END:STANDARD
BEGIN:DAYLIGHT
TZOFFSETFROM:-0600
TZOFFSETTO:-0500
TZNAME:CDT
DTSTART:20240310T080000
END:DAYLIGHT
BEGIN:STANDARD
TZOFFSETFROM:-0500
TZOFFSETTO:-0600
TZNAME:CST
DTSTART:20241103T070000
END:STANDARD
END:VTIMEZONE
BEGIN:VEVENT
DTSTART;TZID=America/Chicago:20231217T170000
DTEND;TZID=America/Chicago:20231217T210000
DTSTAMP:20260422T071706
CREATED:20231010T163605Z
LAST-MODIFIED:20231010T163605Z
UID:9779-1702832400-1702846800@abctrafficschool.net
SUMMARY:4 hour class: 5-9pm Live Streaming class via Zoom. You get email link 20 minutes before class CDT
DESCRIPTION:4 hour class: 1-5pm Live Streaming class via Zoom. You get email link 20 minutes before class CDT
URL:https://abctrafficschool.net/event/4-hour-class-5-9pm-live-streaming-class-via-zoom-you-get-email-link-20-minutes-before-class-cdt-81/
END:VEVENT
BEGIN:VEVENT
DTSTART;TZID=America/Chicago:20231217T130000
DTEND;TZID=America/Chicago:20231217T210000
DTSTAMP:20260422T071706
CREATED:20231010T163650Z
LAST-MODIFIED:20231010T163650Z
UID:9781-1702818000-1702846800@abctrafficschool.net
SUMMARY:8 hour class: 1-9pm Live Streaming class via Zoom. You get email link 20 minutes before class CDT
DESCRIPTION:4 hour class: 1-5pm Live Streaming class via Zoom. You get email link 20 minutes before class CDT
URL:https://abctrafficschool.net/event/8-hour-class-1-9pm-live-streaming-class-via-zoom-you-get-email-link-20-minutes-before-class-cdt-64/
END:VEVENT
BEGIN:VEVENT
DTSTART;TZID=America/Chicago:20231217T130000
DTEND;TZID=America/Chicago:20231217T170000
DTSTAMP:20260422T071706
CREATED:20231010T163515Z
LAST-MODIFIED:20231010T163515Z
UID:9777-1702818000-1702832400@abctrafficschool.net
SUMMARY:4 hour class: 1-5pm Live Streaming class via Zoom. You get email link 20 minutes before class CDT
DESCRIPTION:4 hour class: 1-5pm Live Streaming class via Zoom. You get email link 20 minutes before class CDT
URL:https://abctrafficschool.net/event/4-hour-class-1-5pm-live-streaming-class-via-zoom-you-get-email-link-20-minutes-before-class-cdt-188/
END:VEVENT
BEGIN:VEVENT
DTSTART;TZID=America/Chicago:20231213T130000
DTEND;TZID=America/Chicago:20231213T170000
DTSTAMP:20260422T071706
CREATED:20231010T164200Z
LAST-MODIFIED:20231010T164200Z
UID:9791-1702472400-1702486800@abctrafficschool.net
SUMMARY:4 hour class: 1-5pm Live Streaming class via Zoom. You get email link 20 minutes before class CDT
DESCRIPTION:4 hour class: 9am-1pm Live Streaming class via Zoom. You get email link 20 minutes before class CDT
URL:https://abctrafficschool.net/event/4-hour-class-1-5pm-live-streaming-class-via-zoom-you-get-email-link-20-minutes-before-class-cdt-190/
END:VEVENT
BEGIN:VEVENT
DTSTART;TZID=America/Chicago:20231213T090000
DTEND;TZID=America/Chicago:20231213T170000
DTSTAMP:20260422T071706
CREATED:20231010T164240Z
LAST-MODIFIED:20231010T164240Z
UID:9793-1702458000-1702486800@abctrafficschool.net
SUMMARY:8 hour class: 9am-5pm Live Streaming class via Zoom. You get email link 20 minutes before class CDT
DESCRIPTION:
URL:https://abctrafficschool.net/event/8-hour-class-9am-5pm-live-streaming-class-via-zoom-you-get-email-link-20-minutes-before-class-cdt-126/
END:VEVENT
BEGIN:VEVENT
DTSTART;TZID=America/Chicago:20231213T090000
DTEND;TZID=America/Chicago:20231213T130000
DTSTAMP:20260422T071706
CREATED:20231010T164107Z
LAST-MODIFIED:20231010T164107Z
UID:9789-1702458000-1702472400@abctrafficschool.net
SUMMARY:4 hour class: 9am-1pm Live Streaming class via Zoom. You get email link 20 minutes before class CDT
DESCRIPTION:4 hour class: 9am-1pm Live Streaming class via Zoom. You get email link 20 minutes before class CDT
URL:https://abctrafficschool.net/event/4-hour-class-9am-1pm-live-streaming-class-via-zoom-you-get-email-link-20-minutes-before-class-cdt-131/
END:VEVENT
BEGIN:VEVENT
DTSTART;TZID=America/Chicago:20231210T170000
DTEND;TZID=America/Chicago:20231210T210000
DTSTAMP:20260422T071706
CREATED:20231010T163336Z
LAST-MODIFIED:20231010T163336Z
UID:9773-1702227600-1702242000@abctrafficschool.net
SUMMARY:4 hour class: 5-9pm Live Streaming class via Zoom. You get email link 20 minutes before class CDT
DESCRIPTION:4 hour class: 1-5pm Live Streaming class via Zoom. You get email link 20 minutes before class CDT
URL:https://abctrafficschool.net/event/4-hour-class-5-9pm-live-streaming-class-via-zoom-you-get-email-link-20-minutes-before-class-cdt-80/
END:VEVENT
BEGIN:VEVENT
DTSTART;TZID=America/Chicago:20231210T130000
DTEND;TZID=America/Chicago:20231210T210000
DTSTAMP:20260422T071706
CREATED:20231010T163428Z
LAST-MODIFIED:20231010T163428Z
UID:9775-1702213200-1702242000@abctrafficschool.net
SUMMARY:8 hour class: 1-9pm Live Streaming class via Zoom. You get email link 20 minutes before class CDT
DESCRIPTION:4 hour class: 1-5pm Live Streaming class via Zoom. You get email link 20 minutes before class CDT
URL:https://abctrafficschool.net/event/8-hour-class-1-9pm-live-streaming-class-via-zoom-you-get-email-link-20-minutes-before-class-cdt-63/
END:VEVENT
BEGIN:VEVENT
DTSTART;TZID=America/Chicago:20231210T130000
DTEND;TZID=America/Chicago:20231210T170000
DTSTAMP:20260422T071706
CREATED:20231010T163240Z
LAST-MODIFIED:20231010T163240Z
UID:9771-1702213200-1702227600@abctrafficschool.net
SUMMARY:4 hour class: 1-5pm Live Streaming class via Zoom. You get email link 20 minutes before class CDT
DESCRIPTION:
URL:https://abctrafficschool.net/event/4-hour-class-1-5pm-live-streaming-class-via-zoom-you-get-email-link-20-minutes-before-class-cdt-187/
END:VEVENT
BEGIN:VEVENT
DTSTART;TZID=America/Chicago:20231209T080000
DTEND;TZID=America/Chicago:20231209T160000
DTSTAMP:20260422T071706
CREATED:20230918T164251Z
LAST-MODIFIED:20230918T164251Z
UID:9713-1702108800-1702137600@abctrafficschool.net
SUMMARY:8 hour class: Franklin Drury Hotel 8am-4pm
DESCRIPTION:
URL:https://abctrafficschool.net/event/8-hour-class-franklin-drury-hotel-8am-4pm-22/
END:VEVENT
BEGIN:VEVENT
DTSTART;TZID=America/Chicago:20231209T080000
DTEND;TZID=America/Chicago:20231209T120000
DTSTAMP:20260422T071706
CREATED:20230918T164154Z
LAST-MODIFIED:20230918T164154Z
UID:9711-1702108800-1702123200@abctrafficschool.net
SUMMARY:4 hour class: Franklin Drury Hotel 8am-12noon
DESCRIPTION:
URL:https://abctrafficschool.net/event/4-hour-class-franklin-drury-hotel-8am-12noon-22/
END:VEVENT
BEGIN:VEVENT
DTSTART;TZID=America/Chicago:20231206T130000
DTEND;TZID=America/Chicago:20231206T170000
DTSTAMP:20260422T071706
CREATED:20231010T163927Z
LAST-MODIFIED:20231010T163927Z
UID:9785-1701867600-1701882000@abctrafficschool.net
SUMMARY:4 hour class: 1-5pm Live Streaming class via Zoom. You get email link 20 minutes before class CDT
DESCRIPTION:4 hour class: 9am-1pm Live Streaming class via Zoom. You get email link 20 minutes before class CDT
URL:https://abctrafficschool.net/event/4-hour-class-1-5pm-live-streaming-class-via-zoom-you-get-email-link-20-minutes-before-class-cdt-189/
END:VEVENT
BEGIN:VEVENT
DTSTART;TZID=America/Chicago:20231206T090000
DTEND;TZID=America/Chicago:20231206T170000
DTSTAMP:20260422T071706
CREATED:20231010T164019Z
LAST-MODIFIED:20231010T164019Z
UID:9787-1701853200-1701882000@abctrafficschool.net
SUMMARY:8 hour class: 9am-5pm Live Streaming class via Zoom. You get email link 20 minutes before class CDT
DESCRIPTION:4 hour class: 9am-1pm Live Streaming class via Zoom. You get email link 20 minutes before class CDT
URL:https://abctrafficschool.net/event/8-hour-class-9am-5pm-live-streaming-class-via-zoom-you-get-email-link-20-minutes-before-class-cdt-125/
END:VEVENT
BEGIN:VEVENT
DTSTART;TZID=America/Chicago:20231206T090000
DTEND;TZID=America/Chicago:20231206T130000
DTSTAMP:20260422T071706
CREATED:20231010T163845Z
LAST-MODIFIED:20231010T163845Z
UID:9783-1701853200-1701867600@abctrafficschool.net
SUMMARY:4 hour class: 9am-1pm Live Streaming class via Zoom. You get email link 20 minutes before class CDT
DESCRIPTION:4 hour class: 9am-1pm Live Streaming class via Zoom. You get email link 20 minutes before class CDT
URL:https://abctrafficschool.net/event/4-hour-class-9am-1pm-live-streaming-class-via-zoom-you-get-email-link-20-minutes-before-class-cdt-130/
END:VEVENT
BEGIN:VEVENT
DTSTART;TZID=America/Chicago:20231203T170000
DTEND;TZID=America/Chicago:20231203T210000
DTSTAMP:20260422T071706
CREATED:20230918T164757Z
LAST-MODIFIED:20230918T164757Z
UID:9723-1701622800-1701637200@abctrafficschool.net
SUMMARY:4 hour class: Franklin Drury Hotel 5-9pm
DESCRIPTION:
URL:https://abctrafficschool.net/event/4-hour-class-franklin-drury-hotel-5-9pm-74/
END:VEVENT
BEGIN:VEVENT
DTSTART;TZID=America/Chicago:20231203T130000
DTEND;TZID=America/Chicago:20231203T210000
DTSTAMP:20260422T071706
CREATED:20230918T165116Z
LAST-MODIFIED:20230918T165116Z
UID:9729-1701608400-1701637200@abctrafficschool.net
SUMMARY:8 hour class: Franklin Drury Hotel 1-9pm
DESCRIPTION:
URL:https://abctrafficschool.net/event/8-hour-class-franklin-drury-hotel-1-9pm-77/
END:VEVENT
BEGIN:VEVENT
DTSTART;TZID=America/Chicago:20231203T130000
DTEND;TZID=America/Chicago:20231203T170000
DTSTAMP:20260422T071706
CREATED:20230918T164709Z
LAST-MODIFIED:20230918T164709Z
UID:9721-1701608400-1701622800@abctrafficschool.net
SUMMARY:4 hour class: Franklin Drury Hotel 1-5pm
DESCRIPTION:
URL:https://abctrafficschool.net/event/4-hour-class-franklin-drury-hotel-1-5pm-76/
END:VEVENT
BEGIN:VEVENT
DTSTART;TZID=America/Chicago:20231202T080000
DTEND;TZID=America/Chicago:20231202T160000
DTSTAMP:20260422T071706
CREATED:20231010T162544Z
LAST-MODIFIED:20231010T162544Z
UID:9759-1701504000-1701532800@abctrafficschool.net
SUMMARY:8 hour class: 8am-4pm Live Streaming class via Zoom. You get email link 20 minutes before class CDT
DESCRIPTION:4 hour class: 8am-12noon Live Streaming class via Zoom. You get email link 20 minutes before class CDT
URL:https://abctrafficschool.net/event/8-hour-class-8am-4pm-live-streaming-class-via-zoom-you-get-email-link-20-minutes-before-class-cdt-31/
END:VEVENT
BEGIN:VEVENT
DTSTART;TZID=America/Chicago:20231202T080000
DTEND;TZID=America/Chicago:20231202T120000
DTSTAMP:20260422T071706
CREATED:20231010T162450Z
LAST-MODIFIED:20231010T162450Z
UID:9757-1701504000-1701518400@abctrafficschool.net
SUMMARY:4 hour class: 8am-12noon Live Streaming class via Zoom. You get email link 20 minutes before class CDT
DESCRIPTION:
URL:https://abctrafficschool.net/event/4-hour-class-8am-12noon-live-streaming-class-via-zoom-you-get-email-link-20-minutes-before-class-cdt-35/
END:VEVENT
BEGIN:VEVENT
DTSTART;TZID=America/Chicago:20231128T130000
DTEND;TZID=America/Chicago:20231128T170000
DTSTAMP:20260422T071706
CREATED:20230908T123939Z
LAST-MODIFIED:20230908T123939Z
UID:9706-1701176400-1701190800@abctrafficschool.net
SUMMARY:4 hour class: 1-5pm Live Streaming class via Zoom. You get email link 20 minutes before class CDT
DESCRIPTION:
URL:https://abctrafficschool.net/event/4-hour-class-1-5pm-live-streaming-class-via-zoom-you-get-email-link-20-minutes-before-class-cdt-185/
END:VEVENT
BEGIN:VEVENT
DTSTART;TZID=America/Chicago:20231128T090000
DTEND;TZID=America/Chicago:20231128T170000
DTSTAMP:20260422T071706
CREATED:20230908T124014Z
LAST-MODIFIED:20230908T124014Z
UID:9708-1701162000-1701190800@abctrafficschool.net
SUMMARY:8 hour class: 9am-5pm Live Streaming class via Zoom. You get email link 20 minutes before class CDT
DESCRIPTION:
URL:https://abctrafficschool.net/event/8-hour-class-9am-5pm-live-streaming-class-via-zoom-you-get-email-link-20-minutes-before-class-cdt-124/
END:VEVENT
BEGIN:VEVENT
DTSTART;TZID=America/Chicago:20231128T090000
DTEND;TZID=America/Chicago:20231128T130000
DTSTAMP:20260422T071706
CREATED:20230908T123903Z
LAST-MODIFIED:20230908T123903Z
UID:9704-1701162000-1701176400@abctrafficschool.net
SUMMARY:4 hour class: 9am-1pm Live Streaming class via Zoom. You get email link 20 minutes before class CDT
DESCRIPTION:
URL:https://abctrafficschool.net/event/4-hour-class-9am-1pm-live-streaming-class-via-zoom-you-get-email-link-20-minutes-before-class-cdt-129/
END:VEVENT
BEGIN:VEVENT
DTSTART;TZID=America/Chicago:20231126T170000
DTEND;TZID=America/Chicago:20231126T210000
DTSTAMP:20260422T071706
CREATED:20231010T163010Z
LAST-MODIFIED:20231010T163010Z
UID:9767-1701018000-1701032400@abctrafficschool.net
SUMMARY:4 hour class: 5-9pm Live Streaming class via Zoom. You get email link 20 minutes before class CDT
DESCRIPTION:4 hour class: 1-5pm Live Streaming class via Zoom. You get email link 20 minutes before class CDT
URL:https://abctrafficschool.net/event/4-hour-class-5-9pm-live-streaming-class-via-zoom-you-get-email-link-20-minutes-before-class-cdt-79/
END:VEVENT
BEGIN:VEVENT
DTSTART;TZID=America/Chicago:20231126T130000
DTEND;TZID=America/Chicago:20231126T210000
DTSTAMP:20260422T071706
CREATED:20231010T163106Z
LAST-MODIFIED:20231010T163106Z
UID:9769-1701003600-1701032400@abctrafficschool.net
SUMMARY:8 hour class: 1-9pm Live Streaming class via Zoom. You get email link 20 minutes before class CDT
DESCRIPTION:4 hour class: 1-5pm Live Streaming class via Zoom. You get email link 20 minutes before class CDT
URL:https://abctrafficschool.net/event/8-hour-class-1-9pm-live-streaming-class-via-zoom-you-get-email-link-20-minutes-before-class-cdt-62/
END:VEVENT
BEGIN:VEVENT
DTSTART;TZID=America/Chicago:20231126T130000
DTEND;TZID=America/Chicago:20231126T170000
DTSTAMP:20260422T071706
CREATED:20231010T162925Z
LAST-MODIFIED:20231010T162925Z
UID:9765-1701003600-1701018000@abctrafficschool.net
SUMMARY:4 hour class: 1-5pm Live Streaming class via Zoom. You get email link 20 minutes before class CDT
DESCRIPTION:4 hour class: 1-5pm Live Streaming class via Zoom. You get email link 20 minutes before class CDT
URL:https://abctrafficschool.net/event/4-hour-class-1-5pm-live-streaming-class-via-zoom-you-get-email-link-20-minutes-before-class-cdt-186/
END:VEVENT
BEGIN:VEVENT
DTSTART;TZID=America/Chicago:20231121T130000
DTEND;TZID=America/Chicago:20231121T170000
DTSTAMP:20260422T071706
CREATED:20230908T123736Z
LAST-MODIFIED:20230908T123736Z
UID:9700-1700571600-1700586000@abctrafficschool.net
SUMMARY:4 hour class: 1-5pm Live Streaming class via Zoom. You get email link 20 minutes before class CDT
DESCRIPTION:
URL:https://abctrafficschool.net/event/4-hour-class-1-5pm-live-streaming-class-via-zoom-you-get-email-link-20-minutes-before-class-cdt-184/
END:VEVENT
BEGIN:VEVENT
DTSTART;TZID=America/Chicago:20231121T090000
DTEND;TZID=America/Chicago:20231121T170000
DTSTAMP:20260422T071706
CREATED:20230908T123817Z
LAST-MODIFIED:20230908T123817Z
UID:9702-1700557200-1700586000@abctrafficschool.net
SUMMARY:8 hour class: 9am-5pm Live Streaming class via Zoom. You get email link 20 minutes before class CDT
DESCRIPTION:
URL:https://abctrafficschool.net/event/8-hour-class-9am-5pm-live-streaming-class-via-zoom-you-get-email-link-20-minutes-before-class-cdt-123/
END:VEVENT
BEGIN:VEVENT
DTSTART;TZID=America/Chicago:20231121T090000
DTEND;TZID=America/Chicago:20231121T130000
DTSTAMP:20260422T071706
CREATED:20230908T123700Z
LAST-MODIFIED:20230908T123700Z
UID:9698-1700557200-1700571600@abctrafficschool.net
SUMMARY:4 hour class: 9am-1pm Live Streaming class via Zoom. You get email link 20 minutes before class CDT
DESCRIPTION:
URL:https://abctrafficschool.net/event/4-hour-class-9am-1pm-live-streaming-class-via-zoom-you-get-email-link-20-minutes-before-class-cdt-128/
END:VEVENT
BEGIN:VEVENT
DTSTART;TZID=America/Chicago:20231119T170000
DTEND;TZID=America/Chicago:20231119T210000
DTSTAMP:20260422T071706
CREATED:20230918T164530Z
LAST-MODIFIED:20230918T164530Z
UID:9717-1700413200-1700427600@abctrafficschool.net
SUMMARY:4 hour class: Franklin Drury Hotel 5-9pm
DESCRIPTION:
URL:https://abctrafficschool.net/event/4-hour-class-franklin-drury-hotel-5-9pm-73/
END:VEVENT
BEGIN:VEVENT
DTSTART;TZID=America/Chicago:20231119T130000
DTEND;TZID=America/Chicago:20231119T210000
DTSTAMP:20260422T071706
CREATED:20230918T165013Z
LAST-MODIFIED:20230918T165013Z
UID:9727-1700398800-1700427600@abctrafficschool.net
SUMMARY:8 hour class: Franklin Drury Hotel 1-9pm
DESCRIPTION:
URL:https://abctrafficschool.net/event/8-hour-class-franklin-drury-hotel-1-9pm-76/
END:VEVENT
END:VCALENDAR