BEGIN:VCALENDAR
VERSION:2.0
PRODID:-//ABC Traffic School - ECPv6.15.16//NONSGML v1.0//EN
CALSCALE:GREGORIAN
METHOD:PUBLISH
X-WR-CALNAME:ABC Traffic School
X-ORIGINAL-URL:https://abctrafficschool.net
X-WR-CALDESC:Events for ABC Traffic School
REFRESH-INTERVAL;VALUE=DURATION:PT1H
X-Robots-Tag:noindex
X-PUBLISHED-TTL:PT1H
BEGIN:VTIMEZONE
TZID:America/Chicago
BEGIN:DAYLIGHT
TZOFFSETFROM:-0600
TZOFFSETTO:-0500
TZNAME:CDT
DTSTART:20220313T080000
END:DAYLIGHT
BEGIN:STANDARD
TZOFFSETFROM:-0500
TZOFFSETTO:-0600
TZNAME:CST
DTSTART:20221106T070000
END:STANDARD
BEGIN:DAYLIGHT
TZOFFSETFROM:-0600
TZOFFSETTO:-0500
TZNAME:CDT
DTSTART:20230312T080000
END:DAYLIGHT
BEGIN:STANDARD
TZOFFSETFROM:-0500
TZOFFSETTO:-0600
TZNAME:CST
DTSTART:20231105T070000
END:STANDARD
BEGIN:DAYLIGHT
TZOFFSETFROM:-0600
TZOFFSETTO:-0500
TZNAME:CDT
DTSTART:20240310T080000
END:DAYLIGHT
BEGIN:STANDARD
TZOFFSETFROM:-0500
TZOFFSETTO:-0600
TZNAME:CST
DTSTART:20241103T070000
END:STANDARD
END:VTIMEZONE
BEGIN:VEVENT
DTSTART;TZID=America/Chicago:20231119T130000
DTEND;TZID=America/Chicago:20231119T170000
DTSTAMP:20260422T123030
CREATED:20230918T164434Z
LAST-MODIFIED:20230918T164434Z
UID:9715-1700398800-1700413200@abctrafficschool.net
SUMMARY:4 hour class: Franklin Drury Hotel 1-5pm
DESCRIPTION:
URL:https://abctrafficschool.net/event/4-hour-class-franklin-drury-hotel-1-5pm-75/
END:VEVENT
BEGIN:VEVENT
DTSTART;TZID=America/Chicago:20231118T080000
DTEND;TZID=America/Chicago:20231118T160000
DTSTAMP:20260422T123030
CREATED:20230908T120740Z
LAST-MODIFIED:20230908T120740Z
UID:9632-1700294400-1700323200@abctrafficschool.net
SUMMARY:8 hour class: 8am-4pm Live Streaming class via Zoom. You get email link 20 minutes before class CDT
DESCRIPTION:
URL:https://abctrafficschool.net/event/8-hour-class-8am-4pm-live-streaming-class-via-zoom-you-get-email-link-20-minutes-before-class-cdt-30/
END:VEVENT
BEGIN:VEVENT
DTSTART;TZID=America/Chicago:20231118T080000
DTEND;TZID=America/Chicago:20231118T120000
DTSTAMP:20260422T123030
CREATED:20230908T120650Z
LAST-MODIFIED:20230908T120650Z
UID:9630-1700294400-1700308800@abctrafficschool.net
SUMMARY:4 hour class: 8am-12noon Live Streaming class via Zoom. You get email link 20 minutes before class CDT
DESCRIPTION:
URL:https://abctrafficschool.net/event/4-hour-class-8am-12noon-live-streaming-class-via-zoom-you-get-email-link-20-minutes-before-class-cdt-34/
END:VEVENT
BEGIN:VEVENT
DTSTART;TZID=America/Chicago:20231115T170000
DTEND;TZID=America/Chicago:20231115T210000
DTSTAMP:20260422T123030
CREATED:20230908T123547Z
LAST-MODIFIED:20230908T123547Z
UID:9694-1700067600-1700082000@abctrafficschool.net
SUMMARY:4 hour class: 5-9pm Live Streaming class via Zoom. You get email link 20 minutes before class CDT
DESCRIPTION:
URL:https://abctrafficschool.net/event/4-hour-class-5-9pm-live-streaming-class-via-zoom-you-get-email-link-20-minutes-before-class-cdt-78/
END:VEVENT
BEGIN:VEVENT
DTSTART;TZID=America/Chicago:20231115T130000
DTEND;TZID=America/Chicago:20231115T170000
DTSTAMP:20260422T123030
CREATED:20230908T123459Z
LAST-MODIFIED:20230908T123459Z
UID:9692-1700053200-1700067600@abctrafficschool.net
SUMMARY:4 hour class: 1-5pm Live Streaming class via Zoom. You get email link 20 minutes before class CDT
DESCRIPTION:
URL:https://abctrafficschool.net/event/4-hour-class-1-5pm-live-streaming-class-via-zoom-you-get-email-link-20-minutes-before-class-cdt-183/
END:VEVENT
BEGIN:VEVENT
DTSTART;TZID=America/Chicago:20231115T090000
DTEND;TZID=America/Chicago:20231115T170000
DTSTAMP:20260422T123030
CREATED:20230908T123622Z
LAST-MODIFIED:20230908T123622Z
UID:9696-1700038800-1700067600@abctrafficschool.net
SUMMARY:8 hour class: 9am-5pm Live Streaming class via Zoom. You get email link 20 minutes before class CDT
DESCRIPTION:
URL:https://abctrafficschool.net/event/8-hour-class-9am-5pm-live-streaming-class-via-zoom-you-get-email-link-20-minutes-before-class-cdt-122/
END:VEVENT
BEGIN:VEVENT
DTSTART;TZID=America/Chicago:20231115T090000
DTEND;TZID=America/Chicago:20231115T130000
DTSTAMP:20260422T123030
CREATED:20230908T123427Z
LAST-MODIFIED:20230908T123427Z
UID:9690-1700038800-1700053200@abctrafficschool.net
SUMMARY:4 hour class: 9am-1pm Live Streaming class via Zoom. You get email link 20 minutes before class CDT
DESCRIPTION:
URL:https://abctrafficschool.net/event/4-hour-class-9am-1pm-live-streaming-class-via-zoom-you-get-email-link-20-minutes-before-class-cdt-127/
END:VEVENT
BEGIN:VEVENT
DTSTART;TZID=America/Chicago:20231111T080000
DTEND;TZID=America/Chicago:20231111T160000
DTSTAMP:20260422T123030
CREATED:20230908T120547Z
LAST-MODIFIED:20230908T120547Z
UID:9628-1699689600-1699718400@abctrafficschool.net
SUMMARY:8 hour class: 8am-4pm Live Streaming class via Zoom. You get email link 20 minutes before class CDT
DESCRIPTION:
URL:https://abctrafficschool.net/event/8-hour-class-8am-4pm-live-streaming-class-via-zoom-you-get-email-link-20-minutes-before-class-cdt-29/
END:VEVENT
BEGIN:VEVENT
DTSTART;TZID=America/Chicago:20231111T080000
DTEND;TZID=America/Chicago:20231111T120000
DTSTAMP:20260422T123030
CREATED:20230908T120507Z
LAST-MODIFIED:20230908T120507Z
UID:9626-1699689600-1699704000@abctrafficschool.net
SUMMARY:4 hour class: 8am-12noon Live Streaming class via Zoom. You get email link 20 minutes before class CDT
DESCRIPTION:
URL:https://abctrafficschool.net/event/4-hour-class-8am-12noon-live-streaming-class-via-zoom-you-get-email-link-20-minutes-before-class-cdt-33/
END:VEVENT
BEGIN:VEVENT
DTSTART;TZID=America/Chicago:20231109T173000
DTEND;TZID=America/Chicago:20231109T213000
DTSTAMP:20260422T123030
CREATED:20230918T165640Z
LAST-MODIFIED:20230918T165640Z
UID:9735-1699551000-1699565400@abctrafficschool.net
SUMMARY:4 hour class: Franklin Drury Hotel 5:30-9:30pm
DESCRIPTION:
URL:https://abctrafficschool.net/event/4-hour-class-franklin-drury-hotel-530-930pm-59/
END:VEVENT
BEGIN:VEVENT
DTSTART;TZID=America/Chicago:20231109T140000
DTEND;TZID=America/Chicago:20231109T180000
DTSTAMP:20260422T123030
CREATED:20230918T165541Z
LAST-MODIFIED:20230918T165541Z
UID:9733-1699538400-1699552800@abctrafficschool.net
SUMMARY:4 hour class: Franklin Drury Hotel 2-6pm
DESCRIPTION:
URL:https://abctrafficschool.net/event/4-hour-class-franklin-drury-hotel-2-6pm-60/
END:VEVENT
BEGIN:VEVENT
DTSTART;TZID=America/Chicago:20231109T100000
DTEND;TZID=America/Chicago:20231109T180000
DTSTAMP:20260422T123030
CREATED:20230918T165731Z
LAST-MODIFIED:20230918T165731Z
UID:9737-1699524000-1699552800@abctrafficschool.net
SUMMARY:8 hour class: Franklin Drury Hotel 10am-6pm
DESCRIPTION:
URL:https://abctrafficschool.net/event/8-hour-class-franklin-drury-hotel-10am-6pm-14/
END:VEVENT
BEGIN:VEVENT
DTSTART;TZID=America/Chicago:20231109T100000
DTEND;TZID=America/Chicago:20231109T140000
DTSTAMP:20260422T123030
CREATED:20230918T165449Z
LAST-MODIFIED:20230918T165449Z
UID:9731-1699524000-1699538400@abctrafficschool.net
SUMMARY:4 hour class: Franklin Drury Hotel 10am-2pm
DESCRIPTION:
URL:https://abctrafficschool.net/event/4-hour-class-franklin-drury-hotel-10am-2pm-13/
END:VEVENT
BEGIN:VEVENT
DTSTART;TZID=America/Chicago:20231107T130000
DTEND;TZID=America/Chicago:20231107T170000
DTSTAMP:20260422T123030
CREATED:20230908T123303Z
LAST-MODIFIED:20230908T123303Z
UID:9686-1699362000-1699376400@abctrafficschool.net
SUMMARY:4 hour class: 1-5pm Live Streaming class via Zoom. You get email link 20 minutes before class CDT
DESCRIPTION:
URL:https://abctrafficschool.net/event/4-hour-class-1-5pm-live-streaming-class-via-zoom-you-get-email-link-20-minutes-before-class-cdt-182/
END:VEVENT
BEGIN:VEVENT
DTSTART;TZID=America/Chicago:20231107T090000
DTEND;TZID=America/Chicago:20231107T170000
DTSTAMP:20260422T123030
CREATED:20230908T123348Z
LAST-MODIFIED:20230908T123348Z
UID:9688-1699347600-1699376400@abctrafficschool.net
SUMMARY:8 hour class: 9am-5pm Live Streaming class via Zoom. You get email link 20 minutes before class CDT
DESCRIPTION:
URL:https://abctrafficschool.net/event/8-hour-class-9am-5pm-live-streaming-class-via-zoom-you-get-email-link-20-minutes-before-class-cdt-121/
END:VEVENT
BEGIN:VEVENT
DTSTART;TZID=America/Chicago:20231107T090000
DTEND;TZID=America/Chicago:20231107T130000
DTSTAMP:20260422T123030
CREATED:20230908T123209Z
LAST-MODIFIED:20230908T123209Z
UID:9684-1699347600-1699362000@abctrafficschool.net
SUMMARY:4 hour class: 9am-1pm Live Streaming class via Zoom. You get email link 20 minutes before class CDT
DESCRIPTION:
URL:https://abctrafficschool.net/event/4-hour-class-9am-1pm-live-streaming-class-via-zoom-you-get-email-link-20-minutes-before-class-cdt-126/
END:VEVENT
BEGIN:VEVENT
DTSTART;TZID=America/Chicago:20231105T170000
DTEND;TZID=America/Chicago:20231105T210000
DTSTAMP:20260422T123030
CREATED:20230908T121634Z
LAST-MODIFIED:20230908T121634Z
UID:9648-1699203600-1699218000@abctrafficschool.net
SUMMARY:4 hour class: 5-9pm Live Streaming class via Zoom. You get email link 20 minutes before class CDT
DESCRIPTION:
URL:https://abctrafficschool.net/event/4-hour-class-5-9pm-live-streaming-class-via-zoom-you-get-email-link-20-minutes-before-class-cdt-76/
END:VEVENT
BEGIN:VEVENT
DTSTART;TZID=America/Chicago:20231105T130000
DTEND;TZID=America/Chicago:20231105T210000
DTSTAMP:20260422T123030
CREATED:20230908T121734Z
LAST-MODIFIED:20230908T121734Z
UID:9650-1699189200-1699218000@abctrafficschool.net
SUMMARY:8 hour class: 1-9pm Live Streaming class via Zoom. You get email link 20 minutes before class CDT
DESCRIPTION:
URL:https://abctrafficschool.net/event/8-hour-class-1-9pm-live-streaming-class-via-zoom-you-get-email-link-20-minutes-before-class-cdt-61/
END:VEVENT
BEGIN:VEVENT
DTSTART;TZID=America/Chicago:20231105T130000
DTEND;TZID=America/Chicago:20231105T170000
DTSTAMP:20260422T123030
CREATED:20230908T121545Z
LAST-MODIFIED:20230908T121545Z
UID:9646-1699189200-1699203600@abctrafficschool.net
SUMMARY:4 hour class: 1-5pm Live Streaming class via Zoom. You get email link 20 minutes before class CDT
DESCRIPTION:
URL:https://abctrafficschool.net/event/4-hour-class-1-5pm-live-streaming-class-via-zoom-you-get-email-link-20-minutes-before-class-cdt-176/
END:VEVENT
BEGIN:VEVENT
DTSTART;TZID=America/Chicago:20231104T080000
DTEND;TZID=America/Chicago:20231104T160000
DTSTAMP:20260422T123030
CREATED:20230908T115015Z
LAST-MODIFIED:20230908T115015Z
UID:9602-1699084800-1699113600@abctrafficschool.net
SUMMARY:4 hour class: Franklin Drury Hotel 8am-4pm
DESCRIPTION:
URL:https://abctrafficschool.net/event/4-hour-class-franklin-drury-hotel-8am-4pm-2/
END:VEVENT
BEGIN:VEVENT
DTSTART;TZID=America/Chicago:20231104T080000
DTEND;TZID=America/Chicago:20231104T120000
DTSTAMP:20260422T123030
CREATED:20230908T114942Z
LAST-MODIFIED:20230908T114942Z
UID:9600-1699084800-1699099200@abctrafficschool.net
SUMMARY:4 hour class: Franklin Drury Hotel 8am-12noon
DESCRIPTION:
URL:https://abctrafficschool.net/event/4-hour-class-franklin-drury-hotel-8am-12noon-21/
END:VEVENT
BEGIN:VEVENT
DTSTART;TZID=America/Chicago:20231101T130000
DTEND;TZID=America/Chicago:20231101T170000
DTSTAMP:20260422T123030
CREATED:20230908T123045Z
LAST-MODIFIED:20230908T123045Z
UID:9680-1698843600-1698858000@abctrafficschool.net
SUMMARY:4 hour class: 1-5pm Live Streaming class via Zoom. You get email link 20 minutes before class CDT
DESCRIPTION:
URL:https://abctrafficschool.net/event/4-hour-class-1-5pm-live-streaming-class-via-zoom-you-get-email-link-20-minutes-before-class-cdt-181/
END:VEVENT
BEGIN:VEVENT
DTSTART;TZID=America/Chicago:20231101T090000
DTEND;TZID=America/Chicago:20231101T170000
DTSTAMP:20260422T123030
CREATED:20230908T123122Z
LAST-MODIFIED:20230908T123122Z
UID:9682-1698829200-1698858000@abctrafficschool.net
SUMMARY:8 hour class: 9am-5pm Live Streaming class via Zoom. You get email link 20 minutes before class CDT
DESCRIPTION:
URL:https://abctrafficschool.net/event/8-hour-class-9am-5pm-live-streaming-class-via-zoom-you-get-email-link-20-minutes-before-class-cdt-120/
END:VEVENT
BEGIN:VEVENT
DTSTART;TZID=America/Chicago:20231101T090000
DTEND;TZID=America/Chicago:20231101T130000
DTSTAMP:20260422T123030
CREATED:20230908T123007Z
LAST-MODIFIED:20230908T123007Z
UID:9678-1698829200-1698843600@abctrafficschool.net
SUMMARY:4 hour class: 9am-1pm Live Streaming class via Zoom. You get email link 20 minutes before class CDT
DESCRIPTION:
URL:https://abctrafficschool.net/event/4-hour-class-9am-1pm-live-streaming-class-via-zoom-you-get-email-link-20-minutes-before-class-cdt-125/
END:VEVENT
BEGIN:VEVENT
DTSTART;TZID=America/Chicago:20231029T170000
DTEND;TZID=America/Chicago:20231029T210000
DTSTAMP:20260422T123030
CREATED:20230908T115227Z
LAST-MODIFIED:20230908T115227Z
UID:9606-1698598800-1698613200@abctrafficschool.net
SUMMARY:4 hour class: Franklin Drury Hotel 5-9pm
DESCRIPTION:
URL:https://abctrafficschool.net/event/4-hour-class-franklin-drury-hotel-5-9pm-72/
END:VEVENT
BEGIN:VEVENT
DTSTART;TZID=America/Chicago:20231029T130000
DTEND;TZID=America/Chicago:20231029T210000
DTSTAMP:20260422T123030
CREATED:20230908T115325Z
LAST-MODIFIED:20230908T115325Z
UID:9608-1698584400-1698613200@abctrafficschool.net
SUMMARY:8 hour class: Franklin Drury Hotel 1-9pm
DESCRIPTION:
URL:https://abctrafficschool.net/event/8-hour-class-franklin-drury-hotel-1-9pm-73/
END:VEVENT
BEGIN:VEVENT
DTSTART;TZID=America/Chicago:20231029T130000
DTEND;TZID=America/Chicago:20231029T170000
DTSTAMP:20260422T123030
CREATED:20230908T115139Z
LAST-MODIFIED:20230908T115139Z
UID:9604-1698584400-1698598800@abctrafficschool.net
SUMMARY:4 hour class: Franklin Drury Hotel 1-5pm
DESCRIPTION:
URL:https://abctrafficschool.net/event/4-hour-class-franklin-drury-hotel-1-5pm-74/
END:VEVENT
BEGIN:VEVENT
DTSTART;TZID=America/Chicago:20231028T080000
DTEND;TZID=America/Chicago:20231028T160000
DTSTAMP:20260422T123030
CREATED:20230908T120430Z
LAST-MODIFIED:20230908T120430Z
UID:9624-1698480000-1698508800@abctrafficschool.net
SUMMARY:8 hour class: 8am-4pm Live Streaming class via Zoom. You get email link 20 minutes before class CDT
DESCRIPTION:
URL:https://abctrafficschool.net/event/8-hour-class-8am-4pm-live-streaming-class-via-zoom-you-get-email-link-20-minutes-before-class-cdt-28/
END:VEVENT
BEGIN:VEVENT
DTSTART;TZID=America/Chicago:20231028T080000
DTEND;TZID=America/Chicago:20231028T120000
DTSTAMP:20260422T123030
CREATED:20230908T120340Z
LAST-MODIFIED:20230908T120340Z
UID:9622-1698480000-1698494400@abctrafficschool.net
SUMMARY:4 hour class: 8am-12noon Live Streaming class via Zoom. You get email link 20 minutes before class CDT
DESCRIPTION:
URL:https://abctrafficschool.net/event/4-hour-class-8am-12noon-live-streaming-class-via-zoom-you-get-email-link-20-minutes-before-class-cdt-32/
END:VEVENT
BEGIN:VEVENT
DTSTART;TZID=America/Chicago:20231025T130000
DTEND;TZID=America/Chicago:20231025T170000
DTSTAMP:20260422T123030
CREATED:20230908T122747Z
LAST-MODIFIED:20230908T122747Z
UID:9674-1698238800-1698253200@abctrafficschool.net
SUMMARY:4 hour class: 1-5pm Live Streaming class via Zoom. You get email link 20 minutes before class CDT
DESCRIPTION:
URL:https://abctrafficschool.net/event/4-hour-class-1-5pm-live-streaming-class-via-zoom-you-get-email-link-20-minutes-before-class-cdt-180/
END:VEVENT
END:VCALENDAR