BEGIN:VCALENDAR
VERSION:2.0
PRODID:-//ABC Traffic School - ECPv6.15.16//NONSGML v1.0//EN
CALSCALE:GREGORIAN
METHOD:PUBLISH
X-WR-CALNAME:ABC Traffic School
X-ORIGINAL-URL:https://abctrafficschool.net
X-WR-CALDESC:Events for ABC Traffic School
REFRESH-INTERVAL;VALUE=DURATION:PT1H
X-Robots-Tag:noindex
X-PUBLISHED-TTL:PT1H
BEGIN:VTIMEZONE
TZID:America/Chicago
BEGIN:DAYLIGHT
TZOFFSETFROM:-0600
TZOFFSETTO:-0500
TZNAME:CDT
DTSTART:20220313T080000
END:DAYLIGHT
BEGIN:STANDARD
TZOFFSETFROM:-0500
TZOFFSETTO:-0600
TZNAME:CST
DTSTART:20221106T070000
END:STANDARD
BEGIN:DAYLIGHT
TZOFFSETFROM:-0600
TZOFFSETTO:-0500
TZNAME:CDT
DTSTART:20230312T080000
END:DAYLIGHT
BEGIN:STANDARD
TZOFFSETFROM:-0500
TZOFFSETTO:-0600
TZNAME:CST
DTSTART:20231105T070000
END:STANDARD
BEGIN:DAYLIGHT
TZOFFSETFROM:-0600
TZOFFSETTO:-0500
TZNAME:CDT
DTSTART:20240310T080000
END:DAYLIGHT
BEGIN:STANDARD
TZOFFSETFROM:-0500
TZOFFSETTO:-0600
TZNAME:CST
DTSTART:20241103T070000
END:STANDARD
END:VTIMEZONE
BEGIN:VEVENT
DTSTART;TZID=America/Chicago:20231104T080000
DTEND;TZID=America/Chicago:20231104T120000
DTSTAMP:20260422T155650
CREATED:20230908T114942Z
LAST-MODIFIED:20230908T114942Z
UID:9600-1699084800-1699099200@abctrafficschool.net
SUMMARY:4 hour class: Franklin Drury Hotel 8am-12noon
DESCRIPTION:
URL:https://abctrafficschool.net/event/4-hour-class-franklin-drury-hotel-8am-12noon-21/
END:VEVENT
BEGIN:VEVENT
DTSTART;TZID=America/Chicago:20231101T130000
DTEND;TZID=America/Chicago:20231101T170000
DTSTAMP:20260422T155650
CREATED:20230908T123045Z
LAST-MODIFIED:20230908T123045Z
UID:9680-1698843600-1698858000@abctrafficschool.net
SUMMARY:4 hour class: 1-5pm Live Streaming class via Zoom. You get email link 20 minutes before class CDT
DESCRIPTION:
URL:https://abctrafficschool.net/event/4-hour-class-1-5pm-live-streaming-class-via-zoom-you-get-email-link-20-minutes-before-class-cdt-181/
END:VEVENT
BEGIN:VEVENT
DTSTART;TZID=America/Chicago:20231101T090000
DTEND;TZID=America/Chicago:20231101T170000
DTSTAMP:20260422T155650
CREATED:20230908T123122Z
LAST-MODIFIED:20230908T123122Z
UID:9682-1698829200-1698858000@abctrafficschool.net
SUMMARY:8 hour class: 9am-5pm Live Streaming class via Zoom. You get email link 20 minutes before class CDT
DESCRIPTION:
URL:https://abctrafficschool.net/event/8-hour-class-9am-5pm-live-streaming-class-via-zoom-you-get-email-link-20-minutes-before-class-cdt-120/
END:VEVENT
BEGIN:VEVENT
DTSTART;TZID=America/Chicago:20231101T090000
DTEND;TZID=America/Chicago:20231101T130000
DTSTAMP:20260422T155650
CREATED:20230908T123007Z
LAST-MODIFIED:20230908T123007Z
UID:9678-1698829200-1698843600@abctrafficschool.net
SUMMARY:4 hour class: 9am-1pm Live Streaming class via Zoom. You get email link 20 minutes before class CDT
DESCRIPTION:
URL:https://abctrafficschool.net/event/4-hour-class-9am-1pm-live-streaming-class-via-zoom-you-get-email-link-20-minutes-before-class-cdt-125/
END:VEVENT
BEGIN:VEVENT
DTSTART;TZID=America/Chicago:20231029T170000
DTEND;TZID=America/Chicago:20231029T210000
DTSTAMP:20260422T155650
CREATED:20230908T115227Z
LAST-MODIFIED:20230908T115227Z
UID:9606-1698598800-1698613200@abctrafficschool.net
SUMMARY:4 hour class: Franklin Drury Hotel 5-9pm
DESCRIPTION:
URL:https://abctrafficschool.net/event/4-hour-class-franklin-drury-hotel-5-9pm-72/
END:VEVENT
BEGIN:VEVENT
DTSTART;TZID=America/Chicago:20231029T130000
DTEND;TZID=America/Chicago:20231029T210000
DTSTAMP:20260422T155650
CREATED:20230908T115325Z
LAST-MODIFIED:20230908T115325Z
UID:9608-1698584400-1698613200@abctrafficschool.net
SUMMARY:8 hour class: Franklin Drury Hotel 1-9pm
DESCRIPTION:
URL:https://abctrafficschool.net/event/8-hour-class-franklin-drury-hotel-1-9pm-73/
END:VEVENT
BEGIN:VEVENT
DTSTART;TZID=America/Chicago:20231029T130000
DTEND;TZID=America/Chicago:20231029T170000
DTSTAMP:20260422T155650
CREATED:20230908T115139Z
LAST-MODIFIED:20230908T115139Z
UID:9604-1698584400-1698598800@abctrafficschool.net
SUMMARY:4 hour class: Franklin Drury Hotel 1-5pm
DESCRIPTION:
URL:https://abctrafficschool.net/event/4-hour-class-franklin-drury-hotel-1-5pm-74/
END:VEVENT
BEGIN:VEVENT
DTSTART;TZID=America/Chicago:20231028T080000
DTEND;TZID=America/Chicago:20231028T160000
DTSTAMP:20260422T155650
CREATED:20230908T120430Z
LAST-MODIFIED:20230908T120430Z
UID:9624-1698480000-1698508800@abctrafficschool.net
SUMMARY:8 hour class: 8am-4pm Live Streaming class via Zoom. You get email link 20 minutes before class CDT
DESCRIPTION:
URL:https://abctrafficschool.net/event/8-hour-class-8am-4pm-live-streaming-class-via-zoom-you-get-email-link-20-minutes-before-class-cdt-28/
END:VEVENT
BEGIN:VEVENT
DTSTART;TZID=America/Chicago:20231028T080000
DTEND;TZID=America/Chicago:20231028T120000
DTSTAMP:20260422T155650
CREATED:20230908T120340Z
LAST-MODIFIED:20230908T120340Z
UID:9622-1698480000-1698494400@abctrafficschool.net
SUMMARY:4 hour class: 8am-12noon Live Streaming class via Zoom. You get email link 20 minutes before class CDT
DESCRIPTION:
URL:https://abctrafficschool.net/event/4-hour-class-8am-12noon-live-streaming-class-via-zoom-you-get-email-link-20-minutes-before-class-cdt-32/
END:VEVENT
BEGIN:VEVENT
DTSTART;TZID=America/Chicago:20231025T130000
DTEND;TZID=America/Chicago:20231025T170000
DTSTAMP:20260422T155650
CREATED:20230908T122747Z
LAST-MODIFIED:20230908T122747Z
UID:9674-1698238800-1698253200@abctrafficschool.net
SUMMARY:4 hour class: 1-5pm Live Streaming class via Zoom. You get email link 20 minutes before class CDT
DESCRIPTION:
URL:https://abctrafficschool.net/event/4-hour-class-1-5pm-live-streaming-class-via-zoom-you-get-email-link-20-minutes-before-class-cdt-180/
END:VEVENT
BEGIN:VEVENT
DTSTART;TZID=America/Chicago:20231025T090000
DTEND;TZID=America/Chicago:20231025T170000
DTSTAMP:20260422T155650
CREATED:20230908T122826Z
LAST-MODIFIED:20230908T122826Z
UID:9676-1698224400-1698253200@abctrafficschool.net
SUMMARY:8 hour class: 9am-5pm Live Streaming class via Zoom. You get email link 20 minutes before class CDT
DESCRIPTION:
URL:https://abctrafficschool.net/event/8-hour-class-9am-5pm-live-streaming-class-via-zoom-you-get-email-link-20-minutes-before-class-cdt-119/
END:VEVENT
BEGIN:VEVENT
DTSTART;TZID=America/Chicago:20231025T090000
DTEND;TZID=America/Chicago:20231025T130000
DTSTAMP:20260422T155650
CREATED:20230908T122657Z
LAST-MODIFIED:20230908T122657Z
UID:9672-1698224400-1698238800@abctrafficschool.net
SUMMARY:4 hour class: 9am-1pm Live Streaming class via Zoom. You get email link 20 minutes before class CDT
DESCRIPTION:
URL:https://abctrafficschool.net/event/4-hour-class-9am-1pm-live-streaming-class-via-zoom-you-get-email-link-20-minutes-before-class-cdt-124/
END:VEVENT
BEGIN:VEVENT
DTSTART;TZID=America/Chicago:20231022T170000
DTEND;TZID=America/Chicago:20231022T210000
DTSTAMP:20260422T155650
CREATED:20230908T121316Z
LAST-MODIFIED:20230908T121316Z
UID:9642-1697994000-1698008400@abctrafficschool.net
SUMMARY:4 hour class: 5-9pm Live Streaming class via Zoom. You get email link 20 minutes before class CDT
DESCRIPTION:
URL:https://abctrafficschool.net/event/4-hour-class-5-9pm-live-streaming-class-via-zoom-you-get-email-link-20-minutes-before-class-cdt-75/
END:VEVENT
BEGIN:VEVENT
DTSTART;TZID=America/Chicago:20231022T130000
DTEND;TZID=America/Chicago:20231022T210000
DTSTAMP:20260422T155650
CREATED:20230908T121401Z
LAST-MODIFIED:20230908T121401Z
UID:9644-1697979600-1698008400@abctrafficschool.net
SUMMARY:8 hour class: 1-9pm Live Streaming class via Zoom. You get email link 20 minutes before class CDT
DESCRIPTION:
URL:https://abctrafficschool.net/event/8-hour-class-1-9pm-live-streaming-class-via-zoom-you-get-email-link-20-minutes-before-class-cdt-60/
END:VEVENT
BEGIN:VEVENT
DTSTART;TZID=America/Chicago:20231022T130000
DTEND;TZID=America/Chicago:20231022T170000
DTSTAMP:20260422T155650
CREATED:20230908T121228Z
LAST-MODIFIED:20230908T121228Z
UID:9640-1697979600-1697994000@abctrafficschool.net
SUMMARY:4 hour class: 1-5pm Live Streaming class via Zoom. You get email link 20 minutes before class CDT
DESCRIPTION:
URL:https://abctrafficschool.net/event/4-hour-class-1-5pm-live-streaming-class-via-zoom-you-get-email-link-20-minutes-before-class-cdt-175/
END:VEVENT
BEGIN:VEVENT
DTSTART;TZID=America/Chicago:20231021T080000
DTEND;TZID=America/Chicago:20231021T160000
DTSTAMP:20260422T155650
CREATED:20230908T114906Z
LAST-MODIFIED:20230908T114906Z
UID:9598-1697875200-1697904000@abctrafficschool.net
SUMMARY:8 hour class: Franklin Drury Hotel 8am-4pm
DESCRIPTION:
URL:https://abctrafficschool.net/event/8-hour-class-franklin-drury-hotel-8am-4pm-21/
END:VEVENT
BEGIN:VEVENT
DTSTART;TZID=America/Chicago:20231021T080000
DTEND;TZID=America/Chicago:20231021T120000
DTSTAMP:20260422T155650
CREATED:20230908T114818Z
LAST-MODIFIED:20230908T114818Z
UID:9596-1697875200-1697889600@abctrafficschool.net
SUMMARY:4 hour class: Franklin Drury Hotel 8am-12noon
DESCRIPTION:
URL:https://abctrafficschool.net/event/4-hour-class-franklin-drury-hotel-8am-12noon-20/
END:VEVENT
BEGIN:VEVENT
DTSTART;TZID=America/Chicago:20231019T130000
DTEND;TZID=America/Chicago:20231019T170000
DTSTAMP:20260422T155650
CREATED:20230908T122533Z
LAST-MODIFIED:20230908T122533Z
UID:9668-1697720400-1697734800@abctrafficschool.net
SUMMARY:4 hour class: 1-5pm Live Streaming class via Zoom. You get email link 20 minutes before class CDT
DESCRIPTION:
URL:https://abctrafficschool.net/event/4-hour-class-1-5pm-live-streaming-class-via-zoom-you-get-email-link-20-minutes-before-class-cdt-179/
END:VEVENT
BEGIN:VEVENT
DTSTART;TZID=America/Chicago:20231019T090000
DTEND;TZID=America/Chicago:20231019T170000
DTSTAMP:20260422T155650
CREATED:20230908T122618Z
LAST-MODIFIED:20230908T122618Z
UID:9670-1697706000-1697734800@abctrafficschool.net
SUMMARY:8 hour class: 9am-5pm Live Streaming class via Zoom. You get email link 20 minutes before class CDT
DESCRIPTION:
URL:https://abctrafficschool.net/event/8-hour-class-9am-5pm-live-streaming-class-via-zoom-you-get-email-link-20-minutes-before-class-cdt-118/
END:VEVENT
BEGIN:VEVENT
DTSTART;TZID=America/Chicago:20231019T090000
DTEND;TZID=America/Chicago:20231019T130000
DTSTAMP:20260422T155650
CREATED:20230908T122455Z
LAST-MODIFIED:20230908T122455Z
UID:9666-1697706000-1697720400@abctrafficschool.net
SUMMARY:4 hour class: 9am-1pm Live Streaming class via Zoom. You get email link 20 minutes before class CDT
DESCRIPTION:
URL:https://abctrafficschool.net/event/4-hour-class-9am-1pm-live-streaming-class-via-zoom-you-get-email-link-20-minutes-before-class-cdt-123/
END:VEVENT
BEGIN:VEVENT
DTSTART;TZID=America/Chicago:20231015T170000
DTEND;TZID=America/Chicago:20231015T210000
DTSTAMP:20260422T155650
CREATED:20230908T121050Z
LAST-MODIFIED:20230908T121050Z
UID:9636-1697389200-1697403600@abctrafficschool.net
SUMMARY:4 hour class: 5-9pm Live Streaming class via Zoom. You get email link 20 minutes before class CDT
DESCRIPTION:
URL:https://abctrafficschool.net/event/4-hour-class-5-9pm-live-streaming-class-via-zoom-you-get-email-link-20-minutes-before-class-cdt-74/
END:VEVENT
BEGIN:VEVENT
DTSTART;TZID=America/Chicago:20231015T130000
DTEND;TZID=America/Chicago:20231015T210000
DTSTAMP:20260422T155650
CREATED:20230908T121149Z
LAST-MODIFIED:20230908T121149Z
UID:9638-1697374800-1697403600@abctrafficschool.net
SUMMARY:8 hour class: 1-9pm Live Streaming class via Zoom. You get email link 20 minutes before class CDT
DESCRIPTION:
URL:https://abctrafficschool.net/event/8-hour-class-1-9pm-live-streaming-class-via-zoom-you-get-email-link-20-minutes-before-class-cdt-59/
END:VEVENT
BEGIN:VEVENT
DTSTART;TZID=America/Chicago:20231015T130000
DTEND;TZID=America/Chicago:20231015T170000
DTSTAMP:20260422T155650
CREATED:20230908T121008Z
LAST-MODIFIED:20230908T121008Z
UID:9634-1697374800-1697389200@abctrafficschool.net
SUMMARY:4 hour class: 1-5pm Live Streaming class via Zoom. You get email link 20 minutes before class CDT
DESCRIPTION:
URL:https://abctrafficschool.net/event/4-hour-class-1-5pm-live-streaming-class-via-zoom-you-get-email-link-20-minutes-before-class-cdt-174/
END:VEVENT
BEGIN:VEVENT
DTSTART;TZID=America/Chicago:20231012T173000
DTEND;TZID=America/Chicago:20231012T213000
DTSTAMP:20260422T155650
CREATED:20230908T115646Z
LAST-MODIFIED:20230908T115646Z
UID:9614-1697131800-1697146200@abctrafficschool.net
SUMMARY:4 hour class: Franklin Drury Hotel 5:30-9:30pm
DESCRIPTION:
URL:https://abctrafficschool.net/event/4-hour-class-franklin-drury-hotel-530-930pm-58/
END:VEVENT
BEGIN:VEVENT
DTSTART;TZID=America/Chicago:20231012T140000
DTEND;TZID=America/Chicago:20231012T180000
DTSTAMP:20260422T155650
CREATED:20230908T115549Z
LAST-MODIFIED:20230908T115549Z
UID:9612-1697119200-1697133600@abctrafficschool.net
SUMMARY:4 hour class: Franklin Drury Hotel 2-6pm
DESCRIPTION:
URL:https://abctrafficschool.net/event/4-hour-class-franklin-drury-hotel-2-6pm-59/
END:VEVENT
BEGIN:VEVENT
DTSTART;TZID=America/Chicago:20231012T100000
DTEND;TZID=America/Chicago:20231012T180000
DTSTAMP:20260422T155650
CREATED:20230908T115725Z
LAST-MODIFIED:20230908T115725Z
UID:9616-1697104800-1697133600@abctrafficschool.net
SUMMARY:8 hour class: Franklin Drury Hotel 10am-6pm
DESCRIPTION:
URL:https://abctrafficschool.net/event/8-hour-class-franklin-drury-hotel-10am-6pm-13/
END:VEVENT
BEGIN:VEVENT
DTSTART;TZID=America/Chicago:20231012T100000
DTEND;TZID=America/Chicago:20231012T140000
DTSTAMP:20260422T155650
CREATED:20230908T115504Z
LAST-MODIFIED:20230908T115504Z
UID:9610-1697104800-1697119200@abctrafficschool.net
SUMMARY:4 hour class: Franklin Drury Hotel 10am-2pm
DESCRIPTION:
URL:https://abctrafficschool.net/event/4-hour-class-franklin-drury-hotel-10am-2pm-12/
END:VEVENT
BEGIN:VEVENT
DTSTART;TZID=America/Chicago:20231010T170000
DTEND;TZID=America/Chicago:20231010T210000
DTSTAMP:20260422T155650
CREATED:20230908T122329Z
LAST-MODIFIED:20230908T122329Z
UID:9662-1696957200-1696971600@abctrafficschool.net
SUMMARY:4 hour class: 5-9pm Live Streaming class via Zoom. You get email link 20 minutes before class CDT
DESCRIPTION:
URL:https://abctrafficschool.net/event/4-hour-class-5-9pm-live-streaming-class-via-zoom-you-get-email-link-20-minutes-before-class-cdt-77/
END:VEVENT
BEGIN:VEVENT
DTSTART;TZID=America/Chicago:20231010T130000
DTEND;TZID=America/Chicago:20231010T170000
DTSTAMP:20260422T155650
CREATED:20230908T122242Z
LAST-MODIFIED:20230908T122242Z
UID:9660-1696942800-1696957200@abctrafficschool.net
SUMMARY:4 hour class: 1-5pm Live Streaming class via Zoom. You get email link 20 minutes before class CDT
DESCRIPTION:
URL:https://abctrafficschool.net/event/4-hour-class-1-5pm-live-streaming-class-via-zoom-you-get-email-link-20-minutes-before-class-cdt-178/
END:VEVENT
BEGIN:VEVENT
DTSTART;TZID=America/Chicago:20231010T090000
DTEND;TZID=America/Chicago:20231010T170000
DTSTAMP:20260422T155650
CREATED:20230908T122416Z
LAST-MODIFIED:20230908T122416Z
UID:9664-1696928400-1696957200@abctrafficschool.net
SUMMARY:8 hour class: 9am-5pm Live Streaming class via Zoom. You get email link 20 minutes before class CDT
DESCRIPTION:
URL:https://abctrafficschool.net/event/8-hour-class-9am-5pm-live-streaming-class-via-zoom-you-get-email-link-20-minutes-before-class-cdt-117/
END:VEVENT
END:VCALENDAR