BEGIN:VCALENDAR
VERSION:2.0
PRODID:-//ABC Traffic School - ECPv6.15.16//NONSGML v1.0//EN
CALSCALE:GREGORIAN
METHOD:PUBLISH
X-WR-CALNAME:ABC Traffic School
X-ORIGINAL-URL:https://abctrafficschool.net
X-WR-CALDESC:Events for ABC Traffic School
REFRESH-INTERVAL;VALUE=DURATION:PT1H
X-Robots-Tag:noindex
X-PUBLISHED-TTL:PT1H
BEGIN:VTIMEZONE
TZID:America/Chicago
BEGIN:DAYLIGHT
TZOFFSETFROM:-0600
TZOFFSETTO:-0500
TZNAME:CDT
DTSTART:20220313T080000
END:DAYLIGHT
BEGIN:STANDARD
TZOFFSETFROM:-0500
TZOFFSETTO:-0600
TZNAME:CST
DTSTART:20221106T070000
END:STANDARD
BEGIN:DAYLIGHT
TZOFFSETFROM:-0600
TZOFFSETTO:-0500
TZNAME:CDT
DTSTART:20230312T080000
END:DAYLIGHT
BEGIN:STANDARD
TZOFFSETFROM:-0500
TZOFFSETTO:-0600
TZNAME:CST
DTSTART:20231105T070000
END:STANDARD
BEGIN:DAYLIGHT
TZOFFSETFROM:-0600
TZOFFSETTO:-0500
TZNAME:CDT
DTSTART:20240310T080000
END:DAYLIGHT
BEGIN:STANDARD
TZOFFSETFROM:-0500
TZOFFSETTO:-0600
TZNAME:CST
DTSTART:20241103T070000
END:STANDARD
END:VTIMEZONE
BEGIN:VEVENT
DTSTART;TZID=America/Chicago:20231015T170000
DTEND;TZID=America/Chicago:20231015T210000
DTSTAMP:20260422T191306
CREATED:20230908T121050Z
LAST-MODIFIED:20230908T121050Z
UID:9636-1697389200-1697403600@abctrafficschool.net
SUMMARY:4 hour class: 5-9pm Live Streaming class via Zoom. You get email link 20 minutes before class CDT
DESCRIPTION:
URL:https://abctrafficschool.net/event/4-hour-class-5-9pm-live-streaming-class-via-zoom-you-get-email-link-20-minutes-before-class-cdt-74/
END:VEVENT
BEGIN:VEVENT
DTSTART;TZID=America/Chicago:20231015T130000
DTEND;TZID=America/Chicago:20231015T210000
DTSTAMP:20260422T191306
CREATED:20230908T121149Z
LAST-MODIFIED:20230908T121149Z
UID:9638-1697374800-1697403600@abctrafficschool.net
SUMMARY:8 hour class: 1-9pm Live Streaming class via Zoom. You get email link 20 minutes before class CDT
DESCRIPTION:
URL:https://abctrafficschool.net/event/8-hour-class-1-9pm-live-streaming-class-via-zoom-you-get-email-link-20-minutes-before-class-cdt-59/
END:VEVENT
BEGIN:VEVENT
DTSTART;TZID=America/Chicago:20231015T130000
DTEND;TZID=America/Chicago:20231015T170000
DTSTAMP:20260422T191306
CREATED:20230908T121008Z
LAST-MODIFIED:20230908T121008Z
UID:9634-1697374800-1697389200@abctrafficschool.net
SUMMARY:4 hour class: 1-5pm Live Streaming class via Zoom. You get email link 20 minutes before class CDT
DESCRIPTION:
URL:https://abctrafficschool.net/event/4-hour-class-1-5pm-live-streaming-class-via-zoom-you-get-email-link-20-minutes-before-class-cdt-174/
END:VEVENT
BEGIN:VEVENT
DTSTART;TZID=America/Chicago:20231012T173000
DTEND;TZID=America/Chicago:20231012T213000
DTSTAMP:20260422T191306
CREATED:20230908T115646Z
LAST-MODIFIED:20230908T115646Z
UID:9614-1697131800-1697146200@abctrafficschool.net
SUMMARY:4 hour class: Franklin Drury Hotel 5:30-9:30pm
DESCRIPTION:
URL:https://abctrafficschool.net/event/4-hour-class-franklin-drury-hotel-530-930pm-58/
END:VEVENT
BEGIN:VEVENT
DTSTART;TZID=America/Chicago:20231012T140000
DTEND;TZID=America/Chicago:20231012T180000
DTSTAMP:20260422T191306
CREATED:20230908T115549Z
LAST-MODIFIED:20230908T115549Z
UID:9612-1697119200-1697133600@abctrafficschool.net
SUMMARY:4 hour class: Franklin Drury Hotel 2-6pm
DESCRIPTION:
URL:https://abctrafficschool.net/event/4-hour-class-franklin-drury-hotel-2-6pm-59/
END:VEVENT
BEGIN:VEVENT
DTSTART;TZID=America/Chicago:20231012T100000
DTEND;TZID=America/Chicago:20231012T180000
DTSTAMP:20260422T191306
CREATED:20230908T115725Z
LAST-MODIFIED:20230908T115725Z
UID:9616-1697104800-1697133600@abctrafficschool.net
SUMMARY:8 hour class: Franklin Drury Hotel 10am-6pm
DESCRIPTION:
URL:https://abctrafficschool.net/event/8-hour-class-franklin-drury-hotel-10am-6pm-13/
END:VEVENT
BEGIN:VEVENT
DTSTART;TZID=America/Chicago:20231012T100000
DTEND;TZID=America/Chicago:20231012T140000
DTSTAMP:20260422T191306
CREATED:20230908T115504Z
LAST-MODIFIED:20230908T115504Z
UID:9610-1697104800-1697119200@abctrafficschool.net
SUMMARY:4 hour class: Franklin Drury Hotel 10am-2pm
DESCRIPTION:
URL:https://abctrafficschool.net/event/4-hour-class-franklin-drury-hotel-10am-2pm-12/
END:VEVENT
BEGIN:VEVENT
DTSTART;TZID=America/Chicago:20231010T170000
DTEND;TZID=America/Chicago:20231010T210000
DTSTAMP:20260422T191306
CREATED:20230908T122329Z
LAST-MODIFIED:20230908T122329Z
UID:9662-1696957200-1696971600@abctrafficschool.net
SUMMARY:4 hour class: 5-9pm Live Streaming class via Zoom. You get email link 20 minutes before class CDT
DESCRIPTION:
URL:https://abctrafficschool.net/event/4-hour-class-5-9pm-live-streaming-class-via-zoom-you-get-email-link-20-minutes-before-class-cdt-77/
END:VEVENT
BEGIN:VEVENT
DTSTART;TZID=America/Chicago:20231010T130000
DTEND;TZID=America/Chicago:20231010T170000
DTSTAMP:20260422T191306
CREATED:20230908T122242Z
LAST-MODIFIED:20230908T122242Z
UID:9660-1696942800-1696957200@abctrafficschool.net
SUMMARY:4 hour class: 1-5pm Live Streaming class via Zoom. You get email link 20 minutes before class CDT
DESCRIPTION:
URL:https://abctrafficschool.net/event/4-hour-class-1-5pm-live-streaming-class-via-zoom-you-get-email-link-20-minutes-before-class-cdt-178/
END:VEVENT
BEGIN:VEVENT
DTSTART;TZID=America/Chicago:20231010T090000
DTEND;TZID=America/Chicago:20231010T170000
DTSTAMP:20260422T191306
CREATED:20230908T122416Z
LAST-MODIFIED:20230908T122416Z
UID:9664-1696928400-1696957200@abctrafficschool.net
SUMMARY:8 hour class: 9am-5pm Live Streaming class via Zoom. You get email link 20 minutes before class CDT
DESCRIPTION:
URL:https://abctrafficschool.net/event/8-hour-class-9am-5pm-live-streaming-class-via-zoom-you-get-email-link-20-minutes-before-class-cdt-117/
END:VEVENT
BEGIN:VEVENT
DTSTART;TZID=America/Chicago:20231010T090000
DTEND;TZID=America/Chicago:20231010T130000
DTSTAMP:20260422T191306
CREATED:20230908T122209Z
LAST-MODIFIED:20230908T122209Z
UID:9658-1696928400-1696942800@abctrafficschool.net
SUMMARY:4 hour class: 9am-1pm Live Streaming class via Zoom. You get email link 20 minutes before class CDT
DESCRIPTION:
URL:https://abctrafficschool.net/event/4-hour-class-9am-1pm-live-streaming-class-via-zoom-you-get-email-link-20-minutes-before-class-cdt-122/
END:VEVENT
BEGIN:VEVENT
DTSTART;TZID=America/Chicago:20231007T080000
DTEND;TZID=America/Chicago:20231007T160000
DTSTAMP:20260422T191306
CREATED:20230908T120255Z
LAST-MODIFIED:20230908T120255Z
UID:9620-1696665600-1696694400@abctrafficschool.net
SUMMARY:8 hour class: 8am-4pm Live Streaming class via Zoom. You get email link 20 minutes before class CDT
DESCRIPTION:
URL:https://abctrafficschool.net/event/8-hour-class-8am-4pm-live-streaming-class-via-zoom-you-get-email-link-20-minutes-before-class-cdt-27/
END:VEVENT
BEGIN:VEVENT
DTSTART;TZID=America/Chicago:20231007T080000
DTEND;TZID=America/Chicago:20231007T120000
DTSTAMP:20260422T191306
CREATED:20230908T120147Z
LAST-MODIFIED:20230908T120147Z
UID:9618-1696665600-1696680000@abctrafficschool.net
SUMMARY:4 hour class: 8am-12noon Live Streaming class via Zoom. You get email link 20 minutes before class CDT
DESCRIPTION:
URL:https://abctrafficschool.net/event/4-hour-class-8am-12noon-live-streaming-class-via-zoom-you-get-email-link-20-minutes-before-class-cdt-31/
END:VEVENT
BEGIN:VEVENT
DTSTART;TZID=America/Chicago:20231005T130000
DTEND;TZID=America/Chicago:20231005T170000
DTSTAMP:20260422T191306
CREATED:20230908T122035Z
LAST-MODIFIED:20230908T122035Z
UID:9654-1696510800-1696525200@abctrafficschool.net
SUMMARY:4 hour class: 1-5pm Live Streaming class via Zoom. You get email link 20 minutes before class CDT
DESCRIPTION:
URL:https://abctrafficschool.net/event/4-hour-class-1-5pm-live-streaming-class-via-zoom-you-get-email-link-20-minutes-before-class-cdt-177/
END:VEVENT
BEGIN:VEVENT
DTSTART;TZID=America/Chicago:20231005T090000
DTEND;TZID=America/Chicago:20231005T170000
DTSTAMP:20260422T191306
CREATED:20230908T122125Z
LAST-MODIFIED:20230908T122125Z
UID:9656-1696496400-1696525200@abctrafficschool.net
SUMMARY:8 hour class: 9am-5pm Live Streaming class via Zoom. You get email link 20 minutes before class CDT
DESCRIPTION:
URL:https://abctrafficschool.net/event/8-hour-class-9am-5pm-live-streaming-class-via-zoom-you-get-email-link-20-minutes-before-class-cdt-116/
END:VEVENT
BEGIN:VEVENT
DTSTART;TZID=America/Chicago:20231005T090000
DTEND;TZID=America/Chicago:20231005T130000
DTSTAMP:20260422T191306
CREATED:20230908T121942Z
LAST-MODIFIED:20230908T121942Z
UID:9652-1696496400-1696510800@abctrafficschool.net
SUMMARY:4 hour class: 9am-1pm Live Streaming class via Zoom. You get email link 20 minutes before class CDT
DESCRIPTION:
URL:https://abctrafficschool.net/event/4-hour-class-9am-1pm-live-streaming-class-via-zoom-you-get-email-link-20-minutes-before-class-cdt-121/
END:VEVENT
BEGIN:VEVENT
DTSTART;TZID=America/Chicago:20231001T170000
DTEND;TZID=America/Chicago:20231001T210000
DTSTAMP:20260422T191306
CREATED:20230905T214500Z
LAST-MODIFIED:20230905T214500Z
UID:9577-1696179600-1696194000@abctrafficschool.net
SUMMARY:4 hour class: Franklin Drury Hotel 5-9pm
DESCRIPTION:
URL:https://abctrafficschool.net/event/4-hour-class-franklin-drury-hotel-5-9pm-71/
END:VEVENT
BEGIN:VEVENT
DTSTART;TZID=America/Chicago:20231001T130000
DTEND;TZID=America/Chicago:20231001T210000
DTSTAMP:20260422T191306
CREATED:20230905T214603Z
LAST-MODIFIED:20230905T214603Z
UID:9579-1696165200-1696194000@abctrafficschool.net
SUMMARY:8 hour class: Franklin Drury Hotel 1-9pm
DESCRIPTION:
URL:https://abctrafficschool.net/event/8-hour-class-franklin-drury-hotel-1-9pm-72/
END:VEVENT
BEGIN:VEVENT
DTSTART;TZID=America/Chicago:20231001T130000
DTEND;TZID=America/Chicago:20231001T170000
DTSTAMP:20260422T191306
CREATED:20230905T214418Z
LAST-MODIFIED:20230905T214418Z
UID:9575-1696165200-1696179600@abctrafficschool.net
SUMMARY:4 hour class: Franklin Drury Hotel 1-5pm
DESCRIPTION:
URL:https://abctrafficschool.net/event/4-hour-class-franklin-drury-hotel-1-5pm-73/
END:VEVENT
BEGIN:VEVENT
DTSTART;TZID=America/Chicago:20230930T080000
DTEND;TZID=America/Chicago:20230930T160000
DTSTAMP:20260422T191306
CREATED:20230905T212717Z
LAST-MODIFIED:20230905T212717Z
UID:9547-1696060800-1696089600@abctrafficschool.net
SUMMARY:4 hour class: 8am-4pm Live Streaming class via Zoom. You get email link 20 minutes before class CDT
DESCRIPTION:
URL:https://abctrafficschool.net/event/4-hour-class-8am-4pm-live-streaming-class-via-zoom-you-get-email-link-20-minutes-before-class-cdt-3/
END:VEVENT
BEGIN:VEVENT
DTSTART;TZID=America/Chicago:20230930T080000
DTEND;TZID=America/Chicago:20230930T120000
DTSTAMP:20260422T191306
CREATED:20230905T212635Z
LAST-MODIFIED:20230905T212635Z
UID:9545-1696060800-1696075200@abctrafficschool.net
SUMMARY:4 hour class: 8am-12noon Live Streaming class via Zoom. You get email link 20 minutes before class CDT
DESCRIPTION:
URL:https://abctrafficschool.net/event/4-hour-class-8am-12noon-live-streaming-class-via-zoom-you-get-email-link-20-minutes-before-class-cdt-30/
END:VEVENT
BEGIN:VEVENT
DTSTART;TZID=America/Chicago:20230928T173000
DTEND;TZID=America/Chicago:20230928T213000
DTSTAMP:20260422T191306
CREATED:20230905T214855Z
LAST-MODIFIED:20230905T214855Z
UID:9585-1695922200-1695936600@abctrafficschool.net
SUMMARY:4 hour class: Franklin Drury Hotel 5:30-9:30pm
DESCRIPTION:
URL:https://abctrafficschool.net/event/4-hour-class-franklin-drury-hotel-530-930pm-57/
END:VEVENT
BEGIN:VEVENT
DTSTART;TZID=America/Chicago:20230928T140000
DTEND;TZID=America/Chicago:20230928T180000
DTSTAMP:20260422T191306
CREATED:20230905T214805Z
LAST-MODIFIED:20230905T214805Z
UID:9583-1695909600-1695924000@abctrafficschool.net
SUMMARY:4 hour class: Franklin Drury Hotel 2-6pm
DESCRIPTION:
URL:https://abctrafficschool.net/event/4-hour-class-franklin-drury-hotel-2-6pm-58/
END:VEVENT
BEGIN:VEVENT
DTSTART;TZID=America/Chicago:20230928T100000
DTEND;TZID=America/Chicago:20230928T180000
DTSTAMP:20260422T191306
CREATED:20230905T214939Z
LAST-MODIFIED:20230905T214939Z
UID:9587-1695895200-1695924000@abctrafficschool.net
SUMMARY:8 hour class: Franklin Drury Hotel 10am-6pm
DESCRIPTION:
URL:https://abctrafficschool.net/event/8-hour-class-franklin-drury-hotel-10am-6pm-12/
END:VEVENT
BEGIN:VEVENT
DTSTART;TZID=America/Chicago:20230928T100000
DTEND;TZID=America/Chicago:20230928T140000
DTSTAMP:20260422T191306
CREATED:20230905T214728Z
LAST-MODIFIED:20230905T214728Z
UID:9581-1695895200-1695909600@abctrafficschool.net
SUMMARY:4 hour class: Franklin Drury Hotel 10am-2pm
DESCRIPTION:
URL:https://abctrafficschool.net/event/4-hour-class-franklin-drury-hotel-10am-2pm-11/
END:VEVENT
BEGIN:VEVENT
DTSTART;TZID=America/Chicago:20230926T130000
DTEND;TZID=America/Chicago:20230926T170000
DTSTAMP:20260422T191306
CREATED:20230905T213000Z
LAST-MODIFIED:20230905T213000Z
UID:9551-1695733200-1695747600@abctrafficschool.net
SUMMARY:4 hour class: 1-5pm Live Streaming class via Zoom. You get email link 20 minutes before class CDT
DESCRIPTION:
URL:https://abctrafficschool.net/event/4-hour-class-1-5pm-live-streaming-class-via-zoom-you-get-email-link-20-minutes-before-class-cdt-173/
END:VEVENT
BEGIN:VEVENT
DTSTART;TZID=America/Chicago:20230926T090000
DTEND;TZID=America/Chicago:20230926T170000
DTSTAMP:20260422T191306
CREATED:20230905T213052Z
LAST-MODIFIED:20230905T213052Z
UID:9553-1695718800-1695747600@abctrafficschool.net
SUMMARY:8 hour class: 9am-5pm Live Streaming class via Zoom. You get email link 20 minutes before class CDT
DESCRIPTION:
URL:https://abctrafficschool.net/event/8-hour-class-9am-5pm-live-streaming-class-via-zoom-you-get-email-link-20-minutes-before-class-cdt-115/
END:VEVENT
BEGIN:VEVENT
DTSTART;TZID=America/Chicago:20230926T090000
DTEND;TZID=America/Chicago:20230926T130000
DTSTAMP:20260422T191306
CREATED:20230905T212916Z
LAST-MODIFIED:20230905T212916Z
UID:9549-1695718800-1695733200@abctrafficschool.net
SUMMARY:4 hour class: 9am-1pm Live Streaming class via Zoom. You get email link 20 minutes before class CDT
DESCRIPTION:
URL:https://abctrafficschool.net/event/4-hour-class-9am-1pm-live-streaming-class-via-zoom-you-get-email-link-20-minutes-before-class-cdt-120/
END:VEVENT
BEGIN:VEVENT
DTSTART;TZID=America/Chicago:20230924T170000
DTEND;TZID=America/Chicago:20230924T210000
DTSTAMP:20260422T191306
CREATED:20230905T211635Z
LAST-MODIFIED:20230905T211635Z
UID:9537-1695574800-1695589200@abctrafficschool.net
SUMMARY:4 hour class: 5-9pm Live Streaming class via Zoom. You get email link 20 minutes before class CDT
DESCRIPTION:
URL:https://abctrafficschool.net/event/4-hour-class-5-9pm-live-streaming-class-via-zoom-you-get-email-link-20-minutes-before-class-cdt-73/
END:VEVENT
BEGIN:VEVENT
DTSTART;TZID=America/Chicago:20230924T130000
DTEND;TZID=America/Chicago:20230924T210000
DTSTAMP:20260422T191306
CREATED:20230905T211720Z
LAST-MODIFIED:20230905T211720Z
UID:9539-1695560400-1695589200@abctrafficschool.net
SUMMARY:8 hour class: 1-9pm Live Streaming class via Zoom. You get email link 20 minutes before class CDT
DESCRIPTION:
URL:https://abctrafficschool.net/event/8-hour-class-1-9pm-live-streaming-class-via-zoom-you-get-email-link-20-minutes-before-class-cdt-58/
END:VEVENT
END:VCALENDAR