BEGIN:VCALENDAR
VERSION:2.0
PRODID:-//ABC Traffic School - ECPv6.15.16//NONSGML v1.0//EN
CALSCALE:GREGORIAN
METHOD:PUBLISH
X-WR-CALNAME:ABC Traffic School
X-ORIGINAL-URL:https://abctrafficschool.net
X-WR-CALDESC:Events for ABC Traffic School
REFRESH-INTERVAL;VALUE=DURATION:PT1H
X-Robots-Tag:noindex
X-PUBLISHED-TTL:PT1H
BEGIN:VTIMEZONE
TZID:America/Chicago
BEGIN:DAYLIGHT
TZOFFSETFROM:-0600
TZOFFSETTO:-0500
TZNAME:CDT
DTSTART:20220313T080000
END:DAYLIGHT
BEGIN:STANDARD
TZOFFSETFROM:-0500
TZOFFSETTO:-0600
TZNAME:CST
DTSTART:20221106T070000
END:STANDARD
BEGIN:DAYLIGHT
TZOFFSETFROM:-0600
TZOFFSETTO:-0500
TZNAME:CDT
DTSTART:20230312T080000
END:DAYLIGHT
BEGIN:STANDARD
TZOFFSETFROM:-0500
TZOFFSETTO:-0600
TZNAME:CST
DTSTART:20231105T070000
END:STANDARD
BEGIN:DAYLIGHT
TZOFFSETFROM:-0600
TZOFFSETTO:-0500
TZNAME:CDT
DTSTART:20240310T080000
END:DAYLIGHT
BEGIN:STANDARD
TZOFFSETFROM:-0500
TZOFFSETTO:-0600
TZNAME:CST
DTSTART:20241103T070000
END:STANDARD
END:VTIMEZONE
BEGIN:VEVENT
DTSTART;TZID=America/Chicago:20230906T130000
DTEND;TZID=America/Chicago:20230906T170000
DTSTAMP:20260423T041535
CREATED:20230905T210413Z
LAST-MODIFIED:20230905T210413Z
UID:9508-1694005200-1694019600@abctrafficschool.net
SUMMARY:4 hour class: 1-5pm Live Streaming class via Zoom. You get email link 20 minutes before class CDT
DESCRIPTION:
URL:https://abctrafficschool.net/event/4-hour-class-1-5pm-live-streaming-class-via-zoom-you-get-email-link-20-minutes-before-class-cdt-168/
END:VEVENT
BEGIN:VEVENT
DTSTART;TZID=America/Chicago:20230906T090000
DTEND;TZID=America/Chicago:20230906T170000
DTSTAMP:20260423T041535
CREATED:20230905T210456Z
LAST-MODIFIED:20230905T210456Z
UID:9510-1693990800-1694019600@abctrafficschool.net
SUMMARY:8 hour class: 9am-5pm Live Streaming class via Zoom. You get email link 20 minutes before class CDT
DESCRIPTION:
URL:https://abctrafficschool.net/event/8-hour-class-9am-5pm-live-streaming-class-via-zoom-you-get-email-link-20-minutes-before-class-cdt-111/
END:VEVENT
BEGIN:VEVENT
DTSTART;TZID=America/Chicago:20230906T090000
DTEND;TZID=America/Chicago:20230906T130000
DTSTAMP:20260423T041535
CREATED:20230905T210334Z
LAST-MODIFIED:20230905T210334Z
UID:9506-1693990800-1694005200@abctrafficschool.net
SUMMARY:4 hour class: 9am-1pm Live Streaming class via Zoom. You get email link 20 minutes before class CDT
DESCRIPTION:
URL:https://abctrafficschool.net/event/4-hour-class-9am-1pm-live-streaming-class-via-zoom-you-get-email-link-20-minutes-before-class-cdt-117/
END:VEVENT
BEGIN:VEVENT
DTSTART;TZID=America/Chicago:20230830T130000
DTEND;TZID=America/Chicago:20230830T170000
DTSTAMP:20260423T041535
CREATED:20230612T153953Z
LAST-MODIFIED:20230612T153953Z
UID:9483-1693400400-1693414800@abctrafficschool.net
SUMMARY:4 hour class: 1-5pm Live Streaming class via Zoom. You get email link 20 minutes before class CDT
DESCRIPTION:
URL:https://abctrafficschool.net/event/4-hour-class-1-5pm-live-streaming-class-via-zoom-you-get-email-link-20-minutes-before-class-cdt-165/
END:VEVENT
BEGIN:VEVENT
DTSTART;TZID=America/Chicago:20230830T090000
DTEND;TZID=America/Chicago:20230830T170000
DTSTAMP:20260423T041535
CREATED:20230612T154300Z
LAST-MODIFIED:20230612T154300Z
UID:9490-1693386000-1693414800@abctrafficschool.net
SUMMARY:8 hour class: 9am-5pm Live Streaming class via Zoom. You get email link 20 minutes before class CDT
DESCRIPTION:
URL:https://abctrafficschool.net/event/8-hour-class-9am-5pm-live-streaming-class-via-zoom-you-get-email-link-20-minutes-before-class-cdt-112/
END:VEVENT
BEGIN:VEVENT
DTSTART;TZID=America/Chicago:20230830T090000
DTEND;TZID=America/Chicago:20230830T130000
DTSTAMP:20260423T041535
CREATED:20230612T153900Z
LAST-MODIFIED:20230612T153900Z
UID:9481-1693386000-1693400400@abctrafficschool.net
SUMMARY:4 hour class: 9am-1pm Live Streaming class via Zoom. You get email link 20 minutes before class CDT
DESCRIPTION:
URL:https://abctrafficschool.net/event/4-hour-class-9am-1pm-live-streaming-class-via-zoom-you-get-email-link-20-minutes-before-class-cdt-116/
END:VEVENT
BEGIN:VEVENT
DTSTART;TZID=America/Chicago:20230819T080000
DTEND;TZID=America/Chicago:20230819T160000
DTSTAMP:20260423T041535
CREATED:20230601T171051Z
LAST-MODIFIED:20230601T171051Z
UID:9448-1692432000-1692460800@abctrafficschool.net
SUMMARY:8 hour class: 8am-4pm Live Streaming class via Zoom. You get email link 20 minutes before class CDT
DESCRIPTION:
URL:https://abctrafficschool.net/event/8-hour-class-8am-4pm-live-streaming-class-via-zoom-you-get-email-link-20-minutes-before-class-cdt-25/
END:VEVENT
BEGIN:VEVENT
DTSTART;TZID=America/Chicago:20230819T080000
DTEND;TZID=America/Chicago:20230819T120000
DTSTAMP:20260423T041535
CREATED:20230601T171001Z
LAST-MODIFIED:20230601T171001Z
UID:9446-1692432000-1692446400@abctrafficschool.net
SUMMARY:4 hour class: 8am-12noon Live Streaming class via Zoom. You get email link 20 minutes before class CDT
DESCRIPTION:
URL:https://abctrafficschool.net/event/4-hour-class-8am-12noon-live-streaming-class-via-zoom-you-get-email-link-20-minutes-before-class-cdt-28/
END:VEVENT
BEGIN:VEVENT
DTSTART;TZID=America/Chicago:20230817T130000
DTEND;TZID=America/Chicago:20230817T170000
DTSTAMP:20260423T041535
CREATED:20230601T172232Z
LAST-MODIFIED:20230601T172232Z
UID:9472-1692277200-1692291600@abctrafficschool.net
SUMMARY:4 hour class: 1-5pm Live Streaming class via Zoom. You get email link 20 minutes before class CDT
DESCRIPTION:
URL:https://abctrafficschool.net/event/4-hour-class-1-5pm-live-streaming-class-via-zoom-you-get-email-link-20-minutes-before-class-cdt-164/
END:VEVENT
BEGIN:VEVENT
DTSTART;TZID=America/Chicago:20230817T090000
DTEND;TZID=America/Chicago:20230817T170000
DTSTAMP:20260423T041535
CREATED:20230601T172308Z
LAST-MODIFIED:20230601T172308Z
UID:9474-1692262800-1692291600@abctrafficschool.net
SUMMARY:8 hour class: 9am-5pm Live Streaming class via Zoom. You get email link 20 minutes before class CDT
DESCRIPTION:
URL:https://abctrafficschool.net/event/8-hour-class-9am-5pm-live-streaming-class-via-zoom-you-get-email-link-20-minutes-before-class-cdt-110/
END:VEVENT
BEGIN:VEVENT
DTSTART;TZID=America/Chicago:20230817T090000
DTEND;TZID=America/Chicago:20230817T130000
DTSTAMP:20260423T041535
CREATED:20230601T172146Z
LAST-MODIFIED:20230601T172146Z
UID:9470-1692262800-1692277200@abctrafficschool.net
SUMMARY:4 hour class: 9am-1pm Live Streaming class via Zoom. You get email link 20 minutes before class CDT
DESCRIPTION:
URL:https://abctrafficschool.net/event/4-hour-class-9am-1pm-live-streaming-class-via-zoom-you-get-email-link-20-minutes-before-class-cdt-115/
END:VEVENT
BEGIN:VEVENT
DTSTART;TZID=America/Chicago:20230815T173000
DTEND;TZID=America/Chicago:20230815T213000
DTSTAMP:20260423T041535
CREATED:20230601T170112Z
LAST-MODIFIED:20230601T170112Z
UID:9428-1692120600-1692135000@abctrafficschool.net
SUMMARY:4 hour class: Franklin Drury Hotel 5:30-9:30pm
DESCRIPTION:
URL:https://abctrafficschool.net/event/4-hour-class-franklin-drury-hotel-530-930pm-56/
END:VEVENT
BEGIN:VEVENT
DTSTART;TZID=America/Chicago:20230815T140000
DTEND;TZID=America/Chicago:20230815T180000
DTSTAMP:20260423T041535
CREATED:20230601T165946Z
LAST-MODIFIED:20230601T165946Z
UID:9426-1692108000-1692122400@abctrafficschool.net
SUMMARY:4 hour class: Franklin Drury Hotel 2-6pm
DESCRIPTION:
URL:https://abctrafficschool.net/event/4-hour-class-franklin-drury-hotel-2-6pm-57/
END:VEVENT
BEGIN:VEVENT
DTSTART;TZID=America/Chicago:20230815T100000
DTEND;TZID=America/Chicago:20230815T180000
DTSTAMP:20260423T041535
CREATED:20230601T170203Z
LAST-MODIFIED:20230601T170203Z
UID:9430-1692093600-1692122400@abctrafficschool.net
SUMMARY:8 hour class: Franklin Drury Hotel 10am-6pm
DESCRIPTION:
URL:https://abctrafficschool.net/event/8-hour-class-franklin-drury-hotel-10am-6pm-11/
END:VEVENT
BEGIN:VEVENT
DTSTART;TZID=America/Chicago:20230815T100000
DTEND;TZID=America/Chicago:20230815T140000
DTSTAMP:20260423T041535
CREATED:20230601T165856Z
LAST-MODIFIED:20230601T165856Z
UID:9424-1692093600-1692108000@abctrafficschool.net
SUMMARY:4 hour class: Franklin Drury Hotel 10am-2pm
DESCRIPTION:
URL:https://abctrafficschool.net/event/4-hour-class-franklin-drury-hotel-10am-2pm-10/
END:VEVENT
BEGIN:VEVENT
DTSTART;TZID=America/Chicago:20230812T080000
DTEND;TZID=America/Chicago:20230812T160000
DTSTAMP:20260423T041535
CREATED:20230601T170929Z
LAST-MODIFIED:20230601T170929Z
UID:9444-1691827200-1691856000@abctrafficschool.net
SUMMARY:8 hour class: 8am-4pm Live Streaming class via Zoom. You get email link 20 minutes before class CDT
DESCRIPTION:
URL:https://abctrafficschool.net/event/8-hour-class-8am-4pm-live-streaming-class-via-zoom-you-get-email-link-20-minutes-before-class-cdt-24/
END:VEVENT
BEGIN:VEVENT
DTSTART;TZID=America/Chicago:20230812T080000
DTEND;TZID=America/Chicago:20230812T120000
DTSTAMP:20260423T041535
CREATED:20230601T170836Z
LAST-MODIFIED:20230601T170836Z
UID:9442-1691827200-1691841600@abctrafficschool.net
SUMMARY:4 hour class: 8am-12noon Live Streaming class via Zoom. You get email link 20 minutes before class CDT
DESCRIPTION:
URL:https://abctrafficschool.net/event/4-hour-class-8am-12noon-live-streaming-class-via-zoom-you-get-email-link-20-minutes-before-class-cdt-27/
END:VEVENT
BEGIN:VEVENT
DTSTART;TZID=America/Chicago:20230809T170000
DTEND;TZID=America/Chicago:20230809T210000
DTSTAMP:20260423T041536
CREATED:20230601T172026Z
LAST-MODIFIED:20230601T172026Z
UID:9466-1691600400-1691614800@abctrafficschool.net
SUMMARY:4 hour class: 5-9pm Live Streaming class via Zoom. You get email link 20 minutes before class CDT
DESCRIPTION:
URL:https://abctrafficschool.net/event/4-hour-class-5-9pm-live-streaming-class-via-zoom-you-get-email-link-20-minutes-before-class-cdt-69/
END:VEVENT
BEGIN:VEVENT
DTSTART;TZID=America/Chicago:20230809T130000
DTEND;TZID=America/Chicago:20230809T170000
DTSTAMP:20260423T041536
CREATED:20230601T171935Z
LAST-MODIFIED:20230601T171935Z
UID:9464-1691586000-1691600400@abctrafficschool.net
SUMMARY:4 hour class: 1-5pm Live Streaming class via Zoom. You get email link 20 minutes before class CDT
DESCRIPTION:
URL:https://abctrafficschool.net/event/4-hour-class-1-5pm-live-streaming-class-via-zoom-you-get-email-link-20-minutes-before-class-cdt-163/
END:VEVENT
BEGIN:VEVENT
DTSTART;TZID=America/Chicago:20230809T090000
DTEND;TZID=America/Chicago:20230809T170000
DTSTAMP:20260423T041536
CREATED:20230601T172111Z
LAST-MODIFIED:20230601T172111Z
UID:9468-1691571600-1691600400@abctrafficschool.net
SUMMARY:8 hour class: 9am-5pm Live Streaming class via Zoom. You get email link 20 minutes before class CDT
DESCRIPTION:
URL:https://abctrafficschool.net/event/8-hour-class-9am-5pm-live-streaming-class-via-zoom-you-get-email-link-20-minutes-before-class-cdt-109/
END:VEVENT
BEGIN:VEVENT
DTSTART;TZID=America/Chicago:20230809T090000
DTEND;TZID=America/Chicago:20230809T130000
DTSTAMP:20260423T041536
CREATED:20230601T171827Z
LAST-MODIFIED:20230601T171827Z
UID:9462-1691571600-1691586000@abctrafficschool.net
SUMMARY:4 hour class: 9am-1pm Live Streaming class via Zoom. You get email link 20 minutes before class CDT
DESCRIPTION:
URL:https://abctrafficschool.net/event/4-hour-class-9am-1pm-live-streaming-class-via-zoom-you-get-email-link-20-minutes-before-class-cdt-114/
END:VEVENT
BEGIN:VEVENT
DTSTART;TZID=America/Chicago:20230806T170000
DTEND;TZID=America/Chicago:20230806T210000
DTSTAMP:20260423T041536
CREATED:20230601T171342Z
LAST-MODIFIED:20230601T171342Z
UID:9452-1691341200-1691355600@abctrafficschool.net
SUMMARY:4 hour class: 5-9pm Live Streaming class via Zoom. You get email link 20 minutes before class CDT
DESCRIPTION:
URL:https://abctrafficschool.net/event/4-hour-class-5-9pm-live-streaming-class-via-zoom-you-get-email-link-20-minutes-before-class-cdt-68/
END:VEVENT
BEGIN:VEVENT
DTSTART;TZID=America/Chicago:20230806T130000
DTEND;TZID=America/Chicago:20230806T210000
DTSTAMP:20260423T041536
CREATED:20230601T171431Z
LAST-MODIFIED:20230601T171431Z
UID:9454-1691326800-1691355600@abctrafficschool.net
SUMMARY:8 hour class: 1-9pm Live Streaming class via Zoom. You get email link 20 minutes before class CDT
DESCRIPTION:
URL:https://abctrafficschool.net/event/8-hour-class-1-9pm-live-streaming-class-via-zoom-you-get-email-link-20-minutes-before-class-cdt-55/
END:VEVENT
BEGIN:VEVENT
DTSTART;TZID=America/Chicago:20230806T130000
DTEND;TZID=America/Chicago:20230806T170000
DTSTAMP:20260423T041536
CREATED:20230601T171303Z
LAST-MODIFIED:20230601T171303Z
UID:9450-1691326800-1691341200@abctrafficschool.net
SUMMARY:4 hour class: 1-5pm Live Streaming class via Zoom. You get email link 20 minutes before class CDT
DESCRIPTION:
URL:https://abctrafficschool.net/event/4-hour-class-1-5pm-live-streaming-class-via-zoom-you-get-email-link-20-minutes-before-class-cdt-161/
END:VEVENT
BEGIN:VEVENT
DTSTART;TZID=America/Chicago:20230805T080000
DTEND;TZID=America/Chicago:20230805T160000
DTSTAMP:20260423T041536
CREATED:20230601T165440Z
LAST-MODIFIED:20230601T165440Z
UID:9414-1691222400-1691251200@abctrafficschool.net
SUMMARY:8 hour class: Franklin Drury Hotel 8am-4pm
DESCRIPTION:
URL:https://abctrafficschool.net/event/8-hour-class-franklin-drury-hotel-8am-4pm-18/
END:VEVENT
BEGIN:VEVENT
DTSTART;TZID=America/Chicago:20230805T080000
DTEND;TZID=America/Chicago:20230805T120000
DTSTAMP:20260423T041536
CREATED:20230601T165348Z
LAST-MODIFIED:20230601T165348Z
UID:9412-1691222400-1691236800@abctrafficschool.net
SUMMARY:4 hour class: Franklin Drury Hotel 8am-12noon
DESCRIPTION:
URL:https://abctrafficschool.net/event/4-hour-class-franklin-drury-hotel-8am-12noon-17/
END:VEVENT
BEGIN:VEVENT
DTSTART;TZID=America/Chicago:20230802T130000
DTEND;TZID=America/Chicago:20230802T170000
DTSTAMP:20260423T041536
CREATED:20230601T171700Z
LAST-MODIFIED:20230601T171700Z
UID:9458-1690981200-1690995600@abctrafficschool.net
SUMMARY:4 hour class: 1-5pm Live Streaming class via Zoom. You get email link 20 minutes before class CDT
DESCRIPTION:
URL:https://abctrafficschool.net/event/4-hour-class-1-5pm-live-streaming-class-via-zoom-you-get-email-link-20-minutes-before-class-cdt-162/
END:VEVENT
BEGIN:VEVENT
DTSTART;TZID=America/Chicago:20230802T090000
DTEND;TZID=America/Chicago:20230802T170000
DTSTAMP:20260423T041536
CREATED:20230601T171748Z
LAST-MODIFIED:20230601T171748Z
UID:9460-1690966800-1690995600@abctrafficschool.net
SUMMARY:8 hour class: 9am-5pm Live Streaming class via Zoom. You get email link 20 minutes before class CDT
DESCRIPTION:
URL:https://abctrafficschool.net/event/8-hour-class-9am-5pm-live-streaming-class-via-zoom-you-get-email-link-20-minutes-before-class-cdt-108/
END:VEVENT
BEGIN:VEVENT
DTSTART;TZID=America/Chicago:20230802T090000
DTEND;TZID=America/Chicago:20230802T130000
DTSTAMP:20260423T041536
CREATED:20230601T171618Z
LAST-MODIFIED:20230601T171618Z
UID:9456-1690966800-1690981200@abctrafficschool.net
SUMMARY:4 hour class: 9am-1pm Live Streaming class via Zoom. You get email link 20 minutes before class CDT
DESCRIPTION:
URL:https://abctrafficschool.net/event/4-hour-class-9am-1pm-live-streaming-class-via-zoom-you-get-email-link-20-minutes-before-class-cdt-113/
END:VEVENT
BEGIN:VEVENT
DTSTART;TZID=America/Chicago:20230730T170000
DTEND;TZID=America/Chicago:20230730T210000
DTSTAMP:20260423T041536
CREATED:20230612T154917Z
LAST-MODIFIED:20230612T154917Z
UID:9500-1690736400-1690750800@abctrafficschool.net
SUMMARY:4 hour class: 5-9pm Live Streaming class via Zoom. You get email link 20 minutes before class CDT
DESCRIPTION:
URL:https://abctrafficschool.net/event/4-hour-class-5-9pm-live-streaming-class-via-zoom-you-get-email-link-20-minutes-before-class-cdt-70/
END:VEVENT
END:VCALENDAR