BEGIN:VCALENDAR
VERSION:2.0
PRODID:-//ABC Traffic School - ECPv6.15.16//NONSGML v1.0//EN
CALSCALE:GREGORIAN
METHOD:PUBLISH
X-WR-CALNAME:ABC Traffic School
X-ORIGINAL-URL:https://abctrafficschool.net
X-WR-CALDESC:Events for ABC Traffic School
REFRESH-INTERVAL;VALUE=DURATION:PT1H
X-Robots-Tag:noindex
X-PUBLISHED-TTL:PT1H
BEGIN:VTIMEZONE
TZID:America/Chicago
BEGIN:DAYLIGHT
TZOFFSETFROM:-0600
TZOFFSETTO:-0500
TZNAME:CDT
DTSTART:20220313T080000
END:DAYLIGHT
BEGIN:STANDARD
TZOFFSETFROM:-0500
TZOFFSETTO:-0600
TZNAME:CST
DTSTART:20221106T070000
END:STANDARD
BEGIN:DAYLIGHT
TZOFFSETFROM:-0600
TZOFFSETTO:-0500
TZNAME:CDT
DTSTART:20230312T080000
END:DAYLIGHT
BEGIN:STANDARD
TZOFFSETFROM:-0500
TZOFFSETTO:-0600
TZNAME:CST
DTSTART:20231105T070000
END:STANDARD
BEGIN:DAYLIGHT
TZOFFSETFROM:-0600
TZOFFSETTO:-0500
TZNAME:CDT
DTSTART:20240310T080000
END:DAYLIGHT
BEGIN:STANDARD
TZOFFSETFROM:-0500
TZOFFSETTO:-0600
TZNAME:CST
DTSTART:20241103T070000
END:STANDARD
END:VTIMEZONE
BEGIN:VEVENT
DTSTART;TZID=America/Chicago:20230712T090000
DTEND;TZID=America/Chicago:20230712T130000
DTSTAMP:20260423T124927
CREATED:20230515T181626Z
LAST-MODIFIED:20230515T181626Z
UID:9397-1689152400-1689166800@abctrafficschool.net
SUMMARY:4 hour class: 9am-1pm Live Streaming class via Zoom. You get email link 20 minutes before class CDT
DESCRIPTION:
URL:https://abctrafficschool.net/event/4-hour-class-9am-1pm-live-streaming-class-via-zoom-you-get-email-link-20-minutes-before-class-cdt-111/
END:VEVENT
BEGIN:VEVENT
DTSTART;TZID=America/Chicago:20230709T170000
DTEND;TZID=America/Chicago:20230709T210000
DTSTAMP:20260423T124927
CREATED:20230515T180803Z
LAST-MODIFIED:20230515T180803Z
UID:9379-1688922000-1688936400@abctrafficschool.net
SUMMARY:4 hour class: 5-9pm Live Streaming class via Zoom. You get email link 20 minutes before class CDT
DESCRIPTION:
URL:https://abctrafficschool.net/event/4-hour-class-5-9pm-live-streaming-class-via-zoom-you-get-email-link-20-minutes-before-class-cdt-65/
END:VEVENT
BEGIN:VEVENT
DTSTART;TZID=America/Chicago:20230709T130000
DTEND;TZID=America/Chicago:20230709T210000
DTSTAMP:20260423T124927
CREATED:20230515T180855Z
LAST-MODIFIED:20230515T180855Z
UID:9381-1688907600-1688936400@abctrafficschool.net
SUMMARY:8 hour class: 1-9pm Live Streaming class via Zoom. You get email link 20 minutes before class CDT
DESCRIPTION:
URL:https://abctrafficschool.net/event/8-hour-class-1-9pm-live-streaming-class-via-zoom-you-get-email-link-20-minutes-before-class-cdt-54/
END:VEVENT
BEGIN:VEVENT
DTSTART;TZID=America/Chicago:20230709T130000
DTEND;TZID=America/Chicago:20230709T170000
DTSTAMP:20260423T124927
CREATED:20230515T180656Z
LAST-MODIFIED:20230515T180656Z
UID:9377-1688907600-1688922000@abctrafficschool.net
SUMMARY:4 hour class: 1-5pm Live Streaming class via Zoom. You get email link 20 minutes before class CDT
DESCRIPTION:
URL:https://abctrafficschool.net/event/4-hour-class-1-5pm-live-streaming-class-via-zoom-you-get-email-link-20-minutes-before-class-cdt-156/
END:VEVENT
BEGIN:VEVENT
DTSTART;TZID=America/Chicago:20230708T080000
DTEND;TZID=America/Chicago:20230708T160000
DTSTAMP:20260423T124927
CREATED:20230414T152903Z
LAST-MODIFIED:20230414T152903Z
UID:9320-1688803200-1688832000@abctrafficschool.net
SUMMARY:8 hour class: Franklin Drury Hotel 8am-4pm
DESCRIPTION:
URL:https://abctrafficschool.net/event/8-hour-class-franklin-drury-hotel-8am-4pm-17/
END:VEVENT
BEGIN:VEVENT
DTSTART;TZID=America/Chicago:20230708T080000
DTEND;TZID=America/Chicago:20230708T120000
DTSTAMP:20260423T124927
CREATED:20230414T152811Z
LAST-MODIFIED:20230414T152811Z
UID:9318-1688803200-1688817600@abctrafficschool.net
SUMMARY:4 hour class: Franklin Drury Hotel 8am-12noon
DESCRIPTION:
URL:https://abctrafficschool.net/event/4-hour-class-franklin-drury-hotel-8am-12noon-16/
END:VEVENT
BEGIN:VEVENT
DTSTART;TZID=America/Chicago:20230706T130000
DTEND;TZID=America/Chicago:20230706T170000
DTSTAMP:20260423T124927
CREATED:20230515T181457Z
LAST-MODIFIED:20230515T181457Z
UID:9393-1688648400-1688662800@abctrafficschool.net
SUMMARY:4 hour class: 1-5pm Live Streaming class via Zoom. You get email link 20 minutes before class CDT
DESCRIPTION:
URL:https://abctrafficschool.net/event/4-hour-class-1-5pm-live-streaming-class-via-zoom-you-get-email-link-20-minutes-before-class-cdt-158/
END:VEVENT
BEGIN:VEVENT
DTSTART;TZID=America/Chicago:20230706T090000
DTEND;TZID=America/Chicago:20230706T170000
DTSTAMP:20260423T124927
CREATED:20230515T181541Z
LAST-MODIFIED:20230515T181541Z
UID:9395-1688634000-1688662800@abctrafficschool.net
SUMMARY:8 hour class: 9am-5pm Live Streaming class via Zoom. You get email link 20 minutes before class CDT
DESCRIPTION:
URL:https://abctrafficschool.net/event/8-hour-class-9am-5pm-live-streaming-class-via-zoom-you-get-email-link-20-minutes-before-class-cdt-105/
END:VEVENT
BEGIN:VEVENT
DTSTART;TZID=America/Chicago:20230706T090000
DTEND;TZID=America/Chicago:20230706T130000
DTSTAMP:20260423T124927
CREATED:20230515T181404Z
LAST-MODIFIED:20230515T181404Z
UID:9391-1688634000-1688648400@abctrafficschool.net
SUMMARY:4 hour class: 9am-1pm Live Streaming class via Zoom. You get email link 20 minutes before class CDT
DESCRIPTION:
URL:https://abctrafficschool.net/event/4-hour-class-9am-1pm-live-streaming-class-via-zoom-you-get-email-link-20-minutes-before-class-cdt-110/
END:VEVENT
BEGIN:VEVENT
DTSTART;TZID=America/Chicago:20230702T170000
DTEND;TZID=America/Chicago:20230702T210000
DTSTAMP:20260423T124927
CREATED:20230515T180438Z
LAST-MODIFIED:20230515T180438Z
UID:9373-1688317200-1688331600@abctrafficschool.net
SUMMARY:4 hour class: 5-9pm Live Streaming class via Zoom. You get email link 20 minutes before class CDT
DESCRIPTION:
URL:https://abctrafficschool.net/event/4-hour-class-5-9pm-live-streaming-class-via-zoom-you-get-email-link-20-minutes-before-class-cdt-64/
END:VEVENT
BEGIN:VEVENT
DTSTART;TZID=America/Chicago:20230702T130000
DTEND;TZID=America/Chicago:20230702T210000
DTSTAMP:20260423T124927
CREATED:20230515T180555Z
LAST-MODIFIED:20230515T180555Z
UID:9375-1688302800-1688331600@abctrafficschool.net
SUMMARY:8 hour class: 1-9pm Live Streaming class via Zoom. You get email link 20 minutes before class CDT
DESCRIPTION:
URL:https://abctrafficschool.net/event/8-hour-class-1-9pm-live-streaming-class-via-zoom-you-get-email-link-20-minutes-before-class-cdt-53/
END:VEVENT
BEGIN:VEVENT
DTSTART;TZID=America/Chicago:20230702T130000
DTEND;TZID=America/Chicago:20230702T170000
DTSTAMP:20260423T124927
CREATED:20230515T180322Z
LAST-MODIFIED:20230515T180322Z
UID:9371-1688302800-1688317200@abctrafficschool.net
SUMMARY:4 hour class: 1-5pm Live Streaming class via Zoom. You get email link 20 minutes before class CDT
DESCRIPTION:
URL:https://abctrafficschool.net/event/4-hour-class-1-5pm-live-streaming-class-via-zoom-you-get-email-link-20-minutes-before-class-cdt-155/
END:VEVENT
BEGIN:VEVENT
DTSTART;TZID=America/Chicago:20230628T170000
DTEND;TZID=America/Chicago:20230628T210000
DTSTAMP:20260423T124927
CREATED:20230515T181237Z
LAST-MODIFIED:20230515T181237Z
UID:9387-1687971600-1687986000@abctrafficschool.net
SUMMARY:4 hour class: 5-9pm Live Streaming class via Zoom. You get email link 20 minutes before class CDT
DESCRIPTION:
URL:https://abctrafficschool.net/event/4-hour-class-5-9pm-live-streaming-class-via-zoom-you-get-email-link-20-minutes-before-class-cdt-66/
END:VEVENT
BEGIN:VEVENT
DTSTART;TZID=America/Chicago:20230628T130000
DTEND;TZID=America/Chicago:20230628T170000
DTSTAMP:20260423T124927
CREATED:20230515T181152Z
LAST-MODIFIED:20230515T181152Z
UID:9385-1687957200-1687971600@abctrafficschool.net
SUMMARY:4 hour class: 1-5pm Live Streaming class via Zoom. You get email link 20 minutes before class CDT
DESCRIPTION:
URL:https://abctrafficschool.net/event/4-hour-class-1-5pm-live-streaming-class-via-zoom-you-get-email-link-20-minutes-before-class-cdt-157/
END:VEVENT
BEGIN:VEVENT
DTSTART;TZID=America/Chicago:20230628T090000
DTEND;TZID=America/Chicago:20230628T170000
DTSTAMP:20260423T124927
CREATED:20230515T181321Z
LAST-MODIFIED:20230515T181321Z
UID:9389-1687942800-1687971600@abctrafficschool.net
SUMMARY:8 hour class: 9am-5pm Live Streaming class via Zoom. You get email link 20 minutes before class CDT
DESCRIPTION:
URL:https://abctrafficschool.net/event/8-hour-class-9am-5pm-live-streaming-class-via-zoom-you-get-email-link-20-minutes-before-class-cdt-104/
END:VEVENT
BEGIN:VEVENT
DTSTART;TZID=America/Chicago:20230628T090000
DTEND;TZID=America/Chicago:20230628T130000
DTSTAMP:20260423T124927
CREATED:20230515T181056Z
LAST-MODIFIED:20230515T181056Z
UID:9383-1687942800-1687957200@abctrafficschool.net
SUMMARY:4 hour class: 9am-1pm Live Streaming class via Zoom. You get email link 20 minutes before class CDT
DESCRIPTION:
URL:https://abctrafficschool.net/event/4-hour-class-9am-1pm-live-streaming-class-via-zoom-you-get-email-link-20-minutes-before-class-cdt-109/
END:VEVENT
BEGIN:VEVENT
DTSTART;TZID=America/Chicago:20230625T170000
DTEND;TZID=America/Chicago:20230625T210000
DTSTAMP:20260423T124927
CREATED:20230414T152004Z
LAST-MODIFIED:20230414T152004Z
UID:9309-1687712400-1687726800@abctrafficschool.net
SUMMARY:4 hour class: Franklin Drury Hotel 5-9pm
DESCRIPTION:
URL:https://abctrafficschool.net/event/4-hour-class-franklin-drury-hotel-5-9pm-68/
END:VEVENT
BEGIN:VEVENT
DTSTART;TZID=America/Chicago:20230625T130000
DTEND;TZID=America/Chicago:20230625T210000
DTSTAMP:20260423T124927
CREATED:20230414T152210Z
LAST-MODIFIED:20230414T152210Z
UID:9312-1687698000-1687726800@abctrafficschool.net
SUMMARY:8 hour class: Franklin Drury Hotel 1-9pm
DESCRIPTION:
URL:https://abctrafficschool.net/event/8-hour-class-franklin-drury-hotel-1-9pm-70/
END:VEVENT
BEGIN:VEVENT
DTSTART;TZID=America/Chicago:20230625T130000
DTEND;TZID=America/Chicago:20230625T170000
DTSTAMP:20260423T124927
CREATED:20230414T151905Z
LAST-MODIFIED:20230414T151905Z
UID:9307-1687698000-1687712400@abctrafficschool.net
SUMMARY:4 hour class: Franklin Drury Hotel 1-5pm
DESCRIPTION:
URL:https://abctrafficschool.net/event/4-hour-class-franklin-drury-hotel-1-5pm-70/
END:VEVENT
BEGIN:VEVENT
DTSTART;TZID=America/Chicago:20230624T080000
DTEND;TZID=America/Chicago:20230624T160000
DTSTAMP:20260423T124927
CREATED:20230414T153533Z
LAST-MODIFIED:20230414T153533Z
UID:9332-1687593600-1687622400@abctrafficschool.net
SUMMARY:8 hour class: 8am-4pm Live Streaming class via Zoom. You get email link 20 minutes before class CDT
DESCRIPTION:
URL:https://abctrafficschool.net/event/8-hour-class-8am-4pm-live-streaming-class-via-zoom-you-get-email-link-20-minutes-before-class-cdt-22/
END:VEVENT
BEGIN:VEVENT
DTSTART;TZID=America/Chicago:20230624T080000
DTEND;TZID=America/Chicago:20230624T120000
DTSTAMP:20260423T124927
CREATED:20230414T153449Z
LAST-MODIFIED:20230414T153449Z
UID:9330-1687593600-1687608000@abctrafficschool.net
SUMMARY:4 hour class: 8am-12noon Live Streaming class via Zoom. You get email link 20 minutes before class CDT
DESCRIPTION:
URL:https://abctrafficschool.net/event/4-hour-class-8am-12noon-live-streaming-class-via-zoom-you-get-email-link-20-minutes-before-class-cdt-24/
END:VEVENT
BEGIN:VEVENT
DTSTART;TZID=America/Chicago:20230621T130000
DTEND;TZID=America/Chicago:20230621T170000
DTSTAMP:20260423T124927
CREATED:20230414T154546Z
LAST-MODIFIED:20230414T154546Z
UID:9354-1687352400-1687366800@abctrafficschool.net
SUMMARY:4 hour class: 1-5pm Live Streaming class via Zoom. You get email link 20 minutes before class CDT
DESCRIPTION:
URL:https://abctrafficschool.net/event/4-hour-class-1-5pm-live-streaming-class-via-zoom-you-get-email-link-20-minutes-before-class-cdt-153/
END:VEVENT
BEGIN:VEVENT
DTSTART;TZID=America/Chicago:20230621T090000
DTEND;TZID=America/Chicago:20230621T170000
DTSTAMP:20260423T124927
CREATED:20230414T154629Z
LAST-MODIFIED:20230414T154629Z
UID:9356-1687338000-1687366800@abctrafficschool.net
SUMMARY:8 hour class: 9am-5pm Live Streaming class via Zoom. You get email link 20 minutes before class CDT
DESCRIPTION:
URL:https://abctrafficschool.net/event/8-hour-class-9am-5pm-live-streaming-class-via-zoom-you-get-email-link-20-minutes-before-class-cdt-103/
END:VEVENT
BEGIN:VEVENT
DTSTART;TZID=America/Chicago:20230621T090000
DTEND;TZID=America/Chicago:20230621T130000
DTSTAMP:20260423T124927
CREATED:20230414T154459Z
LAST-MODIFIED:20230414T154459Z
UID:9352-1687338000-1687352400@abctrafficschool.net
SUMMARY:4 hour class: 9am-1pm Live Streaming class via Zoom. You get email link 20 minutes before class CDT
DESCRIPTION:
URL:https://abctrafficschool.net/event/4-hour-class-9am-1pm-live-streaming-class-via-zoom-you-get-email-link-20-minutes-before-class-cdt-108/
END:VEVENT
BEGIN:VEVENT
DTSTART;TZID=America/Chicago:20230617T080000
DTEND;TZID=America/Chicago:20230617T160000
DTSTAMP:20260423T124927
CREATED:20230414T153340Z
LAST-MODIFIED:20230414T153340Z
UID:9328-1686988800-1687017600@abctrafficschool.net
SUMMARY:8 hour class: 8am-4pm Live Streaming class via Zoom. You get email link 20 minutes before class CDT
DESCRIPTION:
URL:https://abctrafficschool.net/event/8-hour-class-8am-4pm-live-streaming-class-via-zoom-you-get-email-link-20-minutes-before-class-cdt-21/
END:VEVENT
BEGIN:VEVENT
DTSTART;TZID=America/Chicago:20230617T080000
DTEND;TZID=America/Chicago:20230617T160000
DTSTAMP:20260423T124927
CREATED:20230414T153242Z
LAST-MODIFIED:20230414T153242Z
UID:9326-1686988800-1687017600@abctrafficschool.net
SUMMARY:4 hour class: 8am-12noon Live Streaming class via Zoom. You get email link 20 minutes before class CDT
DESCRIPTION:
URL:https://abctrafficschool.net/event/4-hour-class-8am-12noon-live-streaming-class-via-zoom-you-get-email-link-20-minutes-before-class-cdt-23/
END:VEVENT
BEGIN:VEVENT
DTSTART;TZID=America/Chicago:20230615T173000
DTEND;TZID=America/Chicago:20230615T213000
DTSTAMP:20260423T124927
CREATED:20230414T151205Z
LAST-MODIFIED:20230414T151205Z
UID:9297-1686850200-1686864600@abctrafficschool.net
SUMMARY:4 hour class: Franklin Drury Hotel 5:30-9:30pm
DESCRIPTION:
URL:https://abctrafficschool.net/event/4-hour-class-franklin-drury-hotel-530-930pm-54/
END:VEVENT
BEGIN:VEVENT
DTSTART;TZID=America/Chicago:20230615T150000
DTEND;TZID=America/Chicago:20230615T180000
DTSTAMP:20260423T124927
CREATED:20230414T151100Z
LAST-MODIFIED:20230414T151100Z
UID:9295-1686841200-1686852000@abctrafficschool.net
SUMMARY:4 hour class: Franklin Drury Hotel 2-6pm
DESCRIPTION:
URL:https://abctrafficschool.net/event/4-hour-class-franklin-drury-hotel-2-6pm-55/
END:VEVENT
BEGIN:VEVENT
DTSTART;TZID=America/Chicago:20230615T100000
DTEND;TZID=America/Chicago:20230615T180000
DTSTAMP:20260423T124927
CREATED:20230414T151300Z
LAST-MODIFIED:20230414T151300Z
UID:9299-1686823200-1686852000@abctrafficschool.net
SUMMARY:8 hour class: Franklin Drury Hotel 10am-6pm
DESCRIPTION:
URL:https://abctrafficschool.net/event/8-hour-class-franklin-drury-hotel-10am-6pm-9/
END:VEVENT
BEGIN:VEVENT
DTSTART;TZID=America/Chicago:20230615T100000
DTEND;TZID=America/Chicago:20230615T140000
DTSTAMP:20260423T124927
CREATED:20230414T151009Z
LAST-MODIFIED:20230414T151009Z
UID:9293-1686823200-1686837600@abctrafficschool.net
SUMMARY:4 hour class: Franklin Drury Hotel 10am-2pm
DESCRIPTION:
URL:https://abctrafficschool.net/event/4-hour-class-franklin-drury-hotel-10am-2pm-8/
END:VEVENT
END:VCALENDAR