BEGIN:VCALENDAR
VERSION:2.0
PRODID:-//ABC Traffic School - ECPv6.15.16//NONSGML v1.0//EN
CALSCALE:GREGORIAN
METHOD:PUBLISH
X-WR-CALNAME:ABC Traffic School
X-ORIGINAL-URL:https://abctrafficschool.net
X-WR-CALDESC:Events for ABC Traffic School
REFRESH-INTERVAL;VALUE=DURATION:PT1H
X-Robots-Tag:noindex
X-PUBLISHED-TTL:PT1H
BEGIN:VTIMEZONE
TZID:America/Chicago
BEGIN:DAYLIGHT
TZOFFSETFROM:-0600
TZOFFSETTO:-0500
TZNAME:CDT
DTSTART:20220313T080000
END:DAYLIGHT
BEGIN:STANDARD
TZOFFSETFROM:-0500
TZOFFSETTO:-0600
TZNAME:CST
DTSTART:20221106T070000
END:STANDARD
BEGIN:DAYLIGHT
TZOFFSETFROM:-0600
TZOFFSETTO:-0500
TZNAME:CDT
DTSTART:20230312T080000
END:DAYLIGHT
BEGIN:STANDARD
TZOFFSETFROM:-0500
TZOFFSETTO:-0600
TZNAME:CST
DTSTART:20231105T070000
END:STANDARD
BEGIN:DAYLIGHT
TZOFFSETFROM:-0600
TZOFFSETTO:-0500
TZNAME:CDT
DTSTART:20240310T080000
END:DAYLIGHT
BEGIN:STANDARD
TZOFFSETFROM:-0500
TZOFFSETTO:-0600
TZNAME:CST
DTSTART:20241103T070000
END:STANDARD
END:VTIMEZONE
BEGIN:VEVENT
DTSTART;TZID=America/Chicago:20230607T090000
DTEND;TZID=America/Chicago:20230607T130000
DTSTAMP:20260423T193632
CREATED:20230414T154043Z
LAST-MODIFIED:20230414T154043Z
UID:9340-1686128400-1686142800@abctrafficschool.net
SUMMARY:4 hour class: 9am-1pm Live Streaming class via Zoom. You get email link 20 minutes before class CDT
DESCRIPTION:
URL:https://abctrafficschool.net/event/4-hour-class-9am-1pm-live-streaming-class-via-zoom-you-get-email-link-20-minutes-before-class-cdt-106/
END:VEVENT
BEGIN:VEVENT
DTSTART;TZID=America/Chicago:20230604T170000
DTEND;TZID=America/Chicago:20230604T210000
DTSTAMP:20260423T193632
CREATED:20230414T153901Z
LAST-MODIFIED:20230414T153901Z
UID:9336-1685898000-1685912400@abctrafficschool.net
SUMMARY:4 hour class: 5-9pm Live Streaming class via Zoom. You get email link 20 minutes before class CDT
DESCRIPTION:
URL:https://abctrafficschool.net/event/4-hour-class-5-9pm-live-streaming-class-via-zoom-you-get-email-link-20-minutes-before-class-cdt-62/
END:VEVENT
BEGIN:VEVENT
DTSTART;TZID=America/Chicago:20230604T130000
DTEND;TZID=America/Chicago:20230604T210000
DTSTAMP:20260423T193632
CREATED:20230414T154000Z
LAST-MODIFIED:20230414T154000Z
UID:9338-1685883600-1685912400@abctrafficschool.net
SUMMARY:8 hour class: 1-9pm Live Streaming class via Zoom. You get email link 20 minutes before class CDT
DESCRIPTION:
URL:https://abctrafficschool.net/event/8-hour-class-1-9pm-live-streaming-class-via-zoom-you-get-email-link-20-minutes-before-class-cdt-51/
END:VEVENT
BEGIN:VEVENT
DTSTART;TZID=America/Chicago:20230604T130000
DTEND;TZID=America/Chicago:20230604T170000
DTSTAMP:20260423T193632
CREATED:20230414T153806Z
LAST-MODIFIED:20230414T153806Z
UID:9334-1685883600-1685898000@abctrafficschool.net
SUMMARY:4 hour class: 1-5pm Live Streaming class via Zoom. You get email link 20 minutes before class CDT
DESCRIPTION:
URL:https://abctrafficschool.net/event/4-hour-class-1-5pm-live-streaming-class-via-zoom-you-get-email-link-20-minutes-before-class-cdt-150/
END:VEVENT
BEGIN:VEVENT
DTSTART;TZID=America/Chicago:20230603T080000
DTEND;TZID=America/Chicago:20230603T160000
DTSTAMP:20260423T193632
CREATED:20230414T152714Z
LAST-MODIFIED:20230414T152714Z
UID:9316-1685779200-1685808000@abctrafficschool.net
SUMMARY:4 hour class: Franklin Drury Hotel 8am-4pm
DESCRIPTION:
URL:https://abctrafficschool.net/event/4-hour-class-franklin-drury-hotel-8am-4pm/
END:VEVENT
BEGIN:VEVENT
DTSTART;TZID=America/Chicago:20230603T080000
DTEND;TZID=America/Chicago:20230603T120000
DTSTAMP:20260423T193633
CREATED:20230414T152611Z
LAST-MODIFIED:20230414T152611Z
UID:9314-1685779200-1685793600@abctrafficschool.net
SUMMARY:4 hour class: Franklin Drury Hotel 8am-12noon
DESCRIPTION:
URL:https://abctrafficschool.net/event/4-hour-class-franklin-drury-hotel-8am-12noon-15/
END:VEVENT
BEGIN:VEVENT
DTSTART;TZID=America/Chicago:20230531T130000
DTEND;TZID=America/Chicago:20230531T170000
DTSTAMP:20260423T193633
CREATED:20230301T231902Z
LAST-MODIFIED:20230301T231902Z
UID:9277-1685538000-1685552400@abctrafficschool.net
SUMMARY:4 hour class: 1-5pm Live Streaming class via Zoom. You get email link 20 minutes before class CDT
DESCRIPTION:
URL:https://abctrafficschool.net/event/4-hour-class-1-5pm-live-streaming-class-via-zoom-you-get-email-link-20-minutes-before-class-cdt-149/
END:VEVENT
BEGIN:VEVENT
DTSTART;TZID=America/Chicago:20230531T090000
DTEND;TZID=America/Chicago:20230531T170000
DTSTAMP:20260423T193633
CREATED:20230301T231947Z
LAST-MODIFIED:20230301T231947Z
UID:9279-1685523600-1685552400@abctrafficschool.net
SUMMARY:8 hour class: 9am-5pm Live Streaming class via Zoom. You get email link 20 minutes before class CDT
DESCRIPTION:
URL:https://abctrafficschool.net/event/8-hour-class-9am-5pm-live-streaming-class-via-zoom-you-get-email-link-20-minutes-before-class-cdt-100/
END:VEVENT
BEGIN:VEVENT
DTSTART;TZID=America/Chicago:20230531T090000
DTEND;TZID=America/Chicago:20230531T130000
DTSTAMP:20260423T193633
CREATED:20230301T231820Z
LAST-MODIFIED:20230301T231820Z
UID:9275-1685523600-1685538000@abctrafficschool.net
SUMMARY:4 hour class: 9am-1pm Live Streaming class via Zoom. You get email link 20 minutes before class CDT
DESCRIPTION:
URL:https://abctrafficschool.net/event/4-hour-class-9am-1pm-live-streaming-class-via-zoom-you-get-email-link-20-minutes-before-class-cdt-105/
END:VEVENT
BEGIN:VEVENT
DTSTART;TZID=America/Chicago:20230528T170000
DTEND;TZID=America/Chicago:20230528T210000
DTSTAMP:20260423T193633
CREATED:20230424T223326Z
LAST-MODIFIED:20230424T223326Z
UID:9361-1685293200-1685307600@abctrafficschool.net
SUMMARY:4 hour class: 5-9pm Live Streaming class via Zoom. You get email link 20 minutes before class CDT
DESCRIPTION:
URL:https://abctrafficschool.net/event/4-hour-class-5-9pm-live-streaming-class-via-zoom-you-get-email-link-20-minutes-before-class-cdt-63/
END:VEVENT
BEGIN:VEVENT
DTSTART;TZID=America/Chicago:20230528T130000
DTEND;TZID=America/Chicago:20230528T210000
DTSTAMP:20260423T193633
CREATED:20230424T223419Z
LAST-MODIFIED:20230424T223419Z
UID:9363-1685278800-1685307600@abctrafficschool.net
SUMMARY:8 hour class: 1-9pm Live Streaming class via Zoom. You get email link 20 minutes before class CDT
DESCRIPTION:
URL:https://abctrafficschool.net/event/8-hour-class-1-9pm-live-streaming-class-via-zoom-you-get-email-link-20-minutes-before-class-cdt-52/
END:VEVENT
BEGIN:VEVENT
DTSTART;TZID=America/Chicago:20230528T130000
DTEND;TZID=America/Chicago:20230528T170000
DTSTAMP:20260423T193633
CREATED:20230424T223234Z
LAST-MODIFIED:20230424T223234Z
UID:9359-1685278800-1685293200@abctrafficschool.net
SUMMARY:4 hour class: 1-5pm Live Streaming class via Zoom. You get email link 20 minutes before class CDT
DESCRIPTION:
URL:https://abctrafficschool.net/event/4-hour-class-1-5pm-live-streaming-class-via-zoom-you-get-email-link-20-minutes-before-class-cdt-154/
END:VEVENT
BEGIN:VEVENT
DTSTART;TZID=America/Chicago:20230523T170000
DTEND;TZID=America/Chicago:20230523T210000
DTSTAMP:20260423T193633
CREATED:20230301T231043Z
LAST-MODIFIED:20230301T231043Z
UID:9271-1684861200-1684875600@abctrafficschool.net
SUMMARY:4 hour class: 5-9pm Live Streaming class via Zoom. You get email link 20 minutes before class CDT
DESCRIPTION:
URL:https://abctrafficschool.net/event/4-hour-class-5-9pm-live-streaming-class-via-zoom-you-get-email-link-20-minutes-before-class-cdt-61/
END:VEVENT
BEGIN:VEVENT
DTSTART;TZID=America/Chicago:20230523T130000
DTEND;TZID=America/Chicago:20230523T170000
DTSTAMP:20260423T193633
CREATED:20230301T230957Z
LAST-MODIFIED:20230301T230957Z
UID:9269-1684846800-1684861200@abctrafficschool.net
SUMMARY:4 hour class: 1-5pm Live Streaming class via Zoom. You get email link 20 minutes before class CDT
DESCRIPTION:
URL:https://abctrafficschool.net/event/4-hour-class-1-5pm-live-streaming-class-via-zoom-you-get-email-link-20-minutes-before-class-cdt-148/
END:VEVENT
BEGIN:VEVENT
DTSTART;TZID=America/Chicago:20230523T090000
DTEND;TZID=America/Chicago:20230523T170000
DTSTAMP:20260423T193633
CREATED:20230301T231740Z
LAST-MODIFIED:20230301T231740Z
UID:9273-1684832400-1684861200@abctrafficschool.net
SUMMARY:8 hour class: 9am-5pm Live Streaming class via Zoom. You get email link 20 minutes before class CDT
DESCRIPTION:
URL:https://abctrafficschool.net/event/8-hour-class-9am-5pm-live-streaming-class-via-zoom-you-get-email-link-20-minutes-before-class-cdt-99/
END:VEVENT
BEGIN:VEVENT
DTSTART;TZID=America/Chicago:20230523T090000
DTEND;TZID=America/Chicago:20230523T130000
DTSTAMP:20260423T193633
CREATED:20230301T230914Z
LAST-MODIFIED:20230301T230914Z
UID:9267-1684832400-1684846800@abctrafficschool.net
SUMMARY:4 hour class: 9am-1pm Live Streaming class via Zoom. You get email link 20 minutes before class CDT
DESCRIPTION:
URL:https://abctrafficschool.net/event/4-hour-class-9am-1pm-live-streaming-class-via-zoom-you-get-email-link-20-minutes-before-class-cdt-104/
END:VEVENT
BEGIN:VEVENT
DTSTART;TZID=America/Chicago:20230521T170000
DTEND;TZID=America/Chicago:20230521T210000
DTSTAMP:20260423T193633
CREATED:20230203T183516Z
LAST-MODIFIED:20230203T183516Z
UID:9228-1684688400-1684702800@abctrafficschool.net
SUMMARY:4 hour class: Franklin Drury Hotel 5-9pm
DESCRIPTION:
URL:https://abctrafficschool.net/event/4-hour-class-franklin-drury-hotel-5-9pm-66/
END:VEVENT
BEGIN:VEVENT
DTSTART;TZID=America/Chicago:20230521T130000
DTEND;TZID=America/Chicago:20230521T210000
DTSTAMP:20260423T193633
CREATED:20230203T183608Z
LAST-MODIFIED:20230203T183608Z
UID:9230-1684674000-1684702800@abctrafficschool.net
SUMMARY:8 hour class: Franklin Drury Hotel 1-9pm
DESCRIPTION:
URL:https://abctrafficschool.net/event/8-hour-class-franklin-drury-hotel-1-9pm-68/
END:VEVENT
BEGIN:VEVENT
DTSTART;TZID=America/Chicago:20230521T130000
DTEND;TZID=America/Chicago:20230521T170000
DTSTAMP:20260423T193633
CREATED:20230203T183424Z
LAST-MODIFIED:20230203T183424Z
UID:9226-1684674000-1684688400@abctrafficschool.net
SUMMARY:4 hour class: Franklin Drury Hotel 1-5pm
DESCRIPTION:
URL:https://abctrafficschool.net/event/4-hour-class-franklin-drury-hotel-1-5pm-68/
END:VEVENT
BEGIN:VEVENT
DTSTART;TZID=America/Chicago:20230520T080000
DTEND;TZID=America/Chicago:20230520T160000
DTSTAMP:20260423T193633
CREATED:20230301T225459Z
LAST-MODIFIED:20230301T225459Z
UID:9239-1684569600-1684598400@abctrafficschool.net
SUMMARY:8 hour class: 8am-4pm Live Streaming class via Zoom. You get email link 20 minutes before class CDT
DESCRIPTION:
URL:https://abctrafficschool.net/event/8-hour-class-8am-4pm-live-streaming-class-via-zoom-you-get-email-link-20-minutes-before-class-cdt-20/
END:VEVENT
BEGIN:VEVENT
DTSTART;TZID=America/Chicago:20230520T080000
DTEND;TZID=America/Chicago:20230520T120000
DTSTAMP:20260423T193633
CREATED:20230301T225349Z
LAST-MODIFIED:20230301T225349Z
UID:9237-1684569600-1684584000@abctrafficschool.net
SUMMARY:4 hour class: 8am-12noon Live Streaming class via Zoom. You get email link 20 minutes before class CDT
DESCRIPTION:
URL:https://abctrafficschool.net/event/4-hour-class-8am-12noon-live-streaming-class-via-zoom-you-get-email-link-20-minutes-before-class-cdt-21/
END:VEVENT
BEGIN:VEVENT
DTSTART;TZID=America/Chicago:20230518T173000
DTEND;TZID=America/Chicago:20230518T213000
DTSTAMP:20260423T193633
CREATED:20230414T150819Z
LAST-MODIFIED:20230414T150819Z
UID:9289-1684431000-1684445400@abctrafficschool.net
SUMMARY:4 hour class: Franklin Drury Hotel 5:30-9:30pm
DESCRIPTION:
URL:https://abctrafficschool.net/event/4-hour-class-franklin-drury-hotel-530-930pm-53/
END:VEVENT
BEGIN:VEVENT
DTSTART;TZID=America/Chicago:20230518T140000
DTEND;TZID=America/Chicago:20230518T180000
DTSTAMP:20260423T193633
CREATED:20230414T150659Z
LAST-MODIFIED:20230414T150659Z
UID:9287-1684418400-1684432800@abctrafficschool.net
SUMMARY:4 hour class: Franklin Drury Hotel 2-6pm
DESCRIPTION:
URL:https://abctrafficschool.net/event/4-hour-class-franklin-drury-hotel-2-6pm-54/
END:VEVENT
BEGIN:VEVENT
DTSTART;TZID=America/Chicago:20230518T100000
DTEND;TZID=America/Chicago:20230518T180000
DTSTAMP:20260423T193633
CREATED:20230414T150913Z
LAST-MODIFIED:20230414T150913Z
UID:9291-1684404000-1684432800@abctrafficschool.net
SUMMARY:8 hour class: Franklin Drury Hotel 10am-6pm
DESCRIPTION:
URL:https://abctrafficschool.net/event/8-hour-class-franklin-drury-hotel-10am-6pm-8/
END:VEVENT
BEGIN:VEVENT
DTSTART;TZID=America/Chicago:20230518T100000
DTEND;TZID=America/Chicago:20230518T140000
DTSTAMP:20260423T193633
CREATED:20230414T150616Z
LAST-MODIFIED:20230414T150616Z
UID:9285-1684404000-1684418400@abctrafficschool.net
SUMMARY:4 hour class: Franklin Drury Hotel 10am-2pm
DESCRIPTION:
URL:https://abctrafficschool.net/event/4-hour-class-franklin-drury-hotel-10am-2pm-7/
END:VEVENT
BEGIN:VEVENT
DTSTART;TZID=America/Chicago:20230516T130000
DTEND;TZID=America/Chicago:20230516T170000
DTSTAMP:20260423T193633
CREATED:20230301T230734Z
LAST-MODIFIED:20230301T230734Z
UID:9263-1684242000-1684256400@abctrafficschool.net
SUMMARY:4 hour class: 1-5pm Live Streaming class via Zoom. You get email link 20 minutes before class CDT
DESCRIPTION:
URL:https://abctrafficschool.net/event/4-hour-class-1-5pm-live-streaming-class-via-zoom-you-get-email-link-20-minutes-before-class-cdt-147/
END:VEVENT
BEGIN:VEVENT
DTSTART;TZID=America/Chicago:20230516T090000
DTEND;TZID=America/Chicago:20230516T170000
DTSTAMP:20260423T193633
CREATED:20230301T230825Z
LAST-MODIFIED:20230301T230825Z
UID:9265-1684227600-1684256400@abctrafficschool.net
SUMMARY:8 hour class: 9am-5pm Live Streaming class via Zoom. You get email link 20 minutes before class CDT
DESCRIPTION:
URL:https://abctrafficschool.net/event/8-hour-class-9am-5pm-live-streaming-class-via-zoom-you-get-email-link-20-minutes-before-class-cdt-98/
END:VEVENT
BEGIN:VEVENT
DTSTART;TZID=America/Chicago:20230516T090000
DTEND;TZID=America/Chicago:20230516T130000
DTSTAMP:20260423T193633
CREATED:20230301T230647Z
LAST-MODIFIED:20230301T230647Z
UID:9261-1684227600-1684242000@abctrafficschool.net
SUMMARY:4 hour class: 9am-1pm Live Streaming class via Zoom. You get email link 20 minutes before class CDT
DESCRIPTION:
URL:https://abctrafficschool.net/event/4-hour-class-9am-1pm-live-streaming-class-via-zoom-you-get-email-link-20-minutes-before-class-cdt-103/
END:VEVENT
BEGIN:VEVENT
DTSTART;TZID=America/Chicago:20230513T080000
DTEND;TZID=America/Chicago:20230513T160000
DTSTAMP:20260423T193633
CREATED:20230301T225159Z
LAST-MODIFIED:20230301T225159Z
UID:9235-1683964800-1683993600@abctrafficschool.net
SUMMARY:8 hour class: 8am-4pm Live Streaming class via Zoom. You get email link 20 minutes before class CDT
DESCRIPTION:
URL:https://abctrafficschool.net/event/8-hour-class-8am-4pm-live-streaming-class-via-zoom-you-get-email-link-20-minutes-before-class-cdt-19/
END:VEVENT
BEGIN:VEVENT
DTSTART;TZID=America/Chicago:20230513T080000
DTEND;TZID=America/Chicago:20230513T120000
DTSTAMP:20260423T193633
CREATED:20230301T225100Z
LAST-MODIFIED:20230301T225100Z
UID:9233-1683964800-1683979200@abctrafficschool.net
SUMMARY:4 hour class: 8am-12noon Live Streaming class via Zoom. You get email link 20 minutes before class CDT
DESCRIPTION:
URL:https://abctrafficschool.net/event/4-hour-class-8am-12noon-live-streaming-class-via-zoom-you-get-email-link-20-minutes-before-class-cdt-20/
END:VEVENT
END:VCALENDAR