BEGIN:VCALENDAR
VERSION:2.0
PRODID:-//ABC Traffic School - ECPv6.15.16//NONSGML v1.0//EN
CALSCALE:GREGORIAN
METHOD:PUBLISH
X-WR-CALNAME:ABC Traffic School
X-ORIGINAL-URL:https://abctrafficschool.net
X-WR-CALDESC:Events for ABC Traffic School
REFRESH-INTERVAL;VALUE=DURATION:PT1H
X-Robots-Tag:noindex
X-PUBLISHED-TTL:PT1H
BEGIN:VTIMEZONE
TZID:America/Chicago
BEGIN:DAYLIGHT
TZOFFSETFROM:-0600
TZOFFSETTO:-0500
TZNAME:CDT
DTSTART:20220313T080000
END:DAYLIGHT
BEGIN:STANDARD
TZOFFSETFROM:-0500
TZOFFSETTO:-0600
TZNAME:CST
DTSTART:20221106T070000
END:STANDARD
BEGIN:DAYLIGHT
TZOFFSETFROM:-0600
TZOFFSETTO:-0500
TZNAME:CDT
DTSTART:20230312T080000
END:DAYLIGHT
BEGIN:STANDARD
TZOFFSETFROM:-0500
TZOFFSETTO:-0600
TZNAME:CST
DTSTART:20231105T070000
END:STANDARD
BEGIN:DAYLIGHT
TZOFFSETFROM:-0600
TZOFFSETTO:-0500
TZNAME:CDT
DTSTART:20240310T080000
END:DAYLIGHT
BEGIN:STANDARD
TZOFFSETFROM:-0500
TZOFFSETTO:-0600
TZNAME:CST
DTSTART:20241103T070000
END:STANDARD
END:VTIMEZONE
BEGIN:VEVENT
DTSTART;TZID=America/Chicago:20230503T090000
DTEND;TZID=America/Chicago:20230503T170000
DTSTAMP:20260424T014013
CREATED:20230301T230228Z
LAST-MODIFIED:20230301T230228Z
UID:9251-1683104400-1683133200@abctrafficschool.net
SUMMARY:8 hour class: 9am-5pm Live Streaming class via Zoom. You get email link 20 minutes before class CDT
DESCRIPTION:
URL:https://abctrafficschool.net/event/8-hour-class-9am-5pm-live-streaming-class-via-zoom-you-get-email-link-20-minutes-before-class-cdt-96/
END:VEVENT
BEGIN:VEVENT
DTSTART;TZID=America/Chicago:20230503T090000
DTEND;TZID=America/Chicago:20230503T130000
DTSTAMP:20260424T014013
CREATED:20230301T230047Z
LAST-MODIFIED:20230301T230047Z
UID:9247-1683104400-1683118800@abctrafficschool.net
SUMMARY:4 hour class: 9am-1pm Live Streaming class via Zoom. You get email link 20 minutes before class CDT
DESCRIPTION:
URL:https://abctrafficschool.net/event/4-hour-class-9am-1pm-live-streaming-class-via-zoom-you-get-email-link-20-minutes-before-class-cdt-101/
END:VEVENT
BEGIN:VEVENT
DTSTART;TZID=America/Chicago:20230430T170000
DTEND;TZID=America/Chicago:20230430T210000
DTSTAMP:20260424T014013
CREATED:20230203T183302Z
LAST-MODIFIED:20230203T183302Z
UID:9222-1682874000-1682888400@abctrafficschool.net
SUMMARY:4 hour class: Franklin Drury Hotel 5-9pm
DESCRIPTION:
URL:https://abctrafficschool.net/event/4-hour-class-franklin-drury-hotel-5-9pm-65/
END:VEVENT
BEGIN:VEVENT
DTSTART;TZID=America/Chicago:20230430T130000
DTEND;TZID=America/Chicago:20230430T210000
DTSTAMP:20260424T014013
CREATED:20230203T183349Z
LAST-MODIFIED:20230203T183349Z
UID:9224-1682859600-1682888400@abctrafficschool.net
SUMMARY:8 hour class: Franklin Drury Hotel 1-9pm
DESCRIPTION:
URL:https://abctrafficschool.net/event/8-hour-class-franklin-drury-hotel-1-9pm-67/
END:VEVENT
BEGIN:VEVENT
DTSTART;TZID=America/Chicago:20230430T130000
DTEND;TZID=America/Chicago:20230430T170000
DTSTAMP:20260424T014013
CREATED:20230203T183218Z
LAST-MODIFIED:20230203T183218Z
UID:9220-1682859600-1682874000@abctrafficschool.net
SUMMARY:4 hour class: Franklin Drury Hotel 1-5pm
DESCRIPTION:
URL:https://abctrafficschool.net/event/4-hour-class-franklin-drury-hotel-1-5pm-67/
END:VEVENT
BEGIN:VEVENT
DTSTART;TZID=America/Chicago:20230429T080000
DTEND;TZID=America/Chicago:20230429T160000
DTSTAMP:20260424T014013
CREATED:20230203T181730Z
LAST-MODIFIED:20230203T181730Z
UID:9192-1682755200-1682784000@abctrafficschool.net
SUMMARY:8 hour class: 8am-4pm Live Streaming class via Zoom. You get email link 20 minutes before class CDT
DESCRIPTION:
URL:https://abctrafficschool.net/event/8-hour-class-8am-4pm-live-streaming-class-via-zoom-you-get-email-link-20-minutes-before-class-cdt-18/
END:VEVENT
BEGIN:VEVENT
DTSTART;TZID=America/Chicago:20230429T080000
DTEND;TZID=America/Chicago:20230429T120000
DTSTAMP:20260424T014013
CREATED:20230203T181636Z
LAST-MODIFIED:20230203T181636Z
UID:9190-1682755200-1682769600@abctrafficschool.net
SUMMARY:4 hour class: 8am-12noon Live Streaming class via Zoom. You get email link 20 minutes before class CDT
DESCRIPTION:
URL:https://abctrafficschool.net/event/4-hour-class-8am-12noon-live-streaming-class-via-zoom-you-get-email-link-20-minutes-before-class-cdt-19/
END:VEVENT
BEGIN:VEVENT
DTSTART;TZID=America/Chicago:20230425T170000
DTEND;TZID=America/Chicago:20230425T210000
DTSTAMP:20260424T014013
CREATED:20230203T175828Z
LAST-MODIFIED:20230203T175828Z
UID:9164-1682442000-1682456400@abctrafficschool.net
SUMMARY:4 hour class: 5-9pm Live Streaming class via Zoom. You get email link 20 minutes before class CDT
DESCRIPTION:
URL:https://abctrafficschool.net/event/4-hour-class-5-9pm-live-streaming-class-via-zoom-you-get-email-link-20-minutes-before-class-cdt-56/
END:VEVENT
BEGIN:VEVENT
DTSTART;TZID=America/Chicago:20230425T130000
DTEND;TZID=America/Chicago:20230425T170000
DTSTAMP:20260424T014013
CREATED:20230203T175736Z
LAST-MODIFIED:20230203T175736Z
UID:9162-1682427600-1682442000@abctrafficschool.net
SUMMARY:4 hour class: 1-5pm Live Streaming class via Zoom. You get email link 20 minutes before class CDT
DESCRIPTION:
URL:https://abctrafficschool.net/event/4-hour-class-1-5pm-live-streaming-class-via-zoom-you-get-email-link-20-minutes-before-class-cdt-139/
END:VEVENT
BEGIN:VEVENT
DTSTART;TZID=America/Chicago:20230425T090000
DTEND;TZID=America/Chicago:20230425T170000
DTSTAMP:20260424T014013
CREATED:20230203T175909Z
LAST-MODIFIED:20230203T175909Z
UID:9166-1682413200-1682442000@abctrafficschool.net
SUMMARY:8 hour class: 9am-5pm Live Streaming class via Zoom. You get email link 20 minutes before class CDT
DESCRIPTION:
URL:https://abctrafficschool.net/event/8-hour-class-9am-5pm-live-streaming-class-via-zoom-you-get-email-link-20-minutes-before-class-cdt-93/
END:VEVENT
BEGIN:VEVENT
DTSTART;TZID=America/Chicago:20230425T090000
DTEND;TZID=America/Chicago:20230425T130000
DTSTAMP:20260424T014013
CREATED:20230203T175655Z
LAST-MODIFIED:20230203T175655Z
UID:9160-1682413200-1682427600@abctrafficschool.net
SUMMARY:4 hour class: 9am-1pm Live Streaming class via Zoom. You get email link 20 minutes before class CDT
DESCRIPTION:
URL:https://abctrafficschool.net/event/4-hour-class-9am-1pm-live-streaming-class-via-zoom-you-get-email-link-20-minutes-before-class-cdt-98/
END:VEVENT
BEGIN:VEVENT
DTSTART;TZID=America/Chicago:20230423T170000
DTEND;TZID=America/Chicago:20230423T210000
DTSTAMP:20260424T014013
CREATED:20230203T182217Z
LAST-MODIFIED:20230203T182217Z
UID:9202-1682269200-1682283600@abctrafficschool.net
SUMMARY:4 hour class: 5-9pm Live Streaming class via Zoom. You get email link 20 minutes before class CDT
DESCRIPTION:
URL:https://abctrafficschool.net/event/4-hour-class-5-9pm-live-streaming-class-via-zoom-you-get-email-link-20-minutes-before-class-cdt-58/
END:VEVENT
BEGIN:VEVENT
DTSTART;TZID=America/Chicago:20230423T130000
DTEND;TZID=America/Chicago:20230423T210000
DTSTAMP:20260424T014013
CREATED:20230203T182301Z
LAST-MODIFIED:20230203T182301Z
UID:9204-1682254800-1682283600@abctrafficschool.net
SUMMARY:8 hour class: 1-9pm Live Streaming class via Zoom. You get email link 20 minutes before class CDT
DESCRIPTION:
URL:https://abctrafficschool.net/event/8-hour-class-1-9pm-live-streaming-class-via-zoom-you-get-email-link-20-minutes-before-class-cdt-49/
END:VEVENT
BEGIN:VEVENT
DTSTART;TZID=America/Chicago:20230423T130000
DTEND;TZID=America/Chicago:20230423T170000
DTSTAMP:20260424T014013
CREATED:20230203T182135Z
LAST-MODIFIED:20230203T182135Z
UID:9200-1682254800-1682269200@abctrafficschool.net
SUMMARY:4 hour class: 1-5pm Live Streaming class via Zoom. You get email link 20 minutes before class CDT
DESCRIPTION:
URL:https://abctrafficschool.net/event/4-hour-class-1-5pm-live-streaming-class-via-zoom-you-get-email-link-20-minutes-before-class-cdt-143/
END:VEVENT
BEGIN:VEVENT
DTSTART;TZID=America/Chicago:20230422T080000
DTEND;TZID=America/Chicago:20230422T160000
DTSTAMP:20260424T014013
CREATED:20230203T182611Z
LAST-MODIFIED:20230203T182611Z
UID:9208-1682150400-1682179200@abctrafficschool.net
SUMMARY:8 hour class: Franklin Drury Hotel 8am-4pm
DESCRIPTION:
URL:https://abctrafficschool.net/event/8-hour-class-franklin-drury-hotel-8am-4pm-15/
END:VEVENT
BEGIN:VEVENT
DTSTART;TZID=America/Chicago:20230422T080000
DTEND;TZID=America/Chicago:20230422T120000
DTSTAMP:20260424T014013
CREATED:20230203T182512Z
LAST-MODIFIED:20230203T182512Z
UID:9206-1682150400-1682164800@abctrafficschool.net
SUMMARY:4 hour class: Franklin Drury Hotel 8am-12noon
DESCRIPTION:
URL:https://abctrafficschool.net/event/4-hour-class-franklin-drury-hotel-8am-12noon-13/
END:VEVENT
BEGIN:VEVENT
DTSTART;TZID=America/Chicago:20230419T130000
DTEND;TZID=America/Chicago:20230419T170000
DTSTAMP:20260424T014013
CREATED:20230203T175517Z
LAST-MODIFIED:20230203T175517Z
UID:9156-1681909200-1681923600@abctrafficschool.net
SUMMARY:4 hour class: 1-5pm Live Streaming class via Zoom. You get email link 20 minutes before class CDT
DESCRIPTION:
URL:https://abctrafficschool.net/event/4-hour-class-1-5pm-live-streaming-class-via-zoom-you-get-email-link-20-minutes-before-class-cdt-138/
END:VEVENT
BEGIN:VEVENT
DTSTART;TZID=America/Chicago:20230419T090000
DTEND;TZID=America/Chicago:20230419T170000
DTSTAMP:20260424T014013
CREATED:20230203T175605Z
LAST-MODIFIED:20230203T175605Z
UID:9158-1681894800-1681923600@abctrafficschool.net
SUMMARY:8 hour class: 9am-5pm Live Streaming class via Zoom. You get email link 20 minutes before class CDT
DESCRIPTION:
URL:https://abctrafficschool.net/event/8-hour-class-9am-5pm-live-streaming-class-via-zoom-you-get-email-link-20-minutes-before-class-cdt-92/
END:VEVENT
BEGIN:VEVENT
DTSTART;TZID=America/Chicago:20230419T090000
DTEND;TZID=America/Chicago:20230419T130000
DTSTAMP:20260424T014013
CREATED:20230203T175427Z
LAST-MODIFIED:20230203T175427Z
UID:9154-1681894800-1681909200@abctrafficschool.net
SUMMARY:4 hour class: 9am-1pm Live Streaming class via Zoom. You get email link 20 minutes before class CDT
DESCRIPTION:
URL:https://abctrafficschool.net/event/4-hour-class-9am-1pm-live-streaming-class-via-zoom-you-get-email-link-20-minutes-before-class-cdt-97/
END:VEVENT
BEGIN:VEVENT
DTSTART;TZID=America/Chicago:20230416T170000
DTEND;TZID=America/Chicago:20230416T210000
DTSTAMP:20260424T014013
CREATED:20230203T182003Z
LAST-MODIFIED:20230203T182003Z
UID:9196-1681664400-1681678800@abctrafficschool.net
SUMMARY:4 hour class: 5-9pm Live Streaming class via Zoom. You get email link 20 minutes before class CDT
DESCRIPTION:
URL:https://abctrafficschool.net/event/4-hour-class-5-9pm-live-streaming-class-via-zoom-you-get-email-link-20-minutes-before-class-cdt-51/
END:VEVENT
BEGIN:VEVENT
DTSTART;TZID=America/Chicago:20230416T130000
DTEND;TZID=America/Chicago:20230416T210000
DTSTAMP:20260424T014013
CREATED:20230203T182058Z
LAST-MODIFIED:20230203T182058Z
UID:9198-1681650000-1681678800@abctrafficschool.net
SUMMARY:8 hour class: 1-9pm Live Streaming class via Zoom. You get email link 20 minutes before class CDT
DESCRIPTION:
URL:https://abctrafficschool.net/event/8-hour-class-1-9pm-live-streaming-class-via-zoom-you-get-email-link-20-minutes-before-class-cdt-48/
END:VEVENT
BEGIN:VEVENT
DTSTART;TZID=America/Chicago:20230416T130000
DTEND;TZID=America/Chicago:20230416T170000
DTSTAMP:20260424T014013
CREATED:20230203T181907Z
LAST-MODIFIED:20230203T181907Z
UID:9194-1681650000-1681664400@abctrafficschool.net
SUMMARY:4 hour class: 1-5pm Live Streaming class via Zoom. You get email link 20 minutes before class CDT
DESCRIPTION:
URL:https://abctrafficschool.net/event/4-hour-class-1-5pm-live-streaming-class-via-zoom-you-get-email-link-20-minutes-before-class-cdt-142/
END:VEVENT
BEGIN:VEVENT
DTSTART;TZID=America/Chicago:20230411T170000
DTEND;TZID=America/Chicago:20230411T210000
DTSTAMP:20260424T014013
CREATED:20230203T180338Z
LAST-MODIFIED:20230203T180338Z
UID:9178-1681232400-1681246800@abctrafficschool.net
SUMMARY:4 hour class: 5-9pm Live Streaming class via Zoom. You get email link 20 minutes before class CDT
DESCRIPTION:
URL:https://abctrafficschool.net/event/4-hour-class-5-9pm-live-streaming-class-via-zoom-you-get-email-link-20-minutes-before-class-cdt-57/
END:VEVENT
BEGIN:VEVENT
DTSTART;TZID=America/Chicago:20230411T130000
DTEND;TZID=America/Chicago:20230411T170000
DTSTAMP:20260424T014013
CREATED:20230203T180251Z
LAST-MODIFIED:20230203T180251Z
UID:9176-1681218000-1681232400@abctrafficschool.net
SUMMARY:4 hour class: 1-5pm Live Streaming class via Zoom. You get email link 20 minutes before class CDT
DESCRIPTION:
URL:https://abctrafficschool.net/event/4-hour-class-1-5pm-live-streaming-class-via-zoom-you-get-email-link-20-minutes-before-class-cdt-141/
END:VEVENT
BEGIN:VEVENT
DTSTART;TZID=America/Chicago:20230411T090000
DTEND;TZID=America/Chicago:20230411T170000
DTSTAMP:20260424T014013
CREATED:20230203T180422Z
LAST-MODIFIED:20230203T180422Z
UID:9180-1681203600-1681232400@abctrafficschool.net
SUMMARY:8 hour class: 9am-5pm Live Streaming class via Zoom. You get email link 20 minutes before class CDT
DESCRIPTION:
URL:https://abctrafficschool.net/event/8-hour-class-9am-5pm-live-streaming-class-via-zoom-you-get-email-link-20-minutes-before-class-cdt-95/
END:VEVENT
BEGIN:VEVENT
DTSTART;TZID=America/Chicago:20230411T090000
DTEND;TZID=America/Chicago:20230411T130000
DTSTAMP:20260424T014013
CREATED:20230203T180210Z
LAST-MODIFIED:20230203T180210Z
UID:9174-1681203600-1681218000@abctrafficschool.net
SUMMARY:4 hour class: 9am-1pm Live Streaming class via Zoom. You get email link 20 minutes before class CDT
DESCRIPTION:
URL:https://abctrafficschool.net/event/4-hour-class-9am-1pm-live-streaming-class-via-zoom-you-get-email-link-20-minutes-before-class-cdt-100/
END:VEVENT
BEGIN:VEVENT
DTSTART;TZID=America/Chicago:20230408T080000
DTEND;TZID=America/Chicago:20230408T160000
DTSTAMP:20260424T014013
CREATED:20230203T181555Z
LAST-MODIFIED:20230203T181555Z
UID:9188-1680940800-1680969600@abctrafficschool.net
SUMMARY:8 hour class: 8am-4pm Live Streaming class via Zoom. You get email link 20 minutes before class CDT
DESCRIPTION:
URL:https://abctrafficschool.net/event/8-hour-class-8am-4pm-live-streaming-class-via-zoom-you-get-email-link-20-minutes-before-class-cdt-17/
END:VEVENT
BEGIN:VEVENT
DTSTART;TZID=America/Chicago:20230408T080000
DTEND;TZID=America/Chicago:20230408T120000
DTSTAMP:20260424T014013
CREATED:20230203T181508Z
LAST-MODIFIED:20230203T181508Z
UID:9186-1680940800-1680955200@abctrafficschool.net
SUMMARY:4 hour class: 8am-12noon Live Streaming class via Zoom. You get email link 20 minutes before class CDT
DESCRIPTION:
URL:https://abctrafficschool.net/event/4-hour-class-8am-12noon-live-streaming-class-via-zoom-you-get-email-link-20-minutes-before-class-cdt-18/
END:VEVENT
BEGIN:VEVENT
DTSTART;TZID=America/Chicago:20230405T130000
DTEND;TZID=America/Chicago:20230405T170000
DTSTAMP:20260424T014013
CREATED:20230203T180056Z
LAST-MODIFIED:20230403T133958Z
UID:9170-1680699600-1680714000@abctrafficschool.net
SUMMARY:4 hour class: 1-5pm Live Streaming class via Zoom. You get email link 20 minutes before class CDT
DESCRIPTION:CoinPal
URL:https://abctrafficschool.net/event/4-hour-class-1-5pm-live-streaming-class-via-zoom-you-get-email-link-20-minutes-before-class-cdt-140/
END:VEVENT
BEGIN:VEVENT
DTSTART;TZID=America/Chicago:20230405T090000
DTEND;TZID=America/Chicago:20230405T170000
DTSTAMP:20260424T014013
CREATED:20230203T180134Z
LAST-MODIFIED:20230203T180134Z
UID:9172-1680685200-1680714000@abctrafficschool.net
SUMMARY:8 hour class: 9am-5pm Live Streaming class via Zoom. You get email link 20 minutes before class CDT
DESCRIPTION:
URL:https://abctrafficschool.net/event/8-hour-class-9am-5pm-live-streaming-class-via-zoom-you-get-email-link-20-minutes-before-class-cdt-94/
END:VEVENT
END:VCALENDAR